autodie v2.29 Perl 5 v5.16.2 x86_64-linux

Status
Pass
From
Nigel Horne
Dist
autodie v2.29
Platform
Perl 5 v5.16.2 x86_64-linux
Date
2018-12-10 23:18:04
ID
d89ed75c-fcd1-11e8-afbf-aec3b07506ca
This distribution has been tested as part of the CPAN Testers
project, supporting the Perl programming language.  See
http://wiki.cpantesters.org/ for more information or email
questions to cpan-testers-discuss@perl.org


--
Dear Paul Jamieson Fenwick,

This is a computer-generated report for autodie-2.29
on perl 5.16.2, created by CPAN-Reporter-1.2018.

Thank you for uploading your work to CPAN.  Congratulations!
All tests were successful.

Sections of this report:

    * Tester comments
    * Program output
    * Prerequisites
    * Environment and other context

------------------------------
TESTER COMMENTS
------------------------------

Additional comments from tester:

this report is from an automated smoke testing program
and was not reviewed by a human for accuracy

------------------------------
PROGRAM OUTPUT
------------------------------

Output from '/usr/bin/make test':

PERL_DL_NONLAZY=1 "/home/njh/perl5/perlbrew/perls/perl-5.16.2/bin/perl" "-MExtUtils::Command::MM" "-MTest::Harness" "-e" "undef *Test::Harness::Switches; test_harness(0, 'blib/lib', 'blib/arch')" t/*.t
t/00-load.t ...................... ok
t/args.t ......................... ok
t/author-critic.t ................ skipped: these tests are for testing by the author
t/backcompat.t ................... ok
t/autodie.t ...................... ok
t/basic_exceptions.t ............. ok
t/binmode.t ...................... ok
t/blog_hints.t ................... ok
t/caller.t ....................... ok
t/chmod.t ........................ ok
t/chown.t ........................ ok
t/context.t ...................... ok
t/context_lexical.t .............. ok
t/core-trampoline-slurp.t ........ ok
t/crickey.t ...................... ok
t/critic.t ....................... skipped: Author test.  Set $ENV{AUTHOR_TESTING} to true to run.
t/eval_error.t ................... ok
t/dbmopen.t ...................... ok
t/exception_class.t .............. ok
t/exceptions.t ................... ok
t/exec.t ......................... ok
t/Fatal.t ........................ ok
t/filehandles.t .................. ok
t/fileno.t ....................... ok
t/flock.t ........................ ok
t/fork.t ......................... ok
t/format-clobber.t ............... ok
# Sub::Identify is not loaded
t/hints.t ........................ ok
t/hints_insist.t ................. ok
t/hints_provider_does.t .......... ok
t/hints_pod_examples.t ........... ok
t/hints_provider_easy_does_it.t .. ok
t/hints_provider_isa.t ........... ok
t/import-into.t .................. skipped: Test needs Import::Into >= 1.002004
t/internal-backcompat.t .......... ok
t/internal.t ..................... ok
t/kill.t ......................... ok
t/kwalitee.t ..................... skipped: Author test.  Set $ENV{RELEASE_TESTING} to true to run.
t/lethal.t ....................... ok
t/lex58.t ........................ skipped: IPC::System::Simple required
t/no_carp.t ...................... ok
t/mkdir.t ........................ ok
t/pod-coverage.t ................. skipped: Author test.  Set $ENV{AUTHOR_TESTING} to true to run.
t/open.t ......................... ok
t/pod.t .......................... skipped: Author test.  Set $ENV{AUTHOR_TESTING} to true to run.
t/read.t ......................... ok
t/recv.t ......................... ok
t/release-pod-coverage.t ......... skipped: these tests are for release candidate testing
t/release-pod-syntax.t ........... skipped: these tests are for release candidate testing
t/repeat.t ....................... ok
t/rt-74246.t ..................... ok
t/scope_leak.t ................... ok
t/skip.t ......................... ok
t/socket.t ....................... skipped: Author test.  Set $ENV{AUTHOR_TESTING} to true to run.
t/string-eval-basic.t ............ ok
t/string-eval-leak.t ............. ok
t/sysopen.t ...................... ok
t/system.t ....................... skipped: IPC::System::Simple not installed
t/truncate.t ..................... ok
t/unlink.t ....................... ok
t/user-context.t ................. ok
t/usersub.t ...................... ok
t/utf8_open.t .................... ok
t/utime.t ........................ ok
t/version.t ...................... skipped: Release test.  Set $ENV{RELEASE_TESTING} to true to run.
t/version_tag.t .................. ok
All tests successful.
Files=66, Tests=498,  4 wallclock secs ( 0.24 usr  0.10 sys +  5.50 cusr  1.13 csys =  6.97 CPU)
Result: PASS

------------------------------
PREREQUISITES
------------------------------

Prerequisite modules loaded:

requires:

    Module              Need     Have    
    ------------------- -------- --------
    B                   0        1.35    
    Carp                0        1.26    
    constant            0        1.23    
    Exporter            5.57     5.66    
    Fcntl               0        1.11    
    overload            0        1.18    
    parent              0        0.225   
    perl                5.008004 5.016002
    POSIX               0        1.30    
    Scalar::Util        0        1.25    
    strict              0        1.07    
    Tie::RefHash        0        1.39    
    warnings            0        1.13    

build_requires:

    Module              Need     Have    
    ------------------- -------- --------
    ExtUtils::MakeMaker 0        7.34    
    File::Copy          0        2.23    
    File::Spec          0        3.39_02 
    File::Temp          0        0.22    
    FindBin             0        1.51    
    if                  0        0.0602  
    IO::Handle          0        1.33    
    lib                 0        0.63    
    Socket              0        2.001   
    Test::More          0        1.302140

configure_requires:

    Module              Need     Have    
    ------------------- -------- --------
    ExtUtils::MakeMaker 0        7.34    


------------------------------
ENVIRONMENT AND OTHER CONTEXT
------------------------------

Environment variables:

    AUTOMATED_TESTING = 1
    HARNESS_OPTIONS = j2
    LANG = en_US.UTF-8
    PATH = /home/njh/perl5/perlbrew/bin:/home/njh/perl5/perlbrew/perls/perl-5.16.2/bin:/home/njh/src/njh/smoker/bin:/usr/bin:/bin
    PERL5LIB = /tmp/build/Devel-Confess-0.009004-1/blib/arch:/tmp/build/Devel-Confess-0.009004-1/blib/lib:/tmp/build/Data-UUID-1.221-1/blib/arch:/tmp/build/Data-UUID-1.221-1/blib/lib:/tmp/build/Data-Printer-0.40-1/blib/arch:/tmp/build/Data-Printer-0.40-1/blib/lib:/tmp/build/Sort-Naturally-1.03-1/blib/arch:/tmp/build/Sort-Naturally-1.03-1/blib/lib:/tmp/build/Package-Stash-0.37-2/blib/arch:/tmp/build/Package-Stash-0.37-2/blib/lib:/tmp/build/Package-Stash-XS-0.28-2/blib/arch:/tmp/build/Package-Stash-XS-0.28-2/blib/lib:/tmp/build/Module-Implementation-0.09-2/blib/arch:/tmp/build/Module-Implementation-0.09-2/blib/lib:/tmp/build/Test-Requires-0.10-3/blib/arch:/tmp/build/Test-Requires-0.10-3/blib/lib:/tmp/build/Dist-CheckConflicts-0.11-2/blib/arch:/tmp/build/Dist-CheckConflicts-0.11-2/blib/lib:/tmp/build/Module-Runtime-0.016-2/blib/arch:/tmp/build/Module-Runtime-0.016-2/blib/lib:/tmp/build/Clone-PP-1.07-1/blib/arch:/tmp/build/Clone-PP-1.07-1/blib/lib:/tmp/build/Config-General-2.63-1/blib/arch:/tmp/build/Config-General-2.63-1/blib/lib:/tmp/build/File-ShareDir-Install-0.13-2/blib/arch:/tmp/build/File-ShareDir-Install-0.13-2/blib/lib
    PERL5OPT = 
    PERL5_CPANPLUS_IS_RUNNING = 2600
    PERL5_CPAN_IS_RUNNING = 2600
    PERLBREW_HOME = /home/njh/.perlbrew
    PERLBREW_MANPATH = /home/njh/perl5/perlbrew/perls/perl-5.16.2/man
    PERLBREW_PATH = /home/njh/perl5/perlbrew/bin:/home/njh/perl5/perlbrew/perls/perl-5.16.2/bin
    PERLBREW_PERL = perl-5.16.2
    PERLBREW_ROOT = /home/njh/perl5/perlbrew
    PERLBREW_SHELLRC_VERSION = 0.83
    PERLBREW_VERSION = 0.83
    SHELL = /bin/sh
    TEMP = /tmp/user/1000
    TMPDIR = /tmp/user/1000/testwrapper.2586

Perl special variables (and OS-specific diagnostics, for MSWin32):

    $^X = /home/njh/perl5/perlbrew/perls/perl-5.16.2/bin/perl
    $UID/$EUID = 1000 / 1000
    $GID = 1000 4 24 25 29 30 44 46 103 108 115 123 996 1000
    $EGID = 1000 4 24 25 29 30 44 46 103 108 115 123 996 1000

Perl module toolchain versions installed:

    Module              Have    
    ------------------- --------
    CPAN                2.16    
    CPAN::Meta          2.143240
    Cwd                 3.39_02 
    ExtUtils::CBuilder  0.280206
    ExtUtils::Command   7.34    
    ExtUtils::Install   2.06    
    ExtUtils::MakeMaker 7.34    
    ExtUtils::Manifest  1.70    
    ExtUtils::ParseXS   3.16    
    File::Spec          3.39_02 
    JSON                2.97001 
    JSON::PP            2.27203 
    Module::Build       0.39_01 
    Module::Signature   n/a     
    Parse::CPAN::Meta   1.4414  
    Test::Harness       3.42    
    Test::More          1.302140
    YAML                1.27    
    YAML::Syck          1.31    
    version             0.99    


--

Summary of my perl5 (revision 5 version 16 subversion 2) configuration:
   
  Platform:
    osname=linux, osvers=4.16.0-2-amd64, archname=x86_64-linux
    uname='linux amelia 4.16.0-2-amd64 #1 smp debian 4.16.16-2 (2018-06-22) x86_64 gnulinux '
    config_args='-de -Dprefix=/home/njh/perl5/perlbrew/perls/perl-5.16.2 -Aeval:scriptdir=/home/njh/perl5/perlbrew/perls/perl-5.16.2/bin'
    hint=recommended, useposix=true, d_sigaction=define
    useithreads=undef, usemultiplicity=undef
    useperlio=define, d_sfio=undef, uselargefiles=define, usesocks=undef
    use64bitint=define, use64bitall=define, uselongdouble=undef
    usemymalloc=n, bincompat5005=undef
  Compiler:
    cc='cc', ccflags ='-fno-strict-aliasing -pipe -fstack-protector -I/usr/local/include -D_LARGEFILE_SOURCE -D_FILE_OFFSET_BITS=64',
    optimize='-O2',
    cppflags='-fno-strict-aliasing -pipe -fstack-protector -I/usr/local/include'
    ccversion='', gccversion='8.2.0', gccosandvers=''
    intsize=4, longsize=8, ptrsize=8, doublesize=8, byteorder=12345678
    d_longlong=define, longlongsize=8, d_longdbl=define, longdblsize=16
    ivtype='long', ivsize=8, nvtype='double', nvsize=8, Off_t='off_t', lseeksize=8
    alignbytes=8, prototype=define
  Linker and Libraries:
    ld='cc', ldflags =' -fstack-protector -L/usr/local/lib'
    libpth=/usr/local/lib /lib/x86_64-linux-gnu /lib/../lib /usr/lib/x86_64-linux-gnu /usr/lib/../lib /lib /usr/lib /lib64 /usr/lib64
    libs=-lnsl -lgdbm -ldb -ldl -lm -lcrypt -lutil -lc
    perllibs=-lnsl -ldl -lm -lcrypt -lutil -lc
    libc=libc-2.27.so, so=so, useshrplib=false, libperl=libperl.a
    gnulibc_version='2.27'
  Dynamic Linking:
    dlsrc=dl_dlopen.xs, dlext=so, d_dlsymun=undef, ccdlflags='-Wl,-E'
    cccdlflags='-fPIC', lddlflags='-shared -O2 -L/usr/local/lib -fstack-protector'


Characteristics of this binary (from libperl): 
  Compile-time options: HAS_TIMES PERLIO_LAYERS PERL_DONT_CREATE_GVSV
                        PERL_MALLOC_WRAP PERL_PRESERVE_IVUV USE_64_BIT_ALL
                        USE_64_BIT_INT USE_LARGE_FILES USE_LOCALE
                        USE_LOCALE_COLLATE USE_LOCALE_CTYPE
                        USE_LOCALE_NUMERIC USE_PERLIO USE_PERL_ATOF
  Locally applied patches:
	Devel::PatchPerl 1.48
  Built under linux
  Compiled at Oct  9 2018 01:52:52
  %ENV:
    PERL5LIB="/tmp/build/Devel-Confess-0.009004-1/blib/arch:/tmp/build/Devel-Confess-0.009004-1/blib/lib:/tmp/build/Data-UUID-1.221-1/blib/arch:/tmp/build/Data-UUID-1.221-1/blib/lib:/tmp/build/Data-Printer-0.40-1/blib/arch:/tmp/build/Data-Printer-0.40-1/blib/lib:/tmp/build/Sort-Naturally-1.03-1/blib/arch:/tmp/build/Sort-Naturally-1.03-1/blib/lib:/tmp/build/Package-Stash-0.37-2/blib/arch:/tmp/build/Package-Stash-0.37-2/blib/lib:/tmp/build/Package-Stash-XS-0.28-2/blib/arch:/tmp/build/Package-Stash-XS-0.28-2/blib/lib:/tmp/build/Module-Implementation-0.09-2/blib/arch:/tmp/build/Module-Implementation-0.09-2/blib/lib:/tmp/build/Test-Requires-0.10-3/blib/arch:/tmp/build/Test-Requires-0.10-3/blib/lib:/tmp/build/Dist-CheckConflicts-0.11-2/blib/arch:/tmp/build/Dist-CheckConflicts-0.11-2/blib/lib:/tmp/build/Module-Runtime-0.016-2/blib/arch:/tmp/build/Module-Runtime-0.016-2/blib/lib:/tmp/build/Clone-PP-1.07-1/blib/arch:/tmp/build/Clone-PP-1.07-1/blib/lib:/tmp/build/Config-General-2.63-1/blib/arch:/tmp/build/Config-General-2.63-1/blib/lib:/tmp/build/File-ShareDir-Install-0.13-2/blib/arch:/tmp/build/File-ShareDir-Install-0.13-2/blib/lib"
    PERL5OPT=""
    PERL5_CPANPLUS_IS_RUNNING="2600"
    PERL5_CPAN_IS_RUNNING="2600"
    PERLBREW_HOME="/home/njh/.perlbrew"
    PERLBREW_MANPATH="/home/njh/perl5/perlbrew/perls/perl-5.16.2/man"
    PERLBREW_PATH="/home/njh/perl5/perlbrew/bin:/home/njh/perl5/perlbrew/perls/perl-5.16.2/bin"
    PERLBREW_PERL="perl-5.16.2"
    PERLBREW_ROOT="/home/njh/perl5/perlbrew"
    PERLBREW_SHELLRC_VERSION="0.83"
    PERLBREW_VERSION="0.83"
  @INC:
    /tmp/build/Devel-Confess-0.009004-1/blib/arch
    /tmp/build/Devel-Confess-0.009004-1/blib/lib
    /tmp/build/Data-UUID-1.221-1/blib/arch
    /tmp/build/Data-UUID-1.221-1/blib/lib
    /tmp/build/Data-Printer-0.40-1/blib/arch
    /tmp/build/Data-Printer-0.40-1/blib/lib
    /tmp/build/Sort-Naturally-1.03-1/blib/arch
    /tmp/build/Sort-Naturally-1.03-1/blib/lib
    /tmp/build/Package-Stash-0.37-2/blib/arch
    /tmp/build/Package-Stash-0.37-2/blib/lib
    /tmp/build/Package-Stash-XS-0.28-2/blib/arch
    /tmp/build/Package-Stash-XS-0.28-2/blib/lib
    /tmp/build/Module-Implementation-0.09-2/blib/arch
    /tmp/build/Module-Implementation-0.09-2/blib/lib
    /tmp/build/Test-Requires-0.10-3/blib/arch
    /tmp/build/Test-Requires-0.10-3/blib/lib
    /tmp/build/Dist-CheckConflicts-0.11-2/blib/arch
    /tmp/build/Dist-CheckConflicts-0.11-2/blib/lib
    /tmp/build/Module-Runtime-0.016-2/blib/arch
    /tmp/build/Module-Runtime-0.016-2/blib/lib
    /tmp/build/Clone-PP-1.07-1/blib/arch
    /tmp/build/Clone-PP-1.07-1/blib/lib
    /tmp/build/Config-General-2.63-1/blib/arch
    /tmp/build/Config-General-2.63-1/blib/lib
    /tmp/build/File-ShareDir-Install-0.13-2/blib/arch
    /tmp/build/File-ShareDir-Install-0.13-2/blib/lib
    /home/njh/perl5/perlbrew/perls/perl-5.16.2/lib/site_perl/5.16.2/x86_64-linux
    /home/njh/perl5/perlbrew/perls/perl-5.16.2/lib/site_perl/5.16.2
    /home/njh/perl5/perlbrew/perls/perl-5.16.2/lib/5.16.2/x86_64-linux
    /home/njh/perl5/perlbrew/perls/perl-5.16.2/lib/5.16.2
    .