Pod-Elemental-Transformer-Splint v0.1202 Perl 5 v5.35.10 x86_64-linux
- Status
- Pass
- From
- Andreas J. König (ANDK)
- Dist
-
Pod-Elemental-Transformer-Splint v0.1202
- Platform
- Perl 5 v5.35.10 x86_64-linux
- Date
- 2022-02-23 16:22:51
- ID
- d8b734f8-94c4-11ec-a4a2-0afab21c6b3d
This distribution has been tested as part of the CPAN Testers
project, supporting the Perl programming language. See
http://wiki.cpantesters.org/ for more information or email
questions to cpan-testers-discuss@perl.org
--
Dear Erik Carlsson,
This is a computer-generated report for Pod-Elemental-Transformer-Splint-0.1202
on perl 5.35.10, created by CPAN-Reporter-1.2018.
Thank you for uploading your work to CPAN. Congratulations!
All tests were successful.
Sections of this report:
* Tester comments
* Program output
* Prerequisites
* Environment and other context
------------------------------
TESTER COMMENTS
------------------------------
Additional comments from tester:
this report is from an automated smoke testing program
and was not reviewed by a human for accuracy
------------------------------
PROGRAM OUTPUT
------------------------------
Output from '/usr/bin/make test':
PERL_DL_NONLAZY=1 "/tmp/basesmoker-reloperl-pNFM/bin/perl" "-MExtUtils::Command::MM" "-MTest::Harness" "-e" "undef *Test::Harness::Switches; test_harness(0, 'blib/lib', 'blib/arch')" t/*.t
t/00-compile.t ............... ok
#
# Versions for all modules listed in MYMETA.json (including optional ones):
#
# === Configure Requires ===
#
# Module Want Have
# ------------------- ---- ----
# ExtUtils::MakeMaker any 7.64
#
# === Build Requires ===
#
# Module Want Have
# ------------------- ---- ----
# ExtUtils::MakeMaker any 7.64
#
# === Test Requires ===
#
# Module Want Have
# --------------------------------- ---- --------
# ExtUtils::MakeMaker any 7.64
# File::Spec any 3.83
# IO::Handle any 1.48
# IPC::Open3 any 1.22
# Pod::Elemental any 0.103005
# Pod::Elemental::Transformer::Pod5 any 0.103005
# Test::Differences any 0.69
# Test::More 0.96 1.302188
# Test::Warnings any 0.031
#
# === Test Recommends ===
#
# Module Want Have
# ---------- -------- --------
# CPAN::Meta 2.120900 2.150010
#
# === Runtime Requires ===
#
# Module Want Have
# --------------------------- -------- --------
# List::MoreUtils 0.408 0.430
# List::Util 1.45 1.61
# List::UtilsBy any 0.11
# Module::Load 0.26 0.36
# Moose 2.00 2.2201
# Moose::Role 2.1400 2.2201
# Path::Tiny 0.072 0.122
# Pod::Elemental::Transformer 0.103004 0.103005
# Ref::Util 0.007 0.204
# Safe::Isa 1.000005 1.000010
# Syntax::Feature::Qs 0.2003 1.0000
# Try::Tiny 0.24 0.31
# Types::Standard 1.000006 1.012004
# namespace::autoclean 0.22 0.29
# syntax any 0.004
#
# === Runtime Recommends ===
#
# Module Want Have
# --------------------------- ------ ------
# MooseX::AttributeDocumented 0.1003 0.1004
#
# === Runtime Suggests ===
#
# Module Want Have
# --------------------------------- ------ -------
# Kavorka::TraitFor::Parameter::doc 0.1102 missing
#
t/00-report-prereqs.t ........ ok
t/01-basic.t ................. ok
t/02-attribute-documented.t .. ok
t/03-method-documented.t ..... skipped: These tests need Kavorka::TraitFor::Parameter::doc
All tests successful.
Files=5, Tests=9, 5 wallclock secs ( 0.03 usr 0.03 sys + 3.00 cusr 0.61 csys = 3.67 CPU)
Result: PASS
------------------------------
PREREQUISITES
------------------------------
Prerequisite modules loaded:
requires:
Module Need Have
--------------------------------- -------- --------
List::MoreUtils 0.408 0.430
List::Util 1.45 1.61
List::UtilsBy 0 0.11
Module::Load 0.26 0.36
Moose 2.00 2.2201
Moose::Role 2.1400 2.2201
namespace::autoclean 0.22 0.29
Path::Tiny 0.072 0.122
perl 5.010001 5.035010
Pod::Elemental::Transformer 0.103004 0.103005
Ref::Util 0.007 0.204
Safe::Isa 1.000005 1.000010
syntax 0 0.004
Syntax::Feature::Qs 0.2003 1.0000
Try::Tiny 0.24 0.31
Types::Standard 1.000006 1.012004
build_requires:
Module Need Have
--------------------------------- -------- --------
ExtUtils::MakeMaker 0 7.64
File::Spec 0 3.83
IO::Handle 0 1.48
IPC::Open3 0 1.22
Pod::Elemental 0 0.103005
Pod::Elemental::Transformer::Pod5 0 0.103005
Test::Differences 0 0.69
Test::More 0.96 1.302188
Test::Warnings 0 0.031
configure_requires:
Module Need Have
--------------------------------- -------- --------
ExtUtils::MakeMaker 0 7.64
opt_requires:
Module Need Have
--------------------------------- -------- --------
MooseX::AttributeDocumented 0.1003 0.1004
------------------------------
ENVIRONMENT AND OTHER CONTEXT
------------------------------
Environment variables:
AUTOMATED_TESTING = 1
LANG = en_US.UTF-8
PATH = /home/sand/bin:/usr/local/bin:/usr/bin:/bin:/usr/games:/usr/local/perl/bin:/usr/X11/bin:/sbin:/usr/sbin
PERL5LIB = /tmp/loop_over_bdir-1999631-8Q0m8I/Alien-ActiveMQ-0.00005-0/blib/arch:/tmp/loop_over_bdir-1999631-8Q0m8I/Alien-ActiveMQ-0.00005-0/blib/lib
PERL5OPT =
PERL5_CPANPLUS_IS_RUNNING = 1884855
PERL5_CPAN_IS_RUNNING = 1884855
PERL_CANARY_STABILITY_NOPROMPT = 1
PERL_MM_USE_DEFAULT = 1
PERL_USE_UNSAFE_INC = 1
SHELL = /usr/bin/zsh
TERM = screen
Perl special variables (and OS-specific diagnostics, for MSWin32):
$^X = /tmp/basesmoker-reloperl-pNFM/bin/perl
$UID/$EUID = 1005 / 1005
$GID = 1005 1005
$EGID = 1005 1005
Perl module toolchain versions installed:
Module Have
------------------- --------
CPAN 2.33
CPAN::Meta 2.150010
Cwd 3.83
ExtUtils::CBuilder 0.280236
ExtUtils::Command 7.64
ExtUtils::Install 2.20
ExtUtils::MakeMaker 7.64
ExtUtils::Manifest 1.73
ExtUtils::ParseXS 3.44
File::Spec 3.83
JSON 4.05
JSON::PP 4.07
Module::Build 0.4231
Module::Signature 0.88
Parse::CPAN::Meta 2.150010
Test::Harness 3.43
Test::More 1.302188
YAML 1.30
YAML::Syck 1.34
version 0.9929
--
Summary of my perl5 (revision 5 version 35 subversion 10) configuration:
Commit id: 765cd54646655d8fde15f0c1e8dd4f380c6a67cd
Platform:
osname=linux
osvers=5.15.0-2-amd64
archname=x86_64-linux
uname='linux k93msid 5.15.0-2-amd64 #1 smp debian 5.15.5-2 (2021-12-18) x86_64 gnulinux '
config_args='-Dprefix=/home/sand/src/perl/repoperls/installed-perls/host/k93msid/v5.35.9-8-g765cd54646/da1c -Dmyhostname=k93msid -Dinstallusrbinperl=n -Uversiononly -Dusedevel -des -Ui_db -Dlibswanted=cl pthread socket inet nsl gdbm dbm malloc dl ld sun m crypt sec util c cposix posix ucb BSD gdbm_compat -Uuseithreads -Uuselongdouble -DEBUGGING=-g'
hint=recommended
useposix=true
d_sigaction=define
useithreads=undef
usemultiplicity=undef
use64bitint=define
use64bitall=define
uselongdouble=undef
usemymalloc=n
default_inc_excludes_dot=define
Compiler:
cc='cc'
ccflags ='-fwrapv -fno-strict-aliasing -pipe -fstack-protector-strong -I/usr/local/include -D_LARGEFILE_SOURCE -D_FILE_OFFSET_BITS=64 -D_FORTIFY_SOURCE=2'
optimize='-O2 -g'
cppflags='-fwrapv -fno-strict-aliasing -pipe -fstack-protector-strong -I/usr/local/include'
ccversion=''
gccversion='11.2.0'
gccosandvers=''
intsize=4
longsize=8
ptrsize=8
doublesize=8
byteorder=12345678
doublekind=3
d_longlong=define
longlongsize=8
d_longdbl=define
longdblsize=16
longdblkind=3
ivtype='long'
ivsize=8
nvtype='double'
nvsize=8
Off_t='off_t'
lseeksize=8
alignbytes=8
prototype=define
Linker and Libraries:
ld='cc'
ldflags =' -fstack-protector-strong -L/usr/local/lib'
libpth=/usr/local/lib /usr/lib/x86_64-linux-gnu /usr/lib /lib/x86_64-linux-gnu /lib
libs=-lpthread -lnsl -ldl -lm -lcrypt -lutil -lc
perllibs=-lpthread -lnsl -ldl -lm -lcrypt -lutil -lc
libc=libc-2.33.so
so=so
useshrplib=false
libperl=libperl.a
gnulibc_version='2.33'
Dynamic Linking:
dlsrc=dl_dlopen.xs
dlext=so
d_dlsymun=undef
ccdlflags='-Wl,-E'
cccdlflags='-fPIC'
lddlflags='-shared -O2 -g -L/usr/local/lib -fstack-protector-strong'
Characteristics of this binary (from libperl):
Compile-time options:
HAS_TIMES
PERLIO_LAYERS
PERL_COPY_ON_WRITE
PERL_DONT_CREATE_GVSV
PERL_MALLOC_WRAP
PERL_OP_PARENT
PERL_PRESERVE_IVUV
PERL_USE_DEVEL
USE_64_BIT_ALL
USE_64_BIT_INT
USE_LARGE_FILES
USE_LOCALE
USE_LOCALE_COLLATE
USE_LOCALE_CTYPE
USE_LOCALE_NUMERIC
USE_LOCALE_TIME
USE_PERLIO
USE_PERL_ATOF
Built under linux
Compiled at Feb 21 2022 14:33:44
%ENV:
PERL5LIB="/tmp/loop_over_bdir-1999631-8Q0m8I/Alien-ActiveMQ-0.00005-0/blib/arch:/tmp/loop_over_bdir-1999631-8Q0m8I/Alien-ActiveMQ-0.00005-0/blib/lib"
PERL5OPT=""
PERL5_CPANPLUS_IS_RUNNING="1884855"
PERL5_CPAN_IS_RUNNING="1884855"
PERL_CANARY_STABILITY_NOPROMPT="1"
PERL_MM_USE_DEFAULT="1"
PERL_USE_UNSAFE_INC="1"
@INC:
/tmp/loop_over_bdir-1999631-8Q0m8I/Alien-ActiveMQ-0.00005-0/blib/arch
/tmp/loop_over_bdir-1999631-8Q0m8I/Alien-ActiveMQ-0.00005-0/blib/lib
/home/sand/src/perl/repoperls/installed-perls/host/k93msid/v5.35.9-8-g765cd54646/da1c/lib/site_perl/5.35.10/x86_64-linux
/home/sand/src/perl/repoperls/installed-perls/host/k93msid/v5.35.9-8-g765cd54646/da1c/lib/site_perl/5.35.10
/home/sand/src/perl/repoperls/installed-perls/host/k93msid/v5.35.9-8-g765cd54646/da1c/lib/5.35.10/x86_64-linux
/home/sand/src/perl/repoperls/installed-perls/host/k93msid/v5.35.9-8-g765cd54646/da1c/lib/5.35.10
.