Hash-Merge v0.200_003 Perl 5 v5.8.9 amd64-freebsd
- Status
- Pass
- From
- Slaven Rezić (SREZIC)
- Dist
-
Hash-Merge v0.200_003
- Platform
- Perl 5 v5.8.9 amd64-freebsd
- Date
- 2017-11-07 13:44:59
- ID
- d8c01ea2-c3c1-11e7-a6c2-839fbb83788e
This distribution has been tested as part of the CPAN Testers
project, supporting the Perl programming language. See
http://wiki.cpantesters.org/ for more information or email
questions to cpan-testers-discuss@perl.org
--
Dear Stefan Hermes,
This is a computer-generated report for Hash-Merge-0.200_003
on perl 5.8.9, created by CPAN-Reporter-1.2018.
Thank you for uploading your work to CPAN. Congratulations!
All tests were successful.
Sections of this report:
* Tester comments
* Program output
* Prerequisites
* Environment and other context
------------------------------
TESTER COMMENTS
------------------------------
Additional comments from tester:
none provided
------------------------------
PROGRAM OUTPUT
------------------------------
Output from '/usr/bin/make test':
PERL_DL_NONLAZY=1 "/usr/perl5.8.9/bin/perl" "-MExtUtils::Command::MM" "-MTest::Harness" "-e" "undef *Test::Harness::Switches; test_harness(0, 'blib/lib', 'blib/arch')" t/*.t xt/*.t t/Auto/*.t t/Clone/*.t t/Storable/*.t t/ClonePP/*.t
# Testing Hash::Merge version 0.200_003, Perl 5.008009, /usr/perl5.8.9/bin/perl
# Using backend Clone version 0.39
t/Auto/00-load.t ....... ok
t/Auto/01-merge.t ...... ok
t/Auto/02-oo.t ......... ok
# Testing Hash::Merge version 0.200_003, Perl 5.008009, /usr/perl5.8.9/bin/perl
# Using backend Clone version 0.39
t/Clone/00-load.t ...... ok
t/Clone/01-merge.t ..... ok
t/Clone/02-oo.t ........ ok
# Testing Hash::Merge version 0.200_003, Perl 5.008009, /usr/perl5.8.9/bin/perl
# Using backend Clone::PP version 1.07
t/ClonePP/00-load.t .... ok
t/ClonePP/01-merge.t ... ok
t/ClonePP/02-oo.t ...... ok
# Testing Hash::Merge version 0.200_003, Perl 5.008009, /usr/perl5.8.9/bin/perl
# Using backend Storable version 2.51
t/Storable/00-load.t ... ok
t/Storable/01-merge.t .. ok
t/Storable/02-oo.t ..... ok
All tests successful.
Files=12, Tests=380, 0 wallclock secs ( 0.01 usr 0.07 sys + 0.41 cusr 0.12 csys = 0.60 CPU)
Result: PASS
------------------------------
PREREQUISITES
------------------------------
Prerequisite modules loaded:
requires:
Module Need Have
------------------- -------- --------
Clone::Choose 0.008 0.008
perl 5.008001 5.008009
Scalar::Util 0 1.49
build_requires:
Module Need Have
------------------- -------- --------
Test::More 0.9 1.302106
configure_requires:
Module Need Have
------------------- -------- --------
ExtUtils::MakeMaker 0 7.24
------------------------------
ENVIRONMENT AND OTHER CONTEXT
------------------------------
Environment variables:
LC_ALL = de_DE.ISO8859-1
PATH = /usr/local/bin:/usr/bin:/bin:/usr/local/sbin:/usr/sbin:/sbin:/home/cpansand/bin/freebsd9.3:/home/cpansand/bin/sh:/home/cpansand/bin:/usr/games:/home/cpansand/devel:/usr/home/eserte/src/srezic-misc/scripts
PERL5LIB = /home/eserte/.cpan/build/2017110712/Clone-Choose-0.008-3/blib/arch:/home/eserte/.cpan/build/2017110712/Clone-Choose-0.008-3/blib/lib:/home/eserte/.cpan/build/2017110712/HollyGame-0-35/blib/arch:/home/eserte/.cpan/build/2017110712/HollyGame-0-35/blib/lib
PERL5OPT =
PERL5_CPANPLUS_IS_RUNNING = 39989
PERL5_CPAN_IS_RUNNING = 39989
PERL5_CPAN_IS_RUNNING_IN_RECURSION = 39937,39989
PERLDOC = -MPod::Perldoc::ToTextOverstrike
PERL_BATCH = yes
PERL_CANARY_STABILITY_NOPROMPT = 1
PERL_CPAN_REPORTER_CONFIG = /var/tmp/cpansmoker-1023/2017110712/cpanreporter_000_config.ini
PERL_EXTUTILS_AUTOINSTALL = --defaultdeps
SHELL = /usr/local/bin/zsh
TERM = screen
TMPDIR = /var/tmp/cpansmoker-1023/2017110712
Perl special variables (and OS-specific diagnostics, for MSWin32):
$^X = /usr/perl5.8.9/bin/perl
$UID/$EUID = 1023 / 1023
$GID = 1023 1023
$EGID = 1023 1023
Perl module toolchain versions installed:
Module Have
------------------- --------
CPAN 2.16
CPAN::Meta 2.150010
Cwd 3.62
ExtUtils::CBuilder 0.280226
ExtUtils::Command 7.24
ExtUtils::Install 2.12
ExtUtils::MakeMaker 7.24
ExtUtils::Manifest 1.70
ExtUtils::ParseXS 3.35
File::Spec 3.62
JSON 2.94
JSON::PP 2.94
Module::Build 0.4224
Module::Signature 0.81
Parse::CPAN::Meta 2.150010
Test::Harness 3.39
Test::More 1.302106
YAML 1.23
YAML::Syck 1.30
version 0.9918
--
Summary of my perl5 (revision 5 version 8 subversion 9) configuration:
Platform:
osname=freebsd, osvers=9.2-release-p4, archname=amd64-freebsd
uname='freebsd cvrsnica-freebsd-92 9.2-release-p4 freebsd 9.2-release-p4 #0: tue apr 8 18:08:22 utc 2014 root@amd64-builder.daemonology.net:usrobjusrsrcsysgeneric amd64 '
config_args='-ds -e -Dprefix=/usr/perl5.8.9'
hint=recommended, useposix=true, d_sigaction=define
usethreads=undef use5005threads=undef useithreads=undef usemultiplicity=undef
useperlio=define d_sfio=undef uselargefiles=define usesocks=undef
use64bitint=define use64bitall=define uselongdouble=undef
usemymalloc=n, bincompat5005=undef
Compiler:
cc='cc', ccflags ='-DHAS_FPSETMASK -DHAS_FLOATINGPOINT_H -fno-strict-aliasing -pipe -I/usr/local/include',
optimize='-O',
cppflags='-DHAS_FPSETMASK -DHAS_FLOATINGPOINT_H -fno-strict-aliasing -pipe -I/usr/local/include'
ccversion='', gccversion='4.2.1 20070831 patched [FreeBSD]', gccosandvers=''
intsize=4, longsize=8, ptrsize=8, doublesize=8, byteorder=12345678
d_longlong=define, longlongsize=8, d_longdbl=define, longdblsize=16
ivtype='long', ivsize=8, nvtype='double', nvsize=8, Off_t='off_t', lseeksize=8
alignbytes=8, prototype=define
Linker and Libraries:
ld='cc', ldflags ='-Wl,-E -L/usr/local/lib'
libpth=/usr/lib /usr/local/lib
libs=-lgdbm -lm -lcrypt -lutil -lc
perllibs=-lm -lcrypt -lutil -lc
libc=, so=so, useshrplib=false, libperl=libperl.a
gnulibc_version=''
Dynamic Linking:
dlsrc=dl_dlopen.xs, dlext=so, d_dlsymun=undef, ccdlflags=' '
cccdlflags='-DPIC -fPIC', lddlflags='-shared -L/usr/local/lib'
Characteristics of this binary (from libperl):
Compile-time options: PERL_MALLOC_WRAP USE_64_BIT_ALL USE_64_BIT_INT
USE_FAST_STDIO USE_LARGE_FILES USE_PERLIO
Built under freebsd
Compiled at May 15 2014 22:27:57
%ENV:
PERL5LIB="/home/eserte/.cpan/build/2017110712/Clone-Choose-0.008-3/blib/arch:/home/eserte/.cpan/build/2017110712/Clone-Choose-0.008-3/blib/lib:/home/eserte/.cpan/build/2017110712/HollyGame-0-35/blib/arch:/home/eserte/.cpan/build/2017110712/HollyGame-0-35/blib/lib"
PERL5OPT=""
PERL5_CPANPLUS_IS_RUNNING="39989"
PERL5_CPAN_IS_RUNNING="39989"
PERL5_CPAN_IS_RUNNING_IN_RECURSION="39937,39989"
PERLDOC="-MPod::Perldoc::ToTextOverstrike"
PERL_BATCH="yes"
PERL_CANARY_STABILITY_NOPROMPT="1"
PERL_CPAN_REPORTER_CONFIG="/var/tmp/cpansmoker-1023/2017110712/cpanreporter_000_config.ini"
PERL_EXTUTILS_AUTOINSTALL="--defaultdeps"
@INC:
/home/eserte/.cpan/build/2017110712/Clone-Choose-0.008-3/blib/arch
/home/eserte/.cpan/build/2017110712/Clone-Choose-0.008-3/blib/lib
/home/eserte/.cpan/build/2017110712/HollyGame-0-35/blib/arch
/home/eserte/.cpan/build/2017110712/HollyGame-0-35/blib/lib
/usr/perl5.8.9/lib/5.8.9/amd64-freebsd
/usr/perl5.8.9/lib/5.8.9
/usr/perl5.8.9/lib/site_perl/5.8.9/amd64-freebsd
/usr/perl5.8.9/lib/site_perl/5.8.9
.