MooseX-amine v0.7 Perl 5 v5.16.0 MSWin32-x86-multi-thread

Status
Pass
From
Alexandr Ciornii (CHORNY)
Dist
MooseX-amine v0.7
Platform
Perl 5 v5.16.0 MSWin32-x86-multi-thread
Date
2020-12-22 20:21:25
ID
d8c81790-6c04-1014-8881-fc6bc7c2bc5e
This distribution has been tested as part of the CPAN Testers
project, supporting the Perl programming language.  See
http://wiki.cpantesters.org/ for more information or email
questions to cpan-testers-discuss@perl.org


--
Dear John SJ Anderson,

This is a computer-generated report for MooseX-amine-0.7
on perl 5.16.0, created by CPAN-Reporter-1.2018.

Thank you for uploading your work to CPAN.  Congratulations!
All tests were successful.

Sections of this report:

    * Tester comments
    * Program output
    * Prerequisites
    * Environment and other context

------------------------------
TESTER COMMENTS
------------------------------

Additional comments from tester:

this report is from an automated smoke testing program
and was not reviewed by a human for accuracy

------------------------------
PROGRAM OUTPUT
------------------------------

Output from 'C:\strawberry160\c\bin\dmake.exe test':

Skip blib\lib\auto\share\dist\MooseX-amine\public\css\sh_acid.css (unchanged)
Skip blib\lib\auto\share\dist\MooseX-amine\public\css\sh_blacknblue.css (unchanged)
Skip blib\lib\auto\share\dist\MooseX-amine\public\css\sh_bright.min.css (unchanged)
Skip blib\lib\auto\share\dist\MooseX-amine\public\css\sh_berries-light.css (unchanged)
Skip blib\lib\auto\share\dist\MooseX-amine\public\css\sh_berries-dark.min.css (unchanged)
Skip blib\lib\auto\share\dist\MooseX-amine\public\css\sh_acid.min.css (unchanged)
Skip blib\lib\auto\share\dist\MooseX-amine\public\css\sh_berries-dark.css (unchanged)
Skip blib\lib\auto\share\dist\MooseX-amine\public\css\sh_bright.css (unchanged)
Skip blib\lib\auto\share\dist\MooseX-amine\public\css\sh_bipolar.min.css (unchanged)
Skip blib\lib\auto\share\dist\MooseX-amine\public\css\sh_berries-light.min.css (unchanged)
Skip blib\lib\auto\share\dist\MooseX-amine\public\css\sh_blacknblue.min.css (unchanged)
Skip blib\lib\auto\share\dist\MooseX-amine\public\css\sh_bipolar.css (unchanged)
Skip blib\lib\auto\share\dist\MooseX-amine\public\css\sh_darkness.css (unchanged)
Skip blib\lib\auto\share\dist\MooseX-amine\public\css\sh_contrast.min.css (unchanged)
Skip blib\lib\auto\share\dist\MooseX-amine\public\css\sh_contrast.css (unchanged)
Skip blib\lib\auto\share\dist\MooseX-amine\public\css\sh_dull.min.css (unchanged)
Skip blib\lib\auto\share\dist\MooseX-amine\public\css\sh_desert.min.css (unchanged)
Skip blib\lib\auto\share\dist\MooseX-amine\public\css\sh_darkblue.css (unchanged)
Skip blib\lib\auto\share\dist\MooseX-amine\public\css\sh_easter.css (unchanged)
Skip blib\lib\auto\share\dist\MooseX-amine\public\css\sh_desert.css (unchanged)
Skip blib\lib\auto\share\dist\MooseX-amine\public\css\sh_darkblue.min.css (unchanged)
Skip blib\lib\auto\share\dist\MooseX-amine\public\css\sh_easter.min.css (unchanged)
Skip blib\lib\auto\share\dist\MooseX-amine\public\css\sh_dull.css (unchanged)
Skip blib\lib\auto\share\dist\MooseX-amine\public\css\sh_darkness.min.css (unchanged)
Skip blib\lib\auto\share\dist\MooseX-amine\public\css\sh_ide-devcpp.css (unchanged)
Skip blib\lib\auto\share\dist\MooseX-amine\public\css\sh_ide-anjuta.css (unchanged)
Skip blib\lib\auto\share\dist\MooseX-amine\public\css\sh_ide-codewarrior.css (unchanged)
Skip blib\lib\auto\share\dist\MooseX-amine\public\css\sh_greenlcd.min.css (unchanged)
Skip blib\lib\auto\share\dist\MooseX-amine\public\css\sh_ide-devcpp.min.css (unchanged)
Skip blib\lib\auto\share\dist\MooseX-amine\public\css\sh_greenlcd.css (unchanged)
Skip blib\lib\auto\share\dist\MooseX-amine\public\css\sh_ide-anjuta.min.css (unchanged)
Skip blib\lib\auto\share\dist\MooseX-amine\public\css\sh_emacs.min.css (unchanged)
Skip blib\lib\auto\share\dist\MooseX-amine\public\css\sh_golden.min.css (unchanged)
Skip blib\lib\auto\share\dist\MooseX-amine\public\css\sh_golden.css (unchanged)
Skip blib\lib\auto\share\dist\MooseX-amine\public\css\sh_ide-codewarrior.min.css (unchanged)
Skip blib\lib\auto\share\dist\MooseX-amine\public\css\sh_emacs.css (unchanged)
Skip blib\lib\auto\share\dist\MooseX-amine\public\css\sh_kwrite.css (unchanged)
Skip blib\lib\auto\share\dist\MooseX-amine\public\css\sh_navy.min.css (unchanged)
Skip blib\lib\auto\share\dist\MooseX-amine\public\css\sh_ide-kdev.min.css (unchanged)
Skip blib\lib\auto\share\dist\MooseX-amine\public\css\sh_ide-msvcpp.min.css (unchanged)
Skip blib\lib\auto\share\dist\MooseX-amine\public\css\sh_matlab.min.css (unchanged)
Skip blib\lib\auto\share\dist\MooseX-amine\public\css\sh_navy.css (unchanged)
Skip blib\lib\auto\share\dist\MooseX-amine\public\css\sh_ide-kdev.css (unchanged)
Skip blib\lib\auto\share\dist\MooseX-amine\public\css\sh_ide-eclipse.min.css (unchanged)
Skip blib\lib\auto\share\dist\MooseX-amine\public\css\sh_kwrite.min.css (unchanged)
Skip blib\lib\auto\share\dist\MooseX-amine\public\css\sh_ide-eclipse.css (unchanged)
Skip blib\lib\auto\share\dist\MooseX-amine\public\css\sh_ide-msvcpp.css (unchanged)
Skip blib\lib\auto\share\dist\MooseX-amine\public\css\sh_matlab.css (unchanged)
Skip blib\lib\auto\share\dist\MooseX-amine\public\css\sh_pablo.min.css (unchanged)
Skip blib\lib\auto\share\dist\MooseX-amine\public\css\sh_peachpuff.min.css (unchanged)
Skip blib\lib\auto\share\dist\MooseX-amine\public\css\sh_nedit.css (unchanged)
Skip blib\lib\auto\share\dist\MooseX-amine\public\css\sh_neon.css (unchanged)
Skip blib\lib\auto\share\dist\MooseX-amine\public\css\sh_rand01.css (unchanged)
Skip blib\lib\auto\share\dist\MooseX-amine\public\css\sh_print.min.css (unchanged)
Skip blib\lib\auto\share\dist\MooseX-amine\public\css\sh_peachpuff.css (unchanged)
Skip blib\lib\auto\share\dist\MooseX-amine\public\css\sh_neon.min.css (unchanged)
Skip blib\lib\auto\share\dist\MooseX-amine\public\css\sh_night.css (unchanged)
Skip blib\lib\auto\share\dist\MooseX-amine\public\css\sh_night.min.css (unchanged)
Skip blib\lib\auto\share\dist\MooseX-amine\public\css\sh_print.css (unchanged)
Skip blib\lib\auto\share\dist\MooseX-amine\public\css\sh_pablo.css (unchanged)
Skip blib\lib\auto\share\dist\MooseX-amine\public\css\sh_nedit.min.css (unchanged)
Skip blib\lib\auto\share\dist\MooseX-amine\public\css\sh_the.min.css (unchanged)
Skip blib\lib\auto\share\dist\MooseX-amine\public\css\sh_whatis.css (unchanged)
Skip blib\lib\auto\share\dist\MooseX-amine\public\css\sh_vampire.css (unchanged)
Skip blib\lib\auto\share\dist\MooseX-amine\public\css\sh_typical.css (unchanged)
Skip blib\lib\auto\share\dist\MooseX-amine\public\css\sh_vim-dark.min.css (unchanged)
Skip blib\lib\auto\share\dist\MooseX-amine\public\css\sh_vampire.min.css (unchanged)
Skip blib\lib\auto\share\dist\MooseX-amine\public\css\sh_typical.min.css (unchanged)
Skip blib\lib\auto\share\dist\MooseX-amine\public\css\sh_vim.css (unchanged)
Skip blib\lib\auto\share\dist\MooseX-amine\public\css\sh_the.css (unchanged)
Skip blib\lib\auto\share\dist\MooseX-amine\public\css\sh_vim.min.css (unchanged)
Skip blib\lib\auto\share\dist\MooseX-amine\public\css\sh_rand01.min.css (unchanged)
Skip blib\lib\auto\share\dist\MooseX-amine\public\css\sh_whatis.min.css (unchanged)
Skip blib\lib\auto\share\dist\MooseX-amine\public\css\sh_vim-dark.css (unchanged)
Skip blib\lib\auto\share\dist\MooseX-amine\public\css\sh_zellner.css (unchanged)
Skip blib\lib\auto\share\dist\MooseX-amine\public\css\sh_whitengrey.min.css (unchanged)
Skip blib\lib\auto\share\dist\MooseX-amine\views\list.tt (unchanged)
Skip blib\lib\auto\share\dist\MooseX-amine\views\show.tt (unchanged)
Skip blib\lib\auto\share\dist\MooseX-amine\views\index.tt (unchanged)
Skip blib\lib\auto\share\dist\MooseX-amine\public\js\sh_main.min.js (unchanged)
Skip blib\lib\auto\share\dist\MooseX-amine\public\js\jquery.styleswitch.js (unchanged)
Skip blib\lib\auto\share\dist\MooseX-amine\views\layouts\main.tt (unchanged)
Skip blib\lib\auto\share\dist\MooseX-amine\public\css\sh_zellner.min.css (unchanged)
Skip blib\lib\auto\share\dist\MooseX-amine\public\css\sh_whitengrey.css (unchanged)
Skip blib\lib\auto\share\dist\MooseX-amine\public\js\sh_perl.min.js (unchanged)
Skip blib\lib\auto\share\dist\MooseX-amine\public\js\jquery.cookie.js (unchanged)
C:\strawberry160\perl\bin\perl.exe "-MExtUtils::Command::MM" "-MTest::Harness" "-e" "undef *Test::Harness::Switches; test_harness(0, 'blib\lib', 'blib\arch')" t/*.t
t/01-basic-object.t ............................. ok
t/02-basic-role.t ............................... ok
t/03-basic-object-with-role.t ................... ok
t/04-basic-object-overriding-role.t ............. ok
t/05-basic-object-include-all.t ................. ok
t/06-basic-object-by-path.t ..................... ok
t/11-inherit-object.t ........................... ok
t/12-inherit-object-with-role.t ................. ok
t/13-inherit-object-with-base-role.t ............ ok
t/14-inherit-object-with-role-with-base-role.t .. ok
t/15-inherit-object-base-common-role.t .......... ok
t/21-override-object.t .......................... ok
t/22-override-role.t ............................ ok
t/31-trap-fatals.t .............................. ok
t/author-pod-coverage.t ......................... skipped: these tests are for testing by the author
t/author-pod-syntax.t ........................... skipped: these tests are for testing by the author
All tests successful.
Files=16, Tests=36, 17 wallclock secs ( 0.09 usr +  0.04 sys =  0.13 CPU)
Result: PASS

------------------------------
PREREQUISITES
------------------------------

Prerequisite modules loaded:

requires:

    Module                       Need  Have      
    ---------------------------- ----- ----------
    autodie                      0     2.22      
    Dancer                       0     1.3119    
    File::Find::Rule             0     0.33      
    File::ShareDir               0     1.03      
    File::Spec                   0     3.40      
    Hash::Merge                  0     0.200     
    List::Util                   0     1.35      
    Modern::Perl                 0     1.20121103
    Module::Info                 0     0.35      
    Moose                        2.000 2.1005    
    Moose::Meta::Class           0     2.1005    
    Moose::Meta::Role            0     2.1005    
    Moose::Util::TypeConstraints 0     2.1005    
    perl                         5.010 5.016000  
    PPI                          0     1.215     
    strict                       0     1.07      
    Template                     0     2.25      
    Test::Deep::NoTest           0     0         
    Try::Tiny                    0     0.18      
    warnings                     0     1.13      

build_requires:

    Module                       Need  Have      
    ---------------------------- ----- ----------
    ExtUtils::MakeMaker          0     6.84      
    lib                          0     0.63      
    Moose::Role                  0     2.1005    
    Pod::Coverage::TrustPod      0     0.100005  
    Test::More                   0     1.001002  
    Test::Pod                    1.41  1.45      
    Test::Pod::Coverage          1.08  1.08      
    Test::Trap                   0     0.2.2     

configure_requires:

    Module                       Need  Have      
    ---------------------------- ----- ----------
    ExtUtils::MakeMaker          0     6.84      
    File::ShareDir::Install      0.06  0.13      


------------------------------
ENVIRONMENT AND OTHER CONTEXT
------------------------------

Environment variables:

    AUTOMATED_TESTING = 1
    COMSPEC = C:\WINDOWS\system32\cmd.exe
    NUMBER_OF_PROCESSORS = 1
    PATH = C:\WINDOWS\system32;C:\WINDOWS;C:\WINDOWS\System32\Wbem;C:\strawberry160\c\bin;C:\strawberry160\perl\site\bin;C:\strawberry160\perl\bin
    PERL5LIB = C:\strawberry160\cpan\build\Pod-Coverage-TrustPod-0.100005-0/blib/arch;C:\strawberry160\cpan\build\Pod-Coverage-TrustPod-0.100005-0/blib/lib;C:\strawberry160\cpan\build\File-ShareDir-Install-0.13-0/blib/arch;C:\strawberry160\cpan\build\File-ShareDir-Install-0.13-0/blib/lib
    PERL5OPT = 
    PERL5_CPANPLUS_IS_RUNNING = 1648
    PERL5_CPAN_IS_RUNNING = 1648
    PERL5_CPAN_IS_RUNNING_IN_RECURSION = 1228,1648
    PERL_CR_SMOKER_CURRENT = MooseX-amine-0.7
    PERL_CR_SMOKER_RUNONCE = 1
    PERL_EXTUTILS_AUTOINSTALL = --defaultdeps
    PERL_JSON_BACKEND = JSON::XS
    PERL_MM_USE_DEFAULT = 1
    PERL_YAML_BACKEND = YAML
    PROCESSOR_IDENTIFIER = x86 Family 18 Model 1 Stepping 0, AuthenticAMD
    TEMP = C:\DOCUME~1\a\LOCALS~1\Temp
    TERM = dumb

Perl special variables (and OS-specific diagnostics, for MSWin32):

    $^X = C:\strawberry160\perl\bin\perl.exe
    $UID/$EUID = 0 / 0
    $GID = 0
    $EGID = 0
    Win32::GetOSName = WinXP/.Net
    Win32::GetOSVersion = Service Pack 3, 5, 1, 2600, 2, 3, 0, 256, 1
    Win32::FsType = NTFS
    Win32::IsAdminUser = 1

Perl module toolchain versions installed:

    Module              Have    
    ------------------- --------
    CPAN                2.16    
    CPAN::Meta          2.133380
    Cwd                 3.40    
    ExtUtils::CBuilder  0.280206
    ExtUtils::Command   1.17    
    ExtUtils::Install   1.58    
    ExtUtils::MakeMaker 6.84    
    ExtUtils::Manifest  1.61    
    ExtUtils::ParseXS   3.22    
    File::Spec          3.40    
    JSON                2.53    
    JSON::PP            2.27203 
    Module::Build       0.4203  
    Module::Signature   0.68    
    Parse::CPAN::Meta   1.4405  
    Test::Harness       3.30    
    Test::More          1.001002
    YAML                0.88    
    YAML::Syck          1.27    
    version             0.9904  


--

Summary of my perl5 (revision 5 version 16 subversion 0) configuration:
   
  Platform:
    osname=MSWin32, osvers=4.0, archname=MSWin32-x86-multi-thread
    uname='Win32 strawberry-perl 5.16.0.1 #1 Mon May 21 22:07:30 2012 i386'
    config_args='undef'
    hint=recommended, useposix=true, d_sigaction=undef
    useithreads=define, usemultiplicity=define
    useperlio=define, d_sfio=undef, uselargefiles=define, usesocks=undef
    use64bitint=undef, use64bitall=undef, uselongdouble=undef
    usemymalloc=n, bincompat5005=undef
  Compiler:
    cc='gcc', ccflags =' -s -O2 -DWIN32  -DPERL_TEXTMODE_SCRIPTS -DPERL_IMPLICIT_CONTEXT -DPERL_IMPLICIT_SYS -fno-strict-aliasing -mms-bitfields',
    optimize='-s -O2',
    cppflags='-DWIN32'
    ccversion='', gccversion='4.6.3', gccosandvers=''
    intsize=4, longsize=4, ptrsize=4, doublesize=8, byteorder=1234
    d_longlong=undef, longlongsize=8, d_longdbl=define, longdblsize=12
    ivtype='long', ivsize=4, nvtype='double', nvsize=8, Off_t='long long', lseeksize=8
    alignbytes=8, prototype=define
  Linker and Libraries:
    ld='g++', ldflags ='-s -L"C:\strawberry160\perl\lib\CORE" -L"C:\strawberry160\c\lib"'
    libpth=C:\strawberry160\c\lib C:\strawberry160\c\i686-w64-mingw32\lib
    libs=-lmoldname -lkernel32 -luser32 -lgdi32 -lwinspool -lcomdlg32 -ladvapi32 -lshell32 -lole32 -loleaut32 -lnetapi32 -luuid -lws2_32 -lmpr -lwinmm -lversion -lodbc32 -lodbccp32 -lcomctl32
    perllibs=-lmoldname -lkernel32 -luser32 -lgdi32 -lwinspool -lcomdlg32 -ladvapi32 -lshell32 -lole32 -loleaut32 -lnetapi32 -luuid -lws2_32 -lmpr -lwinmm -lversion -lodbc32 -lodbccp32 -lcomctl32
    libc=, so=dll, useshrplib=true, libperl=libperl516.a
    gnulibc_version=''
  Dynamic Linking:
    dlsrc=dl_win32.xs, dlext=dll, d_dlsymun=undef, ccdlflags=' '
    cccdlflags=' ', lddlflags='-mdll -s -L"C:\strawberry160\perl\lib\CORE" -L"C:\strawberry160\c\lib"'


Characteristics of this binary (from libperl): 
  Compile-time options: HAS_TIMES HAVE_INTERP_INTERN MULTIPLICITY
                        PERLIO_LAYERS PERL_DONT_CREATE_GVSV
                        PERL_IMPLICIT_CONTEXT PERL_IMPLICIT_SYS
                        PERL_MALLOC_WRAP PERL_PRESERVE_IVUV PL_OP_SLAB_ALLOC
                        USE_ITHREADS USE_LARGE_FILES USE_LOCALE
                        USE_LOCALE_COLLATE USE_LOCALE_CTYPE
                        USE_LOCALE_NUMERIC USE_PERLIO USE_PERL_ATOF
  Built under MSWin32
  Compiled at May 21 2012 22:15:38
  %ENV:
    PERL5LIB="C:\strawberry160\cpan\build\Pod-Coverage-TrustPod-0.100005-0/blib/arch;C:\strawberry160\cpan\build\Pod-Coverage-TrustPod-0.100005-0/blib/lib;C:\strawberry160\cpan\build\File-ShareDir-Install-0.13-0/blib/arch;C:\strawberry160\cpan\build\File-ShareDir-Install-0.13-0/blib/lib"
    PERL5_CPANPLUS_IS_RUNNING="1648"
    PERL5_CPAN_IS_RUNNING="1648"
    PERL5_CPAN_IS_RUNNING_IN_RECURSION="1228,1648"
    PERL_CR_SMOKER_CURRENT="MooseX-amine-0.7"
    PERL_CR_SMOKER_RUNONCE="1"
    PERL_EXTUTILS_AUTOINSTALL="--defaultdeps"
    PERL_JSON_BACKEND="JSON::XS"
    PERL_MM_USE_DEFAULT="1"
    PERL_YAML_BACKEND="YAML"
  @INC:
    C:\strawberry160\cpan\build\Pod-Coverage-TrustPod-0.100005-0/blib/arch
    C:\strawberry160\cpan\build\Pod-Coverage-TrustPod-0.100005-0/blib/lib
    C:\strawberry160\cpan\build\File-ShareDir-Install-0.13-0/blib/arch
    C:\strawberry160\cpan\build\File-ShareDir-Install-0.13-0/blib/lib
    C:/strawberry160/perl/site/lib/MSWin32-x86-multi-thread
    C:/strawberry160/perl/site/lib
    C:/strawberry160/perl/vendor/lib
    C:/strawberry160/perl/lib
    .