Debug-Client v0.34 Perl 5 v5.41.9 amd64-freebsd-thread-multi
- Status
- Pass
- From
- Carlos Guevara
- Dist
-
Debug-Client v0.34
- Platform
- Perl 5 v5.41.9 amd64-freebsd-thread-multi
- Date
- 2025-01-28 23:37:33
- ID
- d8d41f66-ddd0-11ef-a3d7-a8ed87ed140e
This distribution has been tested as part of the CPAN Testers
project, supporting the Perl programming language. See
http://wiki.cpantesters.org/ for more information or email
questions to cpan-testers-discuss@perl.org
--
Dear Gabor Szabo,
This is a computer-generated report for Debug-Client-0.34
on perl 5.41.9, created by CPAN-Reporter-1.2020.
Thank you for uploading your work to CPAN. Congratulations!
All tests were successful.
Sections of this report:
* Tester comments
* Program output
* Prerequisites
* Environment and other context
------------------------------
TESTER COMMENTS
------------------------------
Additional comments from tester:
this report is from an automated smoke testing program
and was not reviewed by a human for accuracy
------------------------------
PROGRAM OUTPUT
------------------------------
Output from '/usr/bin/make test':
PERL_DL_NONLAZY=1 "/home/cpan/bin/perl/bin/perl5.41.9" "-MExtUtils::Command::MM" "-MTest::Harness" "-e" "undef *Test::Harness::Switches; test_harness(0, 'inc', 'blib/lib', 'blib/arch')" t/*.t
t/00-check-deps.t ...... ok
# Prerequisite Report:
# ÃÂ Version Module
# ÃÂ -------- ---------------------
# ÃÂ 1.54 Carp
# ÃÂ 5.78 Exporter
# ÃÂ 7.70 ExtUtils::MakeMaker
# ÃÂ 1.006 File::HomeDir
# ÃÂ 3.93 File::Spec
# ÃÂ 3.93 File::Spec::Functions
# ÃÂ 0.2311 File::Temp
# ÃÂ 0.43 IO::Socket::IP
# ÃÂ 1.68_01 List::Util
# ÃÂ 2.5 PadWalker
# ÃÂ 1.17 Term::ReadLine
# ÃÂ 1.46 Term::ReadLine::Gnu
# ÃÂ 0.010 Test::CheckDeps
# ÃÂ 0.52 Test::Class
# ÃÂ 1.204 Test::Deep
# ÃÂ 1.302209 Test::More
# ÃÂ 1.52 Test::Pod
# ÃÂ 1.10 Test::Pod::Coverage
# ÃÂ 0.11 Test::Requires
# ÃÂ missing Win32
# ÃÂ missing Win32::Process
# ÃÂ 1.33 constant
# ÃÂ 0.244 parent
# ÃÂ 0.9933 version
t/00-report-prereqs.t .. ok
# Info: Testing Debug::Client 0.34
# Info: Perl v5.41.9
t/01-compile.t ......... ok
t/02-exports.t ......... ok
t/03-pod.t ............. skipped: Author tests, not required for installation.
t/04-pod-coverage.t .... skipped: Author tests, not required for installation.
#
# Info: Perl v5.41.9
# Info: OS freebsd
# Info: Term::ReadLine::Gnu installed
# Info: Using ReadLine implementation -> Term::ReadLine::Gnu
# INFO: $ENV{TERM} -> screen
t/06-term.t ............ ok
t/07-initialize.t ...... ok
t/08-io.t .............. ok
t/10-top_tail.t ........ ok
t/10-top_tail_old.t .... ok
t/11-add.t ............. ok
t/13-return.t .......... ok
t/14-run.t ............. ok
# Info: perl5db version 1.82
t/15-run_to_line.t ..... ok
t/16-run_to_sub.t ...... ok
t/17-stepin.t .......... ok
t/18-stepout.t ......... ok
t/19-stepover.t ........ ok
t/20-get_value.t ....... ok
t/21-toggle_trace.t .... ok
t/22-subnames.t ........ ok
t/23-breakpoints.t ..... ok
t/24-y_zero.t .......... ok
t/25-get_v_vars.t ...... ok
t/26-get_x_vars.t ...... ok
t/27-get_p_exp.t ....... ok
t/28-get_h_var.t ....... ok
# Info: ComamandSet = '580'
t/29-options.t ......... ok
t/40-test_1415-old.t ... ok
t/40-test_1415.t ....... ok
eg/debugger.pl syntax OK
t/41-eg.t .............. ok
t/99-perldb.t .......... ok
# Prerequisite Report:
# ÃÂ Version Module
# ÃÂ -------- ---------------------
# ÃÂ 1.54 Carp
# ÃÂ 5.78 Exporter
# ÃÂ 7.70 ExtUtils::MakeMaker
# ÃÂ 1.006 File::HomeDir
# ÃÂ 3.93 File::Spec
# ÃÂ 3.93 File::Spec::Functions
# ÃÂ 0.2311 File::Temp
# ÃÂ 0.43 IO::Socket::IP
# ÃÂ 1.68_01 List::Util
# ÃÂ 2.5 PadWalker
# ÃÂ 1.17 Term::ReadLine
# ÃÂ 1.46 Term::ReadLine::Gnu
# ÃÂ 0.010 Test::CheckDeps
# ÃÂ 0.52 Test::Class
# ÃÂ 1.204 Test::Deep
# ÃÂ 1.302209 Test::More
# ÃÂ 1.52 Test::Pod
# ÃÂ 1.10 Test::Pod::Coverage
# ÃÂ 0.11 Test::Requires
# ÃÂ missing Win32
# ÃÂ missing Win32::Process
# ÃÂ 1.33 constant
# ÃÂ 0.244 parent
# ÃÂ 0.9933 version
t/report-prereqs.t ..... ok
All tests successful.
Files=34, Tests=183, 40 wallclock secs ( 0.11 usr 0.05 sys + 2.47 cusr 0.52 csys = 3.15 CPU)
Result: PASS
------------------------------
PREREQUISITES
------------------------------
Prerequisite modules loaded:
requires:
Module Need Have
------------------- -------- --------
Carp 1.3301 1.54
constant 1.27 1.33
Exporter 5.70 5.78
IO::Socket::IP 0.29 0.43
PadWalker 1.98 2.5
perl 5.010001 5.041009
Term::ReadLine 1.14 1.17
Term::ReadLine::Gnu 1.24 1.46
build_requires:
Module Need Have
------------------- -------- --------
ExtUtils::MakeMaker 6.59 7.70
File::HomeDir 1 1.006
File::Temp 0.2304 0.2311
List::Util 1.38 1.68_01
parent 0.228 0.244
Test::CheckDeps 0.01 0.010
Test::Class 0.42 0.52
Test::Deep 0.112 1.204
Test::More 1.001003 1.302209
Test::Requires 0.07 0.11
version 0.9908 0.9933
configure_requires:
Module Need Have
------------------- -------- --------
ExtUtils::MakeMaker 6.59 7.70
------------------------------
ENVIRONMENT AND OTHER CONTEXT
------------------------------
Environment variables:
AUTOMATED_TESTING = 1
DATE_MANIP_TEST_DM5 = 1
LANG = C.UTF-8
LC_ALL = C
NONINTERACTIVE_TESTING = 1
NO_NETWORK_TESTING = 1
PATH = /home/cpan/bin/perl/bin:/home/cpan/bin:/sbin:/bin:/usr/sbin:/usr/bin:/usr/local/sbin:/usr/local/bin:/home/cpan/bin
PERL5LIB =
PERL5OPT =
PERL5_CPANPLUS_IS_RUNNING = 84341
PERL5_CPAN_IS_RUNNING = 84341
PERL_MM_USE_DEFAULT = 1
PERL_USE_UNSAFE_INC = 1
SHELL = /usr/local/bin/bash
TERM = screen
TMPDIR = /home/cpan/tmp
Perl special variables (and OS-specific diagnostics, for MSWin32):
$^X = /home/cpan/bin/perl/bin/perl5.41.9
$UID/$EUID = 1002 / 1002
$GID = 1002 1002
$EGID = 1002 1002
Perl module toolchain versions installed:
Module Have
------------------- --------
CPAN 2.38
CPAN::Meta 2.150010
Cwd 3.92
ExtUtils::CBuilder 0.280240
ExtUtils::Command 7.70
ExtUtils::Install 2.22
ExtUtils::MakeMaker 7.70
ExtUtils::Manifest 1.75
ExtUtils::ParseXS 3.57
File::Spec 3.93
JSON 4.10
JSON::PP 4.16
Module::Build 0.4234
Module::Signature n/a
Parse::CPAN::Meta 2.150010
Test2 1.302209
Test::Harness 3.50
Test::More 1.302209
YAML 1.31
YAML::Syck n/a
version 0.9933
--
Summary of my perl5 (revision 5 version 41 subversion 9) configuration:
Commit id: 34e58a726d2eec1774a6f0b4e8477b274521684a
Platform:
osname=freebsd
osvers=14.2-release
archname=amd64-freebsd-thread-multi
uname='freebsd cjg-freebsd14 14.2-release freebsd 14.2-release releng14.2-n269506-c8918d6c7412 generic amd64 '
config_args='-des -Dprefix=/home/cpan/bin/perl -Dscriptdir=/home/cpan/bin/perl/bin -Dusedevel -Duse64bitall -Duseithreads'
hint=recommended
useposix=true
d_sigaction=define
useithreads=define
usemultiplicity=define
use64bitint=define
use64bitall=define
uselongdouble=undef
usemymalloc=n
default_inc_excludes_dot=define
Compiler:
cc='cc'
ccflags ='-DHAS_FPSETMASK -DHAS_FLOATINGPOINT_H -DNO_POSIX_2008_LOCALE -fno-strict-aliasing -pipe -fstack-protector-strong -I/usr/local/include'
optimize='-O2'
cppflags='-DHAS_FPSETMASK -DHAS_FLOATINGPOINT_H -DNO_POSIX_2008_LOCALE -fno-strict-aliasing -pipe -fstack-protector-strong -I/usr/local/include'
ccversion=''
gccversion='FreeBSD Clang 18.1.6 (https://github.com/llvm/llvm-project.git llvmorg-18.1.6-0-g1118c2e05e67)'
gccosandvers=''
intsize=4
longsize=8
ptrsize=8
doublesize=8
byteorder=12345678
doublekind=3
d_longlong=define
longlongsize=8
d_longdbl=define
longdblsize=16
longdblkind=3
ivtype='long'
ivsize=8
nvtype='double'
nvsize=8
Off_t='off_t'
lseeksize=8
alignbytes=8
prototype=define
Linker and Libraries:
ld='cc'
ldflags ='-pthread -Wl,-E -fstack-protector-strong -L/usr/local/lib'
libpth=/usr/lib /usr/local/lib /usr/lib/clang/18/lib
libs=-lpthread -lgdbm -ldl -lm -lcrypt -lutil
perllibs=-lpthread -ldl -lm -lcrypt -lutil
libc=
so=so
useshrplib=false
libperl=libperl.a
gnulibc_version=''
Dynamic Linking:
dlsrc=dl_dlopen.xs
dlext=so
d_dlsymun=undef
ccdlflags=' '
cccdlflags='-DPIC -fPIC'
lddlflags='-shared -L/usr/local/lib -fstack-protector-strong'
Characteristics of this binary (from libperl):
Compile-time options:
HAS_LONG_DOUBLE
HAS_STRTOLD
HAS_TIMES
MULTIPLICITY
PERLIO_LAYERS
PERL_COPY_ON_WRITE
PERL_DONT_CREATE_GVSV
PERL_HASH_FUNC_SIPHASH13
PERL_HASH_USE_SBOX32
PERL_MALLOC_WRAP
PERL_OP_PARENT
PERL_PRESERVE_IVUV
PERL_USE_DEVEL
PERL_USE_SAFE_PUTENV
USE_64_BIT_ALL
USE_64_BIT_INT
USE_ITHREADS
USE_LARGE_FILES
USE_LOCALE
USE_LOCALE_COLLATE
USE_LOCALE_CTYPE
USE_LOCALE_NUMERIC
USE_LOCALE_TIME
USE_PERLIO
USE_PERL_ATOF
USE_REENTRANT_API
Built under freebsd
Compiled at Jan 28 2025 14:51:59
%ENV:
PERL5LIB=""
PERL5OPT=""
PERL5_CPANPLUS_IS_RUNNING="84341"
PERL5_CPAN_IS_RUNNING="84341"
PERL_MM_USE_DEFAULT="1"
PERL_USE_UNSAFE_INC="1"
@INC:
/home/cpan/bin/perl/lib/site_perl/5.41.9/amd64-freebsd-thread-multi
/home/cpan/bin/perl/lib/site_perl/5.41.9
/home/cpan/bin/perl/lib/5.41.9/amd64-freebsd-thread-multi
/home/cpan/bin/perl/lib/5.41.9
.