Filter-Crypto v2.09 Perl 5 v5.35.9 x86_64-linux

Status
Pass
From
Andreas J. König (ANDK)
Dist
Filter-Crypto v2.09
Platform
Perl 5 v5.35.9 x86_64-linux
Date
2022-01-27 01:09:59
ID
d8d5129c-7f0d-11ec-a1b8-7f033e8d95d1
This distribution has been tested as part of the CPAN Testers
project, supporting the Perl programming language.  See
http://wiki.cpantesters.org/ for more information or email
questions to cpan-testers-discuss@perl.org


--
Dear Steve Hay,

This is a computer-generated report for Filter-Crypto-2.09
on perl 5.35.9, created by CPAN-Reporter-1.2018.

Thank you for uploading your work to CPAN.  Congratulations!
All tests were successful.

Sections of this report:

    * Tester comments
    * Program output
    * Prerequisites
    * Environment and other context

------------------------------
TESTER COMMENTS
------------------------------

Additional comments from tester:

this report is from an automated smoke testing program
and was not reviewed by a human for accuracy

------------------------------
PROGRAM OUTPUT
------------------------------

Output from '/usr/bin/make test':

make[1]: Entering directory '/tmp/loop_over_bdir-2731722-CMPifs/Filter-Crypto-2.09-0/CryptFile'
"/tmp/basesmoker-reloperl-P5YB/bin/perl" -MExtUtils::Command::MM -e 'cp_nonempty' -- CryptFile.bs ../blib/arch/auto/Filter/Crypto/CryptFile/CryptFile.bs 644
Manifying 1 pod document
make[1]: Leaving directory '/tmp/loop_over_bdir-2731722-CMPifs/Filter-Crypto-2.09-0/CryptFile'
make[1]: Entering directory '/tmp/loop_over_bdir-2731722-CMPifs/Filter-Crypto-2.09-0/Decrypt'
"/tmp/basesmoker-reloperl-P5YB/bin/perl" -MExtUtils::Command::MM -e 'cp_nonempty' -- Decrypt.bs ../blib/arch/auto/Filter/Crypto/Decrypt/Decrypt.bs 644
Manifying 1 pod document
make[1]: Leaving directory '/tmp/loop_over_bdir-2731722-CMPifs/Filter-Crypto-2.09-0/Decrypt'
PERL_DL_NONLAZY=1 "/tmp/basesmoker-reloperl-P5YB/bin/perl" "-MExtUtils::Command::MM" "-MTest::Harness" "-e" "undef *Test::Harness::Switches; test_harness(0, 'blib/lib', 'blib/arch')" t/*.t
t/01_imports_01.t .... ok
t/01_imports_02.t .... ok
t/01_imports_03.t .... ok
t/01_imports_04.t .... ok
t/02_function.t ...... ok
t/03_script.t ........ ok
t/04_par.t ........... ok
t/05_errstr.t ........ ok
t/06_changes.t ....... skipped: Author testing only
t/07_critic.t ........ skipped: Author testing only
t/08_pod.t ........... skipped: Author testing only
t/09_pod_coverage.t .. skipped: Author testing only
All tests successful.
Files=12, Tests=448, 10 wallclock secs ( 0.06 usr  0.04 sys +  7.84 cusr  2.78 csys = 10.72 CPU)
Result: PASS

------------------------------
PREREQUISITES
------------------------------

Prerequisite modules loaded:

requires:

    Module                Need     Have     
    --------------------- -------- ---------
    Carp                  0        1.52     
    Config                0        5.035009 
    constant              0        1.33     
    Cwd                   0        3.83     
    Exporter              0        5.77     
    ExtUtils::MakeMaker   6.66     7.64     
    Fcntl                 0        1.15     
    File::Basename        0        2.85     
    File::Copy            0        2.39     
    File::Find            0        1.40     
    File::Spec::Functions 0        3.83     
    File::Temp            0        0.2311   
    Getopt::Long          0        2.52     
    perl                  5.008001 5.035009 
    Pod::Usage            1.15     2.01     
    Scalar::Util          0        1.60     
    strict                0        1.12     
    Text::ParseWords      0        3.30     
    Text::Wrap            0        2021.0814
    warnings              0        1.57     
    XSLoader              0        0.31     

build_requires:

    Module                Need     Have     
    --------------------- -------- ---------
    blib                  0        1.07     
    ExtUtils::MakeMaker   0        7.64     
    File::Path            0        2.18     
    FindBin               0        1.53     
    Test::More            0        1.302188 

configure_requires:

    Module                Need     Have     
    --------------------- -------- ---------
    Carp                  0        1.52     
    Config                0        5.035009 
    constant              0        1.33     
    Cwd                   0        3.83     
    ExtUtils::MakeMaker   6.66     7.64     
    Fcntl                 0        1.15     
    File::Basename        0        2.85     
    File::Copy            0        2.39     
    File::Spec::Functions 0        3.83     
    Getopt::Long          0        2.52     
    perl                  5.008001 5.035009 
    Pod::Usage            1.15     2.01     
    strict                0        1.12     
    Text::Wrap            0        2021.0814
    warnings              0        1.57     


------------------------------
ENVIRONMENT AND OTHER CONTEXT
------------------------------

Environment variables:

    AUTOMATED_TESTING = 1
    LANG = en_US.UTF-8
    PATH = /home/sand/bin:/usr/local/bin:/usr/bin:/bin:/usr/games:/usr/local/perl/bin:/usr/X11/bin:/sbin:/usr/sbin
    PERL5LIB = 
    PERL5OPT = 
    PERL5_CPANPLUS_IS_RUNNING = 4131845
    PERL5_CPAN_IS_RUNNING = 4131845
    PERL_CANARY_STABILITY_NOPROMPT = 1
    PERL_MM_USE_DEFAULT = 1
    PERL_USE_UNSAFE_INC = 1
    SHELL = /usr/bin/zsh
    TERM = screen

Perl special variables (and OS-specific diagnostics, for MSWin32):

    $^X = /tmp/basesmoker-reloperl-P5YB/bin/perl
    $UID/$EUID = 1005 / 1005
    $GID = 1005 1005
    $EGID = 1005 1005

Perl module toolchain versions installed:

    Module              Have    
    ------------------- --------
    CPAN                2.33    
    CPAN::Meta          2.150010
    Cwd                 3.83    
    ExtUtils::CBuilder  0.280236
    ExtUtils::Command   7.64    
    ExtUtils::Install   2.20    
    ExtUtils::MakeMaker 7.64    
    ExtUtils::Manifest  1.73    
    ExtUtils::ParseXS   3.44    
    File::Spec          3.83    
    JSON                4.05    
    JSON::PP            4.07    
    Module::Build       0.4231  
    Module::Signature   0.88    
    Parse::CPAN::Meta   2.150010
    Test::Harness       3.43    
    Test::More          1.302188
    YAML                1.30    
    YAML::Syck          1.34    
    version             0.9929  


--

Summary of my perl5 (revision 5 version 35 subversion 9) configuration:
  Commit id: 535068756f421813eff4aae3784af48f00ea94b8
  Platform:
    osname=linux
    osvers=5.15.0-2-amd64
    archname=x86_64-linux
    uname='linux k93msid 5.15.0-2-amd64 #1 smp debian 5.15.5-2 (2021-12-18) x86_64 gnulinux '
    config_args='-Dprefix=/home/sand/src/perl/repoperls/installed-perls/host/k93msid/v5.35.8-18-g535068756f/3c10 -Dmyhostname=k93msid -Dinstallusrbinperl=n -Uversiononly -Dusedevel -des -Ui_db -Dlibswanted=cl pthread socket inet nsl gdbm dbm malloc dl ld sun m crypt sec util c cposix posix ucb BSD gdbm_compat -Uuseithreads -Uuselongdouble -DEBUGGING=none'
    hint=recommended
    useposix=true
    d_sigaction=define
    useithreads=undef
    usemultiplicity=undef
    use64bitint=define
    use64bitall=define
    uselongdouble=undef
    usemymalloc=n
    default_inc_excludes_dot=define
  Compiler:
    cc='cc'
    ccflags ='-fwrapv -fno-strict-aliasing -pipe -fstack-protector-strong -I/usr/local/include -D_LARGEFILE_SOURCE -D_FILE_OFFSET_BITS=64 -D_FORTIFY_SOURCE=2'
    optimize='-O2'
    cppflags='-fwrapv -fno-strict-aliasing -pipe -fstack-protector-strong -I/usr/local/include'
    ccversion=''
    gccversion='11.2.0'
    gccosandvers=''
    intsize=4
    longsize=8
    ptrsize=8
    doublesize=8
    byteorder=12345678
    doublekind=3
    d_longlong=define
    longlongsize=8
    d_longdbl=define
    longdblsize=16
    longdblkind=3
    ivtype='long'
    ivsize=8
    nvtype='double'
    nvsize=8
    Off_t='off_t'
    lseeksize=8
    alignbytes=8
    prototype=define
  Linker and Libraries:
    ld='cc'
    ldflags =' -fstack-protector-strong -L/usr/local/lib'
    libpth=/usr/local/lib /usr/lib/x86_64-linux-gnu /usr/lib /lib/x86_64-linux-gnu /lib
    libs=-lpthread -lnsl -ldl -lm -lcrypt -lutil -lc
    perllibs=-lpthread -lnsl -ldl -lm -lcrypt -lutil -lc
    libc=libc-2.33.so
    so=so
    useshrplib=false
    libperl=libperl.a
    gnulibc_version='2.33'
  Dynamic Linking:
    dlsrc=dl_dlopen.xs
    dlext=so
    d_dlsymun=undef
    ccdlflags='-Wl,-E'
    cccdlflags='-fPIC'
    lddlflags='-shared -O2 -L/usr/local/lib -fstack-protector-strong'


Characteristics of this binary (from libperl): 
  Compile-time options:
    HAS_TIMES
    PERLIO_LAYERS
    PERL_COPY_ON_WRITE
    PERL_DONT_CREATE_GVSV
    PERL_MALLOC_WRAP
    PERL_OP_PARENT
    PERL_PRESERVE_IVUV
    PERL_USE_DEVEL
    USE_64_BIT_ALL
    USE_64_BIT_INT
    USE_LARGE_FILES
    USE_LOCALE
    USE_LOCALE_COLLATE
    USE_LOCALE_CTYPE
    USE_LOCALE_NUMERIC
    USE_LOCALE_TIME
    USE_PERLIO
    USE_PERL_ATOF
  Built under linux
  Compiled at Jan 25 2022 15:27:03
  %ENV:
    PERL5LIB=""
    PERL5OPT=""
    PERL5_CPANPLUS_IS_RUNNING="4131845"
    PERL5_CPAN_IS_RUNNING="4131845"
    PERL_CANARY_STABILITY_NOPROMPT="1"
    PERL_MM_USE_DEFAULT="1"
    PERL_USE_UNSAFE_INC="1"
  @INC:
    /home/sand/src/perl/repoperls/installed-perls/host/k93msid/v5.35.8-18-g535068756f/3c10/lib/site_perl/5.35.9/x86_64-linux
    /home/sand/src/perl/repoperls/installed-perls/host/k93msid/v5.35.8-18-g535068756f/3c10/lib/site_perl/5.35.9
    /home/sand/src/perl/repoperls/installed-perls/host/k93msid/v5.35.8-18-g535068756f/3c10/lib/5.35.9/x86_64-linux
    /home/sand/src/perl/repoperls/installed-perls/host/k93msid/v5.35.8-18-g535068756f/3c10/lib/5.35.9
    .