Time-Zone-Olson v0.46 Perl 5 v5.14.3 i86pc-solaris-thread-multi-64

Status
Pass
From
Chris Williams (BINGOS)
Dist
Time-Zone-Olson v0.46
Platform
Perl 5 v5.14.3 i86pc-solaris-thread-multi-64
Date
2023-02-26 21:45:12
ID
d8f3b99c-b61e-11ed-aba6-9a79f339625c
This distribution has been tested as part of the CPAN Testers
project, supporting the Perl programming language.  See
http://wiki.cpantesters.org/ for more information or email
questions to cpan-testers-discuss@perl.org


--

Dear DDICK,

This is a computer-generated error report created automatically by
CPANPLUS, version 0.9914. Testers personal comments may appear
at the end of this report.


Thank you for uploading your work to CPAN.  Congratulations!
All tests were successful.

TEST RESULTS:

Below is the error stack from stage 'make test':

PERL_DL_NONLAZY=1 "/home/cpan/pit/thr/perl-5.14.3/bin/perl" "-MExtUtils::Command::MM" "-MTest::Harness" "-e" "undef *Test::Harness::Switches; test_harness(0, 'blib/lib', 'blib/arch')" t/*.t
# Testing Time::Zone::Olson 0.46, Perl 5.014003, /home/cpan/pit/thr/perl-5.14.3/bin/perl
t/00-load.t ........... ok
t/boilerplate.t ....... ok
t/manifest.t .......... skipped: Author tests not required for installation
t/pod-coverage.t ...... skipped: Test::Pod::Coverage 1.08 required for testing POD coverage
t/pod.t ............... skipped: Test::Pod 1.22 required for testing POD
# Checking https://raw.githubusercontent.com/unicode-org/cldr/master/common/supplemental/windowsZones.xml
# Failed to download https://raw.githubusercontent.com/unicode-org/cldr/master/common/supplemental/windowsZones.xml:500 Can't connect to raw.githubusercontent.com:443
t/windows_zones.t ..... ok
# TZ environment variable is GB
# Olson tz directory is /usr/share/lib/zoneinfo for solaris
# Local timezone has been determined to be GB
# solaris does not have a useful date binary.
# Comment for 'Australia/Melbourne' is 'Australia/Victoria'
# GB  Sun Mar 26 00:59:59 2023 UTC = Sun Mar 26 00:59:59 2023 GMT isdst=0
# GB  Sun Mar 26 01:00:00 2023 UTC = Sun Mar 26 02:00:00 2023 BST isdst=1
# GB  Sun Oct 29 00:59:59 2023 UTC = Sun Oct 29 01:59:59 2023 BST isdst=1
# GB  Sun Oct 29 01:00:00 2023 UTC = Sun Oct 29 01:00:00 2023 GMT isdst=0
# GB  Sun Mar 31 00:59:59 2024 UTC = Sun Mar 31 00:59:59 2024 GMT isdst=0
# GB  Sun Mar 31 01:00:00 2024 UTC = Sun Mar 31 02:00:00 2024 BST isdst=1
# GB  Sun Oct 27 00:59:59 2024 UTC = Sun Oct 27 01:59:59 2024 BST isdst=1
# GB  Sun Oct 27 01:00:00 2024 UTC = Sun Oct 27 01:00:00 2024 GMT isdst=0
# GB  Tue Jan 19 03:14:07 2038 UTC = Tue Jan 19 03:14:07 2038 GMT isdst=0
# GB  Mon Jan 18 03:14:07 2038 UTC = Mon Jan 18 03:14:07 2038 GMT isdst=0
t/zoneinfo_all.t ...... ok
# TZ environment variable is GB
# Determined timezone is GB
# TZDIR has not been set
# solaris does not have a useful date binary.
# Results of unpack:
# Local timezone has been determined to be GB
# solaris does not agree that Melbourne and Hobart time are the same from now on
t/zoneinfo_current.t .. ok
t/zoneinfo_taint.t .... ok
t/zoneinfo_tz_env.t ... ok
All tests successful.

Test Summary Report
-------------------
t/zoneinfo_current.t (Wstat: 0 Tests: 862 Failed: 0)
  TODO passed:   10, 12, 14-16, 18, 20, 22, 24-26, 28, 30
                32-38, 40, 42, 44, 46, 48-50, 52, 54, 56
                58-60, 62-64, 66, 68, 70, 72, 74, 76, 78
                80, 82, 84, 86, 88, 90-92, 94-96, 98, 100
                102, 104-150, 152-178, 180, 182-268, 270-328
                330-352, 354-422, 424-426, 428-430, 432-452
                454-460, 462-474, 476-492, 494, 496-498
                500-508, 510-514, 516, 518-522, 524-526
                528-538, 540-550, 552-580, 582-584, 586-590
                592-608, 610-612, 614-758, 760-762, 764
                766, 768, 770, 772, 774-776, 778, 780-802
                804, 806-808, 810-820, 822, 824-826, 828-832
                834-838, 840-846, 848-856
Files=10, Tests=879, 41 wallclock secs ( 0.34 usr  0.06 sys + 20.82 cusr  7.87 csys = 29.09 CPU)
Result: PASS


PREREQUISITES:

Here is a list of prerequisites you specified and versions we
managed to load:

	  Module Name                        Have     Want
	  Carp                               1.20        0
	  Digest::SHA                        6.03        0
	  DirHandle                          1.04        0
	  Encode                             3.19        0
	  English                            1.04        0
	  ExtUtils::MakeMaker                7.64        0
	  Fcntl                              1.11        0
	  File::Find                         1.19        0
	  File::Spec                         3.75        0
	  File::Temp                       0.2311        0
	  FileHandle                         2.02        0
	  HTTP::Request                      6.44        0
	  LWP::Protocol::https               6.10     6.06
	  LWP::UserAgent                     6.67        0
	  POSIX                              1.24        0
	  Test::More                     1.302191        0
	  Time::Local                        1.30        0
	  XML::LibXML                      2.0208        0
	  strict                             1.04        0
	  warnings                           1.12        0

Perl module toolchain versions installed:
	Module Name                        Have
	CPANPLUS                         0.9914
	CPANPLUS::Dist::Build              0.90
	Cwd                                3.75
	ExtUtils::CBuilder             0.280236
	ExtUtils::Command                  7.64
	ExtUtils::Install                  2.20
	ExtUtils::MakeMaker                7.64
	ExtUtils::Manifest                 1.73
	ExtUtils::ParseXS                  3.44
	File::Spec                         3.75
	Module::Build                    0.4231
	Pod::Parser                        1.37
	Pod::Simple                        3.16
	Test2                          1.302191
	Test::Harness                      3.44
	Test::More                     1.302191
	version                          0.9929

******************************** NOTE ********************************
The comments above are created mechanically, possibly without manual
checking by the sender.  As there are many people performing automatic
tests on each upload to CPAN, it is likely that you will receive
identical messages about the same problem.

If you believe that the message is mistaken, please reply to the first
one with correction and/or additional informations, and do not take
it personally.  We appreciate your patience. :)
**********************************************************************

Additional comments:


This report was machine-generated by CPANPLUS::Dist::YACSmoke 1.08.
Powered by minismokebox version 0.68

CPANPLUS is prefering Build.PL

------------------------------
ENVIRONMENT AND OTHER CONTEXT
------------------------------

Environment variables:

    AUTOMATED_TESTING = 1
    LANG = en_GB.UTF-8
    NONINTERACTIVE_TESTING = 1
    PATH = /usr/bin:/usr/sbin:/sbin:/opt/ooce/bin:/usr/gnu/bin
    PERL5LIB = /home/cpan/pit/jail/g_pTSNif6m/lib/perl5:/home/cpan/pit/thr/conf/perl-5.14.3/.cpanplus/5.14.3/build/O7gTTzEVFx/Time-Zone-Olson-0.46/blib/lib:/home/cpan/pit/thr/conf/perl-5.14.3/.cpanplus/5.14.3/build/O7gTTzEVFx/Time-Zone-Olson-0.46/blib/arch
    PERL5_CPANPLUS_IS_RUNNING = 6835
    PERL5_CPANPLUS_IS_VERSION = 0.9914
    PERL5_MINISMOKEBOX = 0.68
    PERL5_YACSMOKE_BASE = /home/cpan/pit/thr/conf/perl-5.14.3
    PERL_EXTUTILS_AUTOINSTALL = --defaultdeps
    PERL_LOCAL_LIB_ROOT = /home/cpan/pit/jail/g_pTSNif6m
    PERL_MB_OPT = --install_base "/home/cpan/pit/jail/g_pTSNif6m"
    PERL_MM_OPT = INSTALL_BASE=/home/cpan/pit/jail/g_pTSNif6m
    PERL_MM_USE_DEFAULT = 1
    SHELL = /bin/bash
    TERM = screen.xterm-256color

Perl special variables (and OS-specific diagnostics, for MSWin32):

    Perl: $^X = /home/cpan/pit/thr/perl-5.14.3/bin/perl
    UID:  $<  = 101
    EUID: $>  = 101
    GID:  $(  = 101 101
    EGID: $)  = 101 101


-------------------------------


--

Summary of my perl5 (revision 5 version 14 subversion 3) configuration:
   
  Platform:
    osname=solaris, osvers=2.11, archname=i86pc-solaris-thread-multi-64
    uname='sunos ouzel 5.11 omnios-r151034-0d278a0cc5 i86pc i386 i86pc '
    config_args='-des -Dprefix=/home/cpan/pit/thr/perl-5.14.3 -Dusethreads -Duse64bitall -Dcc=gcc'
    hint=recommended, useposix=true, d_sigaction=define
    useithreads=define, usemultiplicity=define
    useperlio=define, d_sfio=undef, uselargefiles=define, usesocks=undef
    use64bitint=define, use64bitall=define, uselongdouble=undef
    usemymalloc=n, bincompat5005=undef
  Compiler:
    cc='gcc', ccflags ='-D_REENTRANT -m64 -fwrapv -fno-strict-aliasing -pipe -fstack-protector -D_LARGEFILE_SOURCE -D_FILE_OFFSET_BITS=64 -DPERL_USE_SAFE_PUTENV',
    optimize='-O',
    cppflags='-D_REENTRANT -m64 -fwrapv -fno-strict-aliasing -pipe -fstack-protector'
    ccversion='', gccversion='9.3.0', gccosandvers=''
    intsize=4, longsize=8, ptrsize=8, doublesize=8, byteorder=12345678
    d_longlong=define, longlongsize=8, d_longdbl=define, longdblsize=16
    ivtype='long', ivsize=8, nvtype='double', nvsize=8, Off_t='off_t', lseeksize=8
    alignbytes=8, prototype=define
  Linker and Libraries:
    ld='gcc', ldflags =' -m64 -fstack-protector -L/usr/gnu/lib '
    libpth=/usr/gnu/lib /usr/lib /usr/ccs/lib
    libs=-lsocket -lnsl -ldl -lm -lpthread -lc
    perllibs=-lsocket -lnsl -ldl -lm -lpthread -lc
    libc=/lib/libc.so, so=so, useshrplib=true, libperl=libperl.so
    gnulibc_version=''
  Dynamic Linking:
    dlsrc=dl_dlopen.xs, dlext=so, d_dlsymun=undef, ccdlflags='  -R /home/cpan/pit/thr/perl-5.14.3/lib/5.14.3/i86pc-solaris-thread-multi-64/CORE'
    cccdlflags='-fPIC', lddlflags=' -shared -m64 -L/usr/gnu/lib -fstack-protector'


Characteristics of this binary (from libperl): 
  Compile-time options: MULTIPLICITY PERL_DONT_CREATE_GVSV
                        PERL_IMPLICIT_CONTEXT PERL_MALLOC_WRAP
                        PERL_PRESERVE_IVUV PERL_USE_SAFE_PUTENV
                        USE_64_BIT_ALL USE_64_BIT_INT USE_ITHREADS
                        USE_LARGE_FILES USE_PERLIO USE_PERL_ATOF
                        USE_REENTRANT_API
  Locally applied patches:
	Devel::PatchPerl 2.00
  Built under solaris
  Compiled at Aug 20 2020 00:37:44
  %ENV:
    PERL5LIB="/home/cpan/pit/jail/g_pTSNif6m/lib/perl5:/home/cpan/pit/thr/conf/perl-5.14.3/.cpanplus/5.14.3/build/O7gTTzEVFx/Time-Zone-Olson-0.46/blib/lib:/home/cpan/pit/thr/conf/perl-5.14.3/.cpanplus/5.14.3/build/O7gTTzEVFx/Time-Zone-Olson-0.46/blib/arch"
    PERL5_CPANPLUS_IS_RUNNING="6835"
    PERL5_CPANPLUS_IS_VERSION="0.9914"
    PERL5_MINISMOKEBOX="0.68"
    PERL5_YACSMOKE_BASE="/home/cpan/pit/thr/conf/perl-5.14.3"
    PERL_EXTUTILS_AUTOINSTALL="--defaultdeps"
    PERL_LOCAL_LIB_ROOT="/home/cpan/pit/jail/g_pTSNif6m"
    PERL_MB_OPT="--install_base "/home/cpan/pit/jail/g_pTSNif6m""
    PERL_MM_OPT="INSTALL_BASE=/home/cpan/pit/jail/g_pTSNif6m"
    PERL_MM_USE_DEFAULT="1"
  @INC:
    /home/cpan/pit/jail/g_pTSNif6m/lib/perl5/5.14.3/i86pc-solaris-thread-multi-64
    /home/cpan/pit/jail/g_pTSNif6m/lib/perl5/5.14.3
    /home/cpan/pit/jail/g_pTSNif6m/lib/perl5/i86pc-solaris-thread-multi-64
    /home/cpan/pit/jail/g_pTSNif6m/lib/perl5
    /home/cpan/pit/thr/conf/perl-5.14.3/.cpanplus/5.14.3/build/O7gTTzEVFx/Time-Zone-Olson-0.46/blib/lib
    /home/cpan/pit/thr/conf/perl-5.14.3/.cpanplus/5.14.3/build/O7gTTzEVFx/Time-Zone-Olson-0.46/blib/arch
    /home/cpan/pit/thr/perl-5.14.3/lib/site_perl/5.14.3/i86pc-solaris-thread-multi-64
    /home/cpan/pit/thr/perl-5.14.3/lib/site_perl/5.14.3
    /home/cpan/pit/thr/perl-5.14.3/lib/5.14.3/i86pc-solaris-thread-multi-64
    /home/cpan/pit/thr/perl-5.14.3/lib/5.14.3
    .