Crypt-OpenSSL-PKCS10 v0.29-TRIAL Perl 5 v5.41.7 x86_64-linux

Status
Pass
From
Slaven Rezić
Dist
Crypt-OpenSSL-PKCS10 v0.29-TRIAL
Platform
Perl 5 v5.41.7 x86_64-linux
Date
2025-01-19 21:32:13
ID
d90c3b4c-d6ac-11ef-9a2c-4a4f6e8775ea
This distribution has been tested as part of the CPAN Testers
project, supporting the Perl programming language.  See
http://wiki.cpantesters.org/ for more information or email
questions to cpan-testers-discuss@perl.org


--
Dear Timothy Legge,

This is a computer-generated report for Crypt-OpenSSL-PKCS10-0.29-TRIAL
on perl 5.41.7, created by CPAN-Reporter-1.2020.

Thank you for uploading your work to CPAN.  Congratulations!
All tests were successful.

Sections of this report:

    * Tester comments
    * Program output
    * Prerequisites
    * Environment and other context

------------------------------
TESTER COMMENTS
------------------------------

Additional comments from tester:

none provided

------------------------------
PROGRAM OUTPUT
------------------------------

Output from '/usr/bin/make test':

"/opt/perl-5.41.7/bin/perl5.41.7" -MExtUtils::Command::MM -e 'cp_nonempty' -- PKCS10.bs blib/arch/auto/Crypt/OpenSSL/PKCS10/PKCS10.bs 644
PERL_DL_NONLAZY=1 "/opt/perl-5.41.7/bin/perl5.41.7" "-MExtUtils::Command::MM" "-MTest::Harness" "-e" "undef *Test::Harness::Switches; test_harness(0, 'blib/lib', 'blib/arch')" t/*.t
# OpenSSL 3.0.15 3 Sep 2024 (Library: OpenSSL 3.0.15 3 Sep 2024)
t/00-openssl-version.t .. ok
t/10-rsa-keys.t ......... ok
t/20-ec.t ............... ok
t/30-ec-keys.t .......... ok
t/author-pod-spell.t .... skipped: these tests are for testing by the author
t/author-pod-syntax.t ... skipped: these tests are for testing by the author
-----BEGIN CERTIFICATE REQUEST-----
MIIBPzCBqQIBADAAMIGfMA0GCSqGSIb3DQEBAQUAA4GNADCBiQKBgQDiyJIOMtPb
7U9oU9B+UnRYZuVkxwG7tSCQuNMhRkguYzA7ZJZ5Eq+dImQw7tUo7wljmfw7CntV
IEvOLQTXfohTNsWFbuA+8JEv9bvqAswELw+2lCBYJ9eJC/S+3VWe4iuh90hA/DOk
avDrbJiBJqkmcsWr5UNoEmuKCTk3z4SlPQIDAQABoAAwDQYJKoZIhvcNAQELBQAD
gYEAhAZcBMLdTbv8y6YIlaQoEp+4Ug/v5/45r2OCEGBPZF0rGGnH6LDZh6WC4vti
Zhm1J0U8WO7a51KFdR1LPPfp8s31iurc8oe+cfJMZy5XrZjlkzziIV8/QO75I65H
GMEprU4378boRBiC8MvPsX4eQII0HQhSYpM727MD9x2rVK4=
-----END CERTIFICATE REQUEST-----
-----BEGIN PRIVATE KEY-----
MIICdwIBADANBgkqhkiG9w0BAQEFAASCAmEwggJdAgEAAoGBAOLIkg4y09vtT2hT
0H5SdFhm5WTHAbu1IJC40yFGSC5jMDtklnkSr50iZDDu1SjvCWOZ/DsKe1UgS84t
BNd+iFM2xYVu4D7wkS/1u+oCzAQvD7aUIFgn14kL9L7dVZ7iK6H3SED8M6Rq8Ots
mIEmqSZyxavlQ2gSa4oJOTfPhKU9AgMBAAECgYEAgbWONCjGHAgDXvxxR48JlHZl
xdo9F4tlcOEFgQadykpZD99cYSta3lkJTSONL7hoeltcdLhuCiZKtUXyev6YIUwz
Op0vtZfL+9wArhzp5VD0i0QR2k0fOd6vsAz7mRGwbFxhzc3Vry9dl0V7pu2dcFop
zgdQXG2pu9pMwQ+l8VECQQD+CYNgf/RhrgIewlUjQ2H2Eh1Vs3/xu03xWtiNYmrT
YWP3Y7aXTEK9ApMmy1/I2cbVyGOgf/tlCeqNq+YKj2rPAkEA5IkmQAZlHWx0uxtH
JEQ9nflH4ry8Bp7fvQZ4pugZHPVBKbrIhLuxTh7RG6EQJbIaJT0KvXd7OV97Vxrx
JEdCMwJAeZML8K7LwcOI+DeAjzO8OgtJRq502LcPAia75E3pWegN82MhCx9QASyu
R66k1HaEleMk6rbVFPG98rcFjKA+OQJBAM1cPOXtmTEug1qbMXtyYtgw6BrkNCXS
4ASQ6xw4llCCRpMECCnWK4aihI9KVSM6fuoVhzAoTK+KkF/+ktBhxCcCQF3kUEBc
Wbc5sxMkSFgfo6wji1sGznJUfvaMv+RC6jodv1qIfpHVlQw/oVCls3Ze5TOFeTCs
NmgXTOKGAdo10X4=
-----END PRIVATE KEY-----


Public-Key: (1024 bit)
Modulus:
    00:e2:c8:92:0e:32:d3:db:ed:4f:68:53:d0:7e:52:
    74:58:66:e5:64:c7:01:bb:b5:20:90:b8:d3:21:46:
    48:2e:63:30:3b:64:96:79:12:af:9d:22:64:30:ee:
    d5:28:ef:09:63:99:fc:3b:0a:7b:55:20:4b:ce:2d:
    04:d7:7e:88:53:36:c5:85:6e:e0:3e:f0:91:2f:f5:
    bb:ea:02:cc:04:2f:0f:b6:94:20:58:27:d7:89:0b:
    f4:be:dd:55:9e:e2:2b:a1:f7:48:40:fc:33:a4:6a:
    f0:eb:6c:98:81:26:a9:26:72:c5:ab:e5:43:68:12:
    6b:8a:09:39:37:cf:84:a5:3d
Exponent: 65537 (0x10001)

-----BEGIN CERTIFICATE REQUEST-----
MIIBPzCBqQIBADAAMIGfMA0GCSqGSIb3DQEBAQUAA4GNADCBiQKBgQDaNvdjrsn0
oMwK9D77rhbHjwGiFj4/USXwBX0gbdqRPYLxCkKuTezrD3oMOYK9vIxAEmb5Rgh0
YP06+GSzOxyovPzrgFzSt/nH4as/Z4ve0lOz0y2oaE5N4DGBsEJcRRUjSwmO/aIT
xqeab1oiwsRdjvlXql4AJu2lKkOpt9Og5wIDAQABoAAwDQYJKoZIhvcNAQELBQAD
gYEAWpCYKkJWjPhbj3E0Gfl3pK5XBK9eJhBnTTxE/Pb5fWC572F6lrTH7imqPbsa
D4s6luC3lTbKbRx0KzuoB/6CUeQiteCPbVN7KYJD599g6+4mrqRVBw8O16ZyYRy4
2dGpK8vPjErWQP7CXx4g+lSt6yD2MFD8J7ZPy1h/aVI8rJM=
-----END CERTIFICATE REQUEST-----

Public-Key: (1024 bit)
Modulus:
    00:da:36:f7:63:ae:c9:f4:a0:cc:0a:f4:3e:fb:ae:
    16:c7:8f:01:a2:16:3e:3f:51:25:f0:05:7d:20:6d:
    da:91:3d:82:f1:0a:42:ae:4d:ec:eb:0f:7a:0c:39:
    82:bd:bc:8c:40:12:66:f9:46:08:74:60:fd:3a:f8:
    64:b3:3b:1c:a8:bc:fc:eb:80:5c:d2:b7:f9:c7:e1:
    ab:3f:67:8b:de:d2:53:b3:d3:2d:a8:68:4e:4d:e0:
    31:81:b0:42:5c:45:15:23:4b:09:8e:fd:a2:13:c6:
    a7:9a:6f:5a:22:c2:c4:5d:8e:f9:57:aa:5e:00:26:
    ed:a5:2a:43:a9:b7:d3:a0:e7
Exponent: 65537 (0x10001)

rsa
-----BEGIN PUBLIC KEY-----
MIGfMA0GCSqGSIb3DQEBAQUAA4GNADCBiQKBgQDaNvdjrsn0oMwK9D77rhbHjwGi
Fj4/USXwBX0gbdqRPYLxCkKuTezrD3oMOYK9vIxAEmb5Rgh0YP06+GSzOxyovPzr
gFzSt/nH4as/Z4ve0lOz0y2oaE5N4DGBsEJcRRUjSwmO/aITxqeab1oiwsRdjvlX
ql4AJu2lKkOpt9Og5wIDAQAB
-----END PUBLIC KEY-----

-----BEGIN CERTIFICATE REQUEST-----
MIIBPzCBqQIBADAAMIGfMA0GCSqGSIb3DQEBAQUAA4GNADCBiQKBgQDZDTO5CMJD
ir36hD0YyvjwRq04RBm/T06WG1A0Rzq7pQfoykKCohALZ6m3EgsFe1evztJ3KVFC
TwEb1WcrYB6JN4ue21kFV6M+nPtvFlEI2HoI79CamhqSaG30eXxjGqrW9f3vc7Xb
lAhfBaHb1icZyteRCkh+cxakNfHmAmZUZwIDAQABoAAwDQYJKoZIhvcNAQEMBQAD
gYEAkrGh0RFzomdFtAppiC6XuV+IHtsEQxQlT1erGk4+Os7/womQNUmX7lJ2cAMh
LRQ6oK+bbIsBHJlJxbB8jxOIcJhWjSr3ZnU4ed/vBlaiaB8/HuVCBBpn8lhkau7W
LFeE/zyOygM05XJpaBon56YJUBeOlSYtwUhRpsqfm+FbIr4=
-----END CERTIFICATE REQUEST-----

Public-Key: (1024 bit)
Modulus:
    00:d9:0d:33:b9:08:c2:43:8a:bd:fa:84:3d:18:ca:
    f8:f0:46:ad:38:44:19:bf:4f:4e:96:1b:50:34:47:
    3a:bb:a5:07:e8:ca:42:82:a2:10:0b:67:a9:b7:12:
    0b:05:7b:57:af:ce:d2:77:29:51:42:4f:01:1b:d5:
    67:2b:60:1e:89:37:8b:9e:db:59:05:57:a3:3e:9c:
    fb:6f:16:51:08:d8:7a:08:ef:d0:9a:9a:1a:92:68:
    6d:f4:79:7c:63:1a:aa:d6:f5:fd:ef:73:b5:db:94:
    08:5f:05:a1:db:d6:27:19:ca:d7:91:0a:48:7e:73:
    16:a4:35:f1:e6:02:66:54:67
Exponent: 65537 (0x10001)

rsa
-----BEGIN PUBLIC KEY-----
MIGfMA0GCSqGSIb3DQEBAQUAA4GNADCBiQKBgQDZDTO5CMJDir36hD0YyvjwRq04
RBm/T06WG1A0Rzq7pQfoykKCohALZ6m3EgsFe1evztJ3KVFCTwEb1WcrYB6JN4ue
21kFV6M+nPtvFlEI2HoI79CamhqSaG30eXxjGqrW9f3vc7XblAhfBaHb1icZyteR
Ckh+cxakNfHmAmZUZwIDAQAB
-----END PUBLIC KEY-----

-----BEGIN CERTIFICATE REQUEST-----
MIICJzCCAZACAQAwKTELMAkGA1UEBhMCUk8xDDAKBgNVBAoMA1VUSTEMMAoGA1UE
CwwDc3NpMIGfMA0GCSqGSIb3DQEBAQUAA4GNADCBiQKBgQDj26MnMgaedE/AT3B8
fFXGpHiVt2OEXGn96NK5hiKOBukAfzZdQ3Ex0WCMNP+1NxLtC4oALUt0ZrPFzvVc
dZ3OUgIj7nsNe8K3xjOIPv83XGTaIsOuwHLSEr5RLKlczMtoal+LLCFbH6M6NI0U
hXnXawPW/1NIUFY7aPtPAE/QGQIDAQABoIG9MIG6BgkqhkiG9w0BCQ4xgawwgakw
DgYDVR0PAQH/BAQDAgWgMC4GA1UdJQQnMCUGCCsGAQUFBwMBBglghkgBhvhCBAEG
CisGAQQBgjcKAwMGAisEMBwGA1UdEQQVMBOBEXN0ZXZlQG9wZW5zc2wub3JnMB0G
A1UdDgQWBBRYwzZVoenC//vZoNLZvPvolxeIoDAZBgMqAwMEEhYQTXkgbmV3IGV4
dGVuc2lvbjAPBgMqAwQECB4GAGEAYgBjMA0GCSqGSIb3DQEBCwUAA4GBAI7y/CKP
k/MKpJbLEVHGNd4Z5aHUxFCQU8x9CfXQfv5kPnnqmtWnMGkS+c4+ZJHYTEZc32bM
rrVLoFEAMtGzWDlm/DHvMk0z6+KqnHPSA3yKb49PARfNvdZlAZb9Nnc96d34nqhZ
9qtGPbRNZ7nIwMPKD8dFgxXGB2RhUXXdFMMK
-----END CERTIFICATE REQUEST-----
Public-Key: (1024 bit)
Modulus:
    00:e3:db:a3:27:32:06:9e:74:4f:c0:4f:70:7c:7c:
    55:c6:a4:78:95:b7:63:84:5c:69:fd:e8:d2:b9:86:
    22:8e:06:e9:00:7f:36:5d:43:71:31:d1:60:8c:34:
    ff:b5:37:12:ed:0b:8a:00:2d:4b:74:66:b3:c5:ce:
    f5:5c:75:9d:ce:52:02:23:ee:7b:0d:7b:c2:b7:c6:
    33:88:3e:ff:37:5c:64:da:22:c3:ae:c0:72:d2:12:
    be:51:2c:a9:5c:cc:cb:68:6a:5f:8b:2c:21:5b:1f:
    a3:3a:34:8d:14:85:79:d7:6b:03:d6:ff:53:48:50:
    56:3b:68:fb:4f:00:4f:d0:19
Exponent: 65537 (0x10001)

-----BEGIN PUBLIC KEY-----
MIGfMA0GCSqGSIb3DQEBAQUAA4GNADCBiQKBgQDj26MnMgaedE/AT3B8fFXGpHiV
t2OEXGn96NK5hiKOBukAfzZdQ3Ex0WCMNP+1NxLtC4oALUt0ZrPFzvVcdZ3OUgIj
7nsNe8K3xjOIPv83XGTaIsOuwHLSEr5RLKlczMtoal+LLCFbH6M6NI0UhXnXawPW
/1NIUFY7aPtPAE/QGQIDAQAB
-----END PUBLIC KEY-----

t/Mytest.t .............. ok
t/release-kwalitee.t .... skipped: these tests are for release candidate testing
t/release-meta-json.t ... skipped: these tests are for release candidate testing
All tests successful.
Files=9, Tests=720, 26 wallclock secs ( 0.23 usr  0.03 sys + 23.95 cusr  2.33 csys = 26.54 CPU)
Result: PASS

------------------------------
PREREQUISITES
------------------------------

Prerequisite modules loaded:

requires:

    Module                Need  Have    
    --------------------- ----- --------
    Crypt::OpenSSL::RSA   0     0.33    
    Exporter              0     5.78    
    perl                  5.008 5.041007
    XSLoader              0     0.32    

build_requires:

    Module                Need  Have    
    --------------------- ----- --------
    Crypt::OpenSSL::Guess 0.11  0.15    
    Crypt::OpenSSL::RSA   0     0.33    
    File::Slurper         0     0.014   
    File::Spec::Functions 0     3.93    
    File::Temp            0     0.2311  
    Import::Into          0     1.002005
    Test::Lib             0     0.003   
    Test::More            0     1.302207

configure_requires:

    Module                Need  Have    
    --------------------- ----- --------
    Crypt::OpenSSL::Guess 0.11  0.15    
    ExtUtils::MakeMaker   0     7.70    


------------------------------
ENVIRONMENT AND OTHER CONTEXT
------------------------------

Environment variables:

    LANG = C
    PATH = /usr/local/bin:/usr/bin:/bin:/usr/local/sbin:/usr/sbin:/sbin:/home/cpansand/bin/linux-gnu:/home/cpansand/bin/sh:/home/cpansand/bin:/usr/games:/home/cpansand/devel:/home/eserte/src/srezic-misc/scripts
    PERL5LIB = 
    PERL5OPT = 
    PERL5_CPANPLUS_IS_RUNNING = 2352883
    PERL5_CPAN_IS_RUNNING = 2352883
    PERL5_CPAN_IS_RUNNING_IN_RECURSION = 2335250,2352883
    PERLDOC = -MPod::Perldoc::ToTextOverstrike
    PERL_BATCH = yes
    PERL_CANARY_STABILITY_NOPROMPT = 1
    PERL_CPAN_REPORTER_CONFIG = /var/tmp/cpansmoker-1023/2025011919/cpanreporter_000_config.ini
    PERL_EXTUTILS_AUTOINSTALL = --defaultdeps
    PERL_USE_UNSAFE_INC = 1
    SHELL = /usr/bin/zsh
    TERM = screen
    TMPDIR = /var/tmp/cpansmoker-1023/2025011919

Perl special variables (and OS-specific diagnostics, for MSWin32):

    $^X = /opt/perl-5.41.7/bin/perl5.41.7
    $UID/$EUID = 1023 / 1023
    $GID = 1023 1023
    $EGID = 1023 1023

Perl module toolchain versions installed:

    Module              Have    
    ------------------- --------
    CPAN                2.38    
    CPAN::Meta          2.150010
    Cwd                 3.92    
    ExtUtils::CBuilder  0.280240
    ExtUtils::Command   7.70    
    ExtUtils::Install   2.22    
    ExtUtils::MakeMaker 7.70    
    ExtUtils::Manifest  1.75    
    ExtUtils::ParseXS   3.56    
    File::Spec          3.93    
    JSON                4.10    
    JSON::PP            4.16    
    Module::Build       0.4234  
    Module::Signature   n/a     
    Parse::CPAN::Meta   2.150010
    Test2               1.302207
    Test::Harness       3.50    
    Test::More          1.302207
    YAML                1.31    
    YAML::Syck          1.34    
    version             0.9933  


--

Summary of my perl5 (revision 5 version 41 subversion 7) configuration:
   
  Platform:
    osname=linux
    osvers=6.1.0-28-amd64
    archname=x86_64-linux
    uname='linux cloud5.bbbike.org 6.1.0-28-amd64 #1 smp preempt_dynamic debian 6.1.119-1 (2024-11-22) x86_64 gnulinux '
    config_args='-ds -e -Dprefix=/opt/perl-5.41.7 -Uinstallusrbinperl -Dusedevel -Dusemallocwrap=no -Dcf_email=srezic@cpan.org'
    hint=recommended
    useposix=true
    d_sigaction=define
    useithreads=undef
    usemultiplicity=undef
    use64bitint=define
    use64bitall=define
    uselongdouble=undef
    usemymalloc=n
    default_inc_excludes_dot=define
  Compiler:
    cc='cc'
    ccflags ='-fwrapv -fno-strict-aliasing -pipe -fstack-protector-strong -I/usr/local/include -D_LARGEFILE_SOURCE -D_FILE_OFFSET_BITS=64 -D_FORTIFY_SOURCE=2'
    optimize='-O2'
    cppflags='-fwrapv -fno-strict-aliasing -pipe -fstack-protector-strong -I/usr/local/include'
    ccversion=''
    gccversion='12.2.0'
    gccosandvers=''
    intsize=4
    longsize=8
    ptrsize=8
    doublesize=8
    byteorder=12345678
    doublekind=3
    d_longlong=define
    longlongsize=8
    d_longdbl=define
    longdblsize=16
    longdblkind=3
    ivtype='long'
    ivsize=8
    nvtype='double'
    nvsize=8
    Off_t='off_t'
    lseeksize=8
    alignbytes=8
    prototype=define
  Linker and Libraries:
    ld='cc'
    ldflags =' -fstack-protector-strong -L/usr/local/lib'
    libpth=/usr/local/lib /usr/lib/x86_64-linux-gnu /usr/lib /usr/lib64
    libs=-lpthread -lgdbm -ldb -ldl -lm -lcrypt -lutil -lc
    perllibs=-lpthread -ldl -lm -lcrypt -lutil -lc
    libc=/lib/x86_64-linux-gnu/libc.so.6
    so=so
    useshrplib=false
    libperl=libperl.a
    gnulibc_version='2.36'
  Dynamic Linking:
    dlsrc=dl_dlopen.xs
    dlext=so
    d_dlsymun=undef
    ccdlflags='-Wl,-E'
    cccdlflags='-fPIC'
    lddlflags='-shared -O2 -L/usr/local/lib -fstack-protector-strong'


Characteristics of this binary (from libperl): 
  Compile-time options:
    HAS_LONG_DOUBLE
    HAS_STRTOLD
    HAS_TIMES
    PERLIO_LAYERS
    PERL_COPY_ON_WRITE
    PERL_DONT_CREATE_GVSV
    PERL_HASH_FUNC_SIPHASH13
    PERL_HASH_USE_SBOX32
    PERL_OP_PARENT
    PERL_PRESERVE_IVUV
    PERL_USE_DEVEL
    PERL_USE_SAFE_PUTENV
    USE_64_BIT_ALL
    USE_64_BIT_INT
    USE_LARGE_FILES
    USE_LOCALE
    USE_LOCALE_COLLATE
    USE_LOCALE_CTYPE
    USE_LOCALE_NUMERIC
    USE_LOCALE_TIME
    USE_PERLIO
    USE_PERL_ATOF
  Built under linux
  Compiled at Dec 22 2024 14:35:42
  %ENV:
    PERL5LIB=""
    PERL5OPT=""
    PERL5_CPANPLUS_IS_RUNNING="2352883"
    PERL5_CPAN_IS_RUNNING="2352883"
    PERL5_CPAN_IS_RUNNING_IN_RECURSION="2335250,2352883"
    PERLDOC="-MPod::Perldoc::ToTextOverstrike"
    PERL_BATCH="yes"
    PERL_CANARY_STABILITY_NOPROMPT="1"
    PERL_CPAN_REPORTER_CONFIG="/var/tmp/cpansmoker-1023/2025011919/cpanreporter_000_config.ini"
    PERL_EXTUTILS_AUTOINSTALL="--defaultdeps"
    PERL_USE_UNSAFE_INC="1"
  @INC:
    /opt/perl-5.41.7/lib/site_perl/5.41.7/x86_64-linux
    /opt/perl-5.41.7/lib/site_perl/5.41.7
    /opt/perl-5.41.7/lib/5.41.7/x86_64-linux
    /opt/perl-5.41.7/lib/5.41.7
    .