Report for DBIx-Class-Schema-Versioned-Inline-0.204

Back
From: metabase:user:320bfe00-2aae-11df-837a-5e0a49663a4f
Subject: PASS DBIx-Class-Schema-Versioned-Inline-0.204 v5.16.3 GNU/Linux
Date: 2015-05-28T17:34:52Z

This distribution has been tested as part of the CPAN Testers
project, supporting the Perl programming language.  See
http://wiki.cpantesters.org/ for more information or email
questions to cpan-testers-discuss@perl.org


--
Dear Peter Mottram,

This is a computer-generated report for DBIx-Class-Schema-Versioned-Inline-0.204
on perl 5.16.3, created by CPAN-Reporter-1.2014.

Thank you for uploading your work to CPAN.  Congratulations!
All tests were successful.

Sections of this report:

    * Tester comments
    * Program output
    * Prerequisites
    * Environment and other context

------------------------------
TESTER COMMENTS
------------------------------

Additional comments from tester:

this report is from an automated smoke testing program
and was not reviewed by a human for accuracy

------------------------------
PROGRAM OUTPUT
------------------------------

Output from '/usr/bin/make test':

PERL_DL_NONLAZY=1 "/home/sand/src/perl/repoperls/installed-perls/perl/v5.16.3/127e/bin/perl" "-MExtUtils::Command::MM" "-MTest::Harness" "-e" "undef *Test::Harness::Switches; test_harness(0, 'blib/lib', 'blib/arch')" t/*.t
# Testing DBIx::Class::Schema::Versioned::Inline 0.204, Perl 5.016003, /home/sand/src/perl/repoperls/installed-perls/perl/v5.16.3/127e/bin/perl
t/00-load.t ........... ok
# with Test::Deploy Test::Upgrade
t/candy_mysql.t ....... skipped: Test::mysqld required
# with Test::Deploy Test::Upgrade
t/candy_postgresql.t .. skipped: DBD::Pg required
# with Test::Deploy Test::Upgrade
    # using: DBD::SQLite 1.46 DBIC 0.082820 SQLT 0.11021
    # db: SQLite library version: 3.8.7.2
        # Test::Deploy with TestCandy::Schema
        # Test::Upgrade with TestCandy::Schema
SQL::Translator::Parser::DBIx::Class::parse(): Ignoring relationship 'trees' on 'Bar' - related resultsource 'TestCandy::Schema::Result::Tree' is not registered with this schema
SQL::Translator::Parser::DBIx::Class::parse(): Ignoring relationship 'trees' on 'Bar' - related resultsource 'TestCandy::Schema::Result::Tree' is not registered with this schema
t/candy_sqlite.t ...... ok
t/manifest.t .......... skipped: Author tests not required for installation
t/pod-coverage.t ...... skipped: Author tests not required for installation
t/pod.t ............... skipped: Author tests not required for installation
# with Test::Deploy Test::Upgrade
t/test_mysql.t ........ skipped: Test::mysqld required
# with Test::Deploy Test::Upgrade
t/test_postgresql.t ... skipped: DBD::Pg required
# with Test::Deploy Test::Upgrade
    # using: DBD::SQLite 1.46 DBIC 0.082820 SQLT 0.11021
    # db: SQLite library version: 3.8.7.2
        # Test::Deploy with TestVersion::Schema
        # Test::Upgrade with TestVersion::Schema
SQL::Translator::Parser::DBIx::Class::parse(): Ignoring relationship 'trees' on 'Bar' - related resultsource 'TestVersion::Schema::Result::Tree' is not registered with this schema
SQL::Translator::Parser::DBIx::Class::parse(): Ignoring relationship 'trees' on 'Bar' - related resultsource 'TestVersion::Schema::Result::Tree' is not registered with this schema
t/test_sqlite.t ....... ok
All tests successful.
Files=10, Tests=3, 15 wallclock secs ( 0.07 usr  0.07 sys +  5.15 cusr  0.68 csys =  5.97 CPU)
Result: PASS

------------------------------
PREREQUISITES
------------------------------

Prerequisite modules loaded:

requires:

    Module                      Need     Have    
    --------------------------- -------- --------
    DBIx::Class                 0.082820 0.082820
    perl                        5.006    5.016003
    Safe::Isa                   0        1.000005
    Set::Equivalence            0.003    0.003   
    SQL::Translator             0.11018  0.11021 
    Try::Tiny                   0.18     0.22    
    Types::PerlVersion          0.002    0.002   

build_requires:

    Module                      Need     Have    
    --------------------------- -------- --------
    Class::Load                 0        0.22    
    DBD::SQLite                 1.40     1.46    
    DBIx::Class::Schema::Loader 0.07040  0.07043 
    File::Spec                  3.47     3.47    
    Test::Deep                  0        0.115   
    Test::Exception             0        0.38    
    Test::Roo                   1.003    1.004   

configure_requires:

    Module                      Need     Have    
    --------------------------- -------- --------
    DBIx::Class                 0.082820 0.082820
    ExtUtils::MakeMaker         0        7.04    


------------------------------
ENVIRONMENT AND OTHER CONTEXT
------------------------------

Environment variables:

    AUTOMATED_TESTING = 1
    LANG = en_US.UTF-8
    LANGUAGE = en_US:en
    PATH = /home/sand/bin:/usr/local/bin:/usr/bin:/bin:/usr/games:/usr/local/perl/bin:/usr/X11/bin:/sbin:/usr/sbin
    PERL5LIB = 
    PERL5OPT = 
    PERL5_CPANPLUS_IS_RUNNING = 15120
    PERL5_CPAN_IS_RUNNING = 15120
    PERL_MM_USE_DEFAULT = 1
    SHELL = /usr/bin/zsh
    TERM = screen

Perl special variables (and OS-specific diagnostics, for MSWin32):

    $^X = /home/sand/src/perl/repoperls/installed-perls/perl/v5.16.3/127e/bin/perl
    $UID/$EUID = 1005 / 1005
    $GID = 1005 1005
    $EGID = 1005 1005

Perl module toolchain versions installed:

    Module              Have    
    ------------------- --------
    CPAN                2.10    
    CPAN::Meta          2.150004
    Cwd                 3.47    
    ExtUtils::CBuilder  0.280220
    ExtUtils::Command   1.17    
    ExtUtils::Install   1.58    
    ExtUtils::MakeMaker 7.04    
    ExtUtils::Manifest  1.70    
    ExtUtils::ParseXS   3.24    
    File::Spec          3.47    
    JSON                2.90    
    JSON::PP            2.27203 
    Module::Build       0.4211  
    Module::Signature   0.79    
    Parse::CPAN::Meta   1.4416  
    Test::Harness       3.35    
    Test::More          1.001014
    YAML                1.15    
    YAML::Syck          1.29    
    version             0.9912  


--

Summary of my perl5 (revision 5 version 16 subversion 3) configuration:
  Commit id: fd04d42d38f4751b981eb6e9213ee1ab8ef11ea6
  Platform:
    osname=linux, osvers=4.0.0-1-amd64, archname=x86_64-linux-ld
    uname='linux k83 4.0.0-1-amd64 #1 smp debian 4.0.2-1 (2015-05-11) x86_64 gnulinux '
    config_args='-Dprefix=/home/sand/src/perl/repoperls/installed-perls/perl/v5.16.3/127e -Dmyhostname=k83 -Dinstallusrbinperl=n -Uversiononly -Dusedevel -des -Ui_db -Uuseithreads -Duselongdouble -DDEBUGGING=-g'
    hint=recommended, useposix=true, d_sigaction=define
    useithreads=undef, usemultiplicity=undef
    useperlio=define, d_sfio=undef, uselargefiles=define, usesocks=undef
    use64bitint=define, use64bitall=define, uselongdouble=define
    usemymalloc=n, bincompat5005=undef
  Compiler:
    cc='cc', ccflags ='-fno-strict-aliasing -pipe -fstack-protector -I/usr/local/include -D_LARGEFILE_SOURCE -D_FILE_OFFSET_BITS=64',
    optimize='-O2 -g',
    cppflags='-fno-strict-aliasing -pipe -fstack-protector -I/usr/local/include'
    ccversion='', gccversion='4.9.2', gccosandvers=''
    intsize=4, longsize=8, ptrsize=8, doublesize=8, byteorder=12345678
    d_longlong=define, longlongsize=8, d_longdbl=define, longdblsize=16
    ivtype='long', ivsize=8, nvtype='long double', nvsize=16, Off_t='off_t', lseeksize=8
    alignbytes=16, prototype=define
  Linker and Libraries:
    ld='cc', ldflags =' -fstack-protector -L/usr/local/lib'
    libpth=/usr/local/lib /lib/x86_64-linux-gnu /lib/../lib /usr/lib/x86_64-linux-gnu /usr/lib/../lib /lib /usr/lib
    libs=-lnsl -lgdbm -ldb -ldl -lm -lcrypt -lutil -lc -lgdbm_compat
    perllibs=-lnsl -ldl -lm -lcrypt -lutil -lc
    libc=, so=so, useshrplib=false, libperl=libperl.a
    gnulibc_version='2.19'
  Dynamic Linking:
    dlsrc=dl_dlopen.xs, dlext=so, d_dlsymun=undef, ccdlflags='-Wl,-E'
    cccdlflags='-fPIC', lddlflags='-shared -O2 -g -L/usr/local/lib -fstack-protector'


Characteristics of this binary (from libperl): 
  Compile-time options: HAS_TIMES PERLIO_LAYERS PERL_DONT_CREATE_GVSV
                        PERL_MALLOC_WRAP PERL_PRESERVE_IVUV PERL_USE_DEVEL
                        USE_64_BIT_ALL USE_64_BIT_INT USE_LARGE_FILES
                        USE_LOCALE USE_LOCALE_COLLATE USE_LOCALE_CTYPE
                        USE_LOCALE_NUMERIC USE_LONG_DOUBLE USE_PERLIO
                        USE_PERL_ATOF
  Built under linux
  Compiled at May 13 2015 19:21:19
  %ENV:
    PERL5LIB=""
    PERL5OPT=""
    PERL5_CPANPLUS_IS_RUNNING="15120"
    PERL5_CPAN_IS_RUNNING="15120"
    PERL_MM_USE_DEFAULT="1"
  @INC:
    /home/sand/src/perl/repoperls/installed-perls/perl/v5.16.3/127e/lib/site_perl/5.16.3/x86_64-linux-ld
    /home/sand/src/perl/repoperls/installed-perls/perl/v5.16.3/127e/lib/site_perl/5.16.3
    /home/sand/src/perl/repoperls/installed-perls/perl/v5.16.3/127e/lib/5.16.3/x86_64-linux-ld
    /home/sand/src/perl/repoperls/installed-perls/perl/v5.16.3/127e/lib/5.16.3
    .