Back
From: metabase:user:320bfe00-2aae-11df-837a-5e0a49663a4f
Subject: PASS SWISH-Prog-0.75 v5.18.1 GNU/Linux
Date: 2014-09-15T17:36:39Z
This distribution has been tested as part of the CPAN Testers
project, supporting the Perl programming language. See
http://wiki.cpantesters.org/ for more information or email
questions to cpan-testers-discuss@perl.org
--
Dear Peter Karman,
This is a computer-generated report for SWISH-Prog-0.75
on perl 5.18.1, created by CPAN-Reporter-1.2011.
Thank you for uploading your work to CPAN. Congratulations!
All tests were successful.
Sections of this report:
* Tester comments
* Program output
* Prerequisites
* Environment and other context
------------------------------
TESTER COMMENTS
------------------------------
Additional comments from tester:
this report is from an automated smoke testing program
and was not reviewed by a human for accuracy
------------------------------
PROGRAM OUTPUT
------------------------------
Output from '/usr/bin/make test':
PERL_DL_NONLAZY=1 /home/sand/src/perl/repoperls/installed-perls/perl/v5.18.1/165a/bin/perl "-MExtUtils::Command::MM" "-MTest::Harness" "-e" "undef *Test::Harness::Switches; test_harness(0, 'inc', 'blib/lib', 'blib/arch')" t/*.t
# testing SWISH::Prog version 0.75
Can't exec "swish-e": No such file or directory at /tmp/loop_over_bdir-17725-bAS0o0/SWISH-Prog-0.75-MQPVoO/blib/lib/SWISH/Prog/Native/Indexer.pm line 120.
t/00_synopsis.t ........... ok
Can't exec "swish-e": No such file or directory at /tmp/loop_over_bdir-17725-bAS0o0/SWISH-Prog-0.75-MQPVoO/blib/lib/SWISH/Prog/Native/Indexer.pm line 120.
t/01_fs.t ................. ok
# install Rose::DBx::TestDB to test the DBI aggregator
t/02_dbi.t ................ ok
Can't exec "swish-e": No such file or directory at /tmp/loop_over_bdir-17725-bAS0o0/SWISH-Prog-0.75-MQPVoO/blib/lib/SWISH/Prog/Native/Indexer.pm line 120.
t/03_object.t ............. ok
# install Mail::Box to test Mail aggregator
t/04_mail.t ............... ok
# set TEST_SPIDER env var to test the spider
t/05_spider.t ............. ok
t/06_config.t ............. ok
t/08_meta.t ............... ok
t/10_config.t ............. ok
Can't exec "swish-e": No such file or directory at /tmp/loop_over_bdir-17725-bAS0o0/SWISH-Prog-0.75-MQPVoO/blib/lib/SWISH/Prog/Native/Indexer.pm line 120.
t/11-leak-test.t .......... ok
Can't exec "swish-e": No such file or directory at /tmp/loop_over_bdir-17725-bAS0o0/SWISH-Prog-0.75-MQPVoO/blib/lib/SWISH/Prog/Native/Indexer.pm line 120.
t/12-merge.t .............. ok
# install Mail::Box to test MailFS aggregator
t/13_mail_fs.t ............ ok
Can't exec "swish-e": No such file or directory at /tmp/loop_over_bdir-17725-bAS0o0/SWISH-Prog-0.75-MQPVoO/blib/lib/SWISH/Prog/Native/Indexer.pm line 120.
t/14-search.t ............. ok
Can't exec "swish-e": No such file or directory at /tmp/loop_over_bdir-17725-bAS0o0/SWISH-Prog-0.75-MQPVoO/blib/lib/SWISH/Prog/Native/Indexer.pm line 120.
t/15-index-file-config.t .. ok
t/16-replace-rules.t ...... ok
t/17-spider-server.t ...... ok
t/18-utils.t .............. ok
t/pod-coverage.t .......... skipped: set RELEASE_TESTING to test POD
t/pod.t ................... skipped: set RELEASE_TESTING to test POD
All tests successful.
Files=19, Tests=185, 4 wallclock secs ( 0.09 usr 0.01 sys + 2.76 cusr 0.39 csys = 3.25 CPU)
Result: PASS
------------------------------
PREREQUISITES
------------------------------
Prerequisite modules loaded:
requires:
Module Need Have
------------------- -------- --------
Config::General 2.31 2.56
Data::Dump 0 1.22
File::Basename 0 2.84
File::Rules 0.02 0.02
File::Slurp 0 9999.19
File::Temp 0 0.2304
MIME::Types 0 2.09
Path::Class 0 0.35
perl 5.008003 5.018001
Rose::DateTime 0 0.540
Rose::ObjectX::CAF 0 0.03
Scalar::Util 0 1.41
Search::Query 0.17 0.304
Search::Tools 0.82 1.002
SWISH::3 1.000005 1.000013
SWISH::Filter 0.15 0.190
Test::More 0 1.001006
Time::HiRes 0 1.9725
XML::Simple 0 2.20
build_requires:
Module Need Have
------------------- -------- --------
ExtUtils::MakeMaker 6.59 6.98
configure_requires:
Module Need Have
------------------- -------- --------
ExtUtils::MakeMaker 6.59 6.98
------------------------------
ENVIRONMENT AND OTHER CONTEXT
------------------------------
Environment variables:
AUTOMATED_TESTING = 1
LANG = en_US.UTF-8
LANGUAGE = en_US:en
PATH = /usr/lib/ccache:/home/sand/bin:/usr/local/bin:/usr/bin:/bin:/usr/games:/usr/local/perl/bin:/usr/X11/bin:/sbin:/usr/sbin
PERL5LIB =
PERL5OPT =
PERL5_CPANPLUS_IS_RUNNING = 17726
PERL5_CPAN_IS_RUNNING = 17726
PERL_MM_USE_DEFAULT = 1
SHELL = /usr/bin/zsh
TERM = screen
Perl special variables (and OS-specific diagnostics, for MSWin32):
$^X = /home/sand/src/perl/repoperls/installed-perls/perl/v5.18.1/165a/bin/perl
$UID/$EUID = 1005 / 1005
$GID = 1005 1005
$EGID = 1005 1005
Perl module toolchain versions installed:
Module Have
------------------- --------
CPAN 2.05
CPAN::Meta 2.142060
Cwd 3.47
ExtUtils::CBuilder 0.280219
ExtUtils::Command 1.17
ExtUtils::Install 1.59
ExtUtils::MakeMaker 6.98
ExtUtils::Manifest 1.63
ExtUtils::ParseXS 3.24
File::Spec 3.47
JSON 2.90
JSON::PP 2.27203
Module::Build 0.4210
Module::Signature 0.73
Parse::CPAN::Meta 1.4414
Test::Harness 3.33
Test::More 1.001006
YAML 1.11
YAML::Syck 1.27
version 0.9902
--
Summary of my perl5 (revision 5 version 18 subversion 1) configuration:
Commit id: 75c3005ee5b6ece3ad3c827cb300945f672c2bd1
Platform:
osname=linux, osvers=3.16-1-amd64, archname=x86_64-linux
uname='linux k83 3.16-1-amd64 #1 smp debian 3.16.2-2 (2014-09-08) x86_64 gnulinux '
config_args='-Dprefix=/home/sand/src/perl/repoperls/installed-perls/perl/v5.18.1/165a -Dmyhostname=k83 -Dinstallusrbinperl=n -Uversiononly -Dusedevel -des -Ui_db -Uuseithreads -Uuselongdouble -DDEBUGGING=-g'
hint=recommended, useposix=true, d_sigaction=define
useithreads=undef, usemultiplicity=undef
useperlio=define, d_sfio=undef, uselargefiles=define, usesocks=undef
use64bitint=define, use64bitall=define, uselongdouble=undef
usemymalloc=n, bincompat5005=undef
Compiler:
cc='cc', ccflags ='-fno-strict-aliasing -pipe -fstack-protector -I/usr/local/include -D_LARGEFILE_SOURCE -D_FILE_OFFSET_BITS=64',
optimize='-O2 -g',
cppflags='-fno-strict-aliasing -pipe -fstack-protector -I/usr/local/include'
ccversion='', gccversion='4.9.1', gccosandvers=''
intsize=4, longsize=8, ptrsize=8, doublesize=8, byteorder=12345678
d_longlong=define, longlongsize=8, d_longdbl=define, longdblsize=16
ivtype='long', ivsize=8, nvtype='double', nvsize=8, Off_t='off_t', lseeksize=8
alignbytes=8, prototype=define
Linker and Libraries:
ld='cc', ldflags =' -fstack-protector -L/usr/local/lib'
libpth=/usr/local/lib /lib/x86_64-linux-gnu /lib/../lib /usr/lib/x86_64-linux-gnu /usr/lib/../lib /lib /usr/lib
libs=-lnsl -lgdbm -ldb -ldl -lm -lcrypt -lutil -lc -lgdbm_compat
perllibs=-lnsl -ldl -lm -lcrypt -lutil -lc
libc=, so=so, useshrplib=false, libperl=libperl.a
gnulibc_version='2.19'
Dynamic Linking:
dlsrc=dl_dlopen.xs, dlext=so, d_dlsymun=undef, ccdlflags='-Wl,-E'
cccdlflags='-fPIC', lddlflags='-shared -O2 -g -L/usr/local/lib -fstack-protector'
Characteristics of this binary (from libperl):
Compile-time options: HAS_TIMES PERLIO_LAYERS PERL_DONT_CREATE_GVSV
PERL_HASH_FUNC_ONE_AT_A_TIME_HARD PERL_MALLOC_WRAP
PERL_PRESERVE_IVUV PERL_SAWAMPERSAND PERL_USE_DEVEL
USE_64_BIT_ALL USE_64_BIT_INT USE_LARGE_FILES
USE_LOCALE USE_LOCALE_COLLATE USE_LOCALE_CTYPE
USE_LOCALE_NUMERIC USE_PERLIO USE_PERL_ATOF
Built under linux
Compiled at Sep 14 2014 21:37:35
%ENV:
PERL5LIB=""
PERL5OPT=""
PERL5_CPANPLUS_IS_RUNNING="17726"
PERL5_CPAN_IS_RUNNING="17726"
PERL_MM_USE_DEFAULT="1"
@INC:
/home/sand/src/perl/repoperls/installed-perls/perl/v5.18.1/165a/lib/site_perl/5.18.1/x86_64-linux
/home/sand/src/perl/repoperls/installed-perls/perl/v5.18.1/165a/lib/site_perl/5.18.1
/home/sand/src/perl/repoperls/installed-perls/perl/v5.18.1/165a/lib/5.18.1/x86_64-linux
/home/sand/src/perl/repoperls/installed-perls/perl/v5.18.1/165a/lib/5.18.1
.