App-dupfind v0.172690 Perl 5 v5.26.0 x86_64-linux-thread-multi

Status
Pass
From
Serguei Trouchelle (STRO)
Dist
App-dupfind v0.172690
Platform
Perl 5 v5.26.0 x86_64-linux-thread-multi
Date
2017-09-27 22:11:45
ID
d92c1186-a3d0-11e7-ba7c-a9d16bd455be
This distribution has been tested as part of the CPAN Testers
project, supporting the Perl programming language.  See
http://wiki.cpantesters.org/ for more information or email
questions to cpan-testers-discuss@perl.org


--
Dear Tommy Butler,

This is a computer-generated report for App-dupfind-0.172690
on perl 5.26.0, created by CPAN-Reporter-1.2018.

Thank you for uploading your work to CPAN.  Congratulations!
All tests were successful.

Sections of this report:

    * Tester comments
    * Program output
    * Prerequisites
    * Environment and other context

------------------------------
TESTER COMMENTS
------------------------------

Additional comments from tester:

this report is from an automated smoke testing program
and was not reviewed by a human for accuracy

------------------------------
PROGRAM OUTPUT
------------------------------

Output from '/usr/bin/make test':

PERL_DL_NONLAZY=1 "/home/stro/perl/5.26.0t/bin/perl" "-MExtUtils::Command::MM" "-MTest::Harness" "-e" "undef *Test::Harness::Switches; test_harness(0, 'blib/lib', 'blib/arch')" t/*.t
t/00-compile.t ................ ok
# 
# threads: Can't locate object method "tid" via package "threads" at /home/stro/perl/5.26.0t/lib/site_perl/5.26.0/Test2/Util.pm line 137.
# Compilation failed in require at (eval 74) line 1.
# 
# Generated by Dist::Zilla::Plugin::ReportVersions::Tiny v1.10
# perl: 5.026000 (wanted 5.010) on linux from /home/stro/perl/5.26.0t/bin/perl
# 
# Benchmark                                     => 1.22       (want any version)
# Digest::xxHash                                => 2.03       (want 2.03)   
# ExtUtils::MakeMaker                           => 7.24       (want 6.30)   
# File::Spec                                    => 3.67       (want any version)
# File::Temp                                    => 0.2304     (want any version)
# File::Util                                    => 4.161950   (want any version)
# Getopt::Long                                  => 2.49       (want any version)
# IO::Handle                                    => 1.36       (want any version)
# IPC::Open3                                    => 1.20       (want any version)
# Module::Build                                 => 0.4224     (want 0.3601) 
# Moo                                           => 2.003002   (want any version)
# Moo::Role                                     => 2.003002   (want any version)
# Pod::Usage                                    => 1.69       (want any version)
# Storable                                      => 2.62       (want any version)
# Term::ProgressBar                             => 2.21       (want any version)
# Term::Prompt                                  => 1.04       (want any version)
# Test                                          => 1.30       (want any version)
# Test::More                                    => 1.302096   (want 0.88)   
# Test::NoWarnings                              => 1.04       (want any version)
# Thread::Queue                                 => 3.12       (want any version)
# Time::HiRes                                   => 1.9741     (want any version)
# Try::Tiny                                     => 0.28       (want any version)
# lib                                           => 0.64       (want any version)
# strict                                        => 1.11       (want any version)
# threads                                       => died during require. (want any version)
# threads::shared                               => 1.56       (want any version)
# warnings                                      => 1.37       (want any version)
# 
# Thanks for using my code.  I hope it works for you.
# If not, please try and include this output in the bug report.
# That will help me reproduce the issue and solve your problem.
# 
t/000-report-versions-tiny.t .. ok
t/001_canuseit.t .............. ok
t/002_isa.t ................... ok
t/003_can.t ................... ok
t/004_scanfs.t ................ ok
t/005_prune.t ................. ok
t/006_weed.t .................. ok
t/007_digest.t ................ ok
t/008_output_robot.t .......... ok
t/009_output_human.t .......... ok
All tests successful.
Files=11, Tests=79,  3 wallclock secs ( 0.03 usr  0.01 sys +  1.80 cusr  0.08 csys =  1.92 CPU)
Result: PASS

------------------------------
PREREQUISITES
------------------------------

Prerequisite modules loaded:

requires:

    Module              Need   Have    
    ------------------- ------ --------
    Benchmark           0      1.22    
    Digest::xxHash      2.03   2.03    
    File::Util          0      4.161950
    Getopt::Long        0      2.49    
    lib                 0      0.64    
    Moo                 0      2.003002
    Moo::Role           0      2.003002
    Pod::Usage          0      1.69    
    strict              0      1.11    
    Term::ProgressBar   0      2.21    
    Term::Prompt        0      1.04    
    Thread::Queue       0      3.12    
    threads             0      2.15    
    threads::shared     0      1.56    
    Time::HiRes         0      1.9741  
    warnings            0      1.37    

build_requires:

    Module              Need   Have    
    ------------------- ------ --------
    Benchmark           0      1.22    
    Digest::xxHash      2.03   2.03    
    ExtUtils::MakeMaker 0      7.24    
    File::Spec          0      3.67    
    File::Temp          0      0.2304  
    File::Util          0      4.161950
    Getopt::Long        0      2.49    
    IO::Handle          0      1.36    
    IPC::Open3          0      1.20    
    Module::Build       0.3601 0.4224  
    Moo                 0      2.003002
    Moo::Role           0      2.003002
    Pod::Usage          0      1.69    
    Storable            0      2.62    
    Test                0      1.30    
    Test::More          0.88   1.302096
    Test::NoWarnings    0      1.04    
    Thread::Queue       0      3.12    
  ! threads             0      broken  
    threads::shared     0      1.56    
    Time::HiRes         0      1.9741  
    Try::Tiny           0      0.28    

configure_requires:

    Module              Need   Have    
    ------------------- ------ --------
    ExtUtils::MakeMaker 6.30   7.24    
    Module::Build       0.3601 0.4224  


------------------------------
ENVIRONMENT AND OTHER CONTEXT
------------------------------

Environment variables:

    AUTOMATED_TESTING = 1
    LANG = en_US.UTF-8
    PATH = /usr/local/bin:/usr/bin:/bin:/usr/local/games:/usr/games
    PERL5LIB = 
    PERL5OPT = 
    PERL5_CPANPLUS_IS_RUNNING = 11283
    PERL5_CPAN_IS_RUNNING = 11283
    PERL5_CPAN_IS_RUNNING_IN_RECURSION = 9594,11283
    PERL_CR_SMOKER_CURRENT = App-dupfind-0.172690
    PERL_EXTUTILS_AUTOINSTALL = --defaultdeps
    PERL_MM_USE_DEFAULT = 1
    PERL_USE_UNSAFE_INC = 1
    SHELL = /bin/bash
    TERM = xterm-256color

Perl special variables (and OS-specific diagnostics, for MSWin32):

    $^X = /home/stro/perl/5.26.0t/bin/perl
    $UID/$EUID = 1000 / 1000
    $GID = 1000 24 25 29 30 44 46 108 114 1000
    $EGID = 1000 24 25 29 30 44 46 108 114 1000

Perl module toolchain versions installed:

    Module              Have      
    ------------------- ----------
    CPAN                2.18      
    CPAN::Meta          2.150010  
    Cwd                 3.67      
    ExtUtils::CBuilder  0.280226  
    ExtUtils::Command   7.24      
    ExtUtils::Install   2.04      
    ExtUtils::MakeMaker 7.24      
    ExtUtils::Manifest  1.70      
    ExtUtils::ParseXS   3.34      
    File::Spec          3.67      
    JSON                2.94      
    JSON::PP            2.27400_02
    Module::Build       0.4224    
    Module::Signature   0.81      
    Parse::CPAN::Meta   2.150010  
    Test::Harness       3.38      
    Test::More          1.302096  
    YAML                1.23      
    YAML::Syck          1.30      
    version             0.9917    


--

Summary of my perl5 (revision 5 version 26 subversion 0) configuration:
   
  Platform:
    osname=linux
    osvers=3.16.0-4-amd64
    archname=x86_64-linux-thread-multi
    uname='linux vm-debian-001 3.16.0-4-amd64 #1 smp debian 3.16.7-ckt11-1 (2015-05-24) x86_64 gnulinux '
    config_args=''
    hint=recommended
    useposix=true
    d_sigaction=define
    useithreads=define
    usemultiplicity=define
    use64bitint=define
    use64bitall=define
    uselongdouble=undef
    usemymalloc=n
    default_inc_excludes_dot=define
    bincompat5005=undef
  Compiler:
    cc='cc'
    ccflags ='-D_REENTRANT -D_GNU_SOURCE -fwrapv -fno-strict-aliasing -pipe -fstack-protector-strong -I/usr/local/include -D_LARGEFILE_SOURCE -D_FILE_OFFSET_BITS=64 -D_FORTIFY_SOURCE=2'
    optimize='-O2'
    cppflags='-D_REENTRANT -D_GNU_SOURCE -fwrapv -fno-strict-aliasing -pipe -fstack-protector-strong -I/usr/local/include'
    ccversion=''
    gccversion='4.9.2'
    gccosandvers=''
    intsize=4
    longsize=8
    ptrsize=8
    doublesize=8
    byteorder=12345678
    doublekind=3
    d_longlong=define
    longlongsize=8
    d_longdbl=define
    longdblsize=16
    longdblkind=3
    ivtype='long'
    ivsize=8
    nvtype='double'
    nvsize=8
    Off_t='off_t'
    lseeksize=8
    alignbytes=8
    prototype=define
  Linker and Libraries:
    ld='cc'
    ldflags =' -fstack-protector-strong -L/usr/local/lib'
    libpth=/usr/local/lib /usr/lib/gcc/x86_64-linux-gnu/4.9/include-fixed /usr/include/x86_64-linux-gnu /usr/lib /lib/x86_64-linux-gnu /lib/../lib /usr/lib/x86_64-linux-gnu /usr/lib/../lib /lib
    libs=-lpthread -lnsl -ldl -lm -lcrypt -lutil -lc
    perllibs=-lpthread -lnsl -ldl -lm -lcrypt -lutil -lc
    libc=libc-2.19.so
    so=so
    useshrplib=false
    libperl=libperl.a
    gnulibc_version='2.19'
  Dynamic Linking:
    dlsrc=dl_dlopen.xs
    dlext=so
    d_dlsymun=undef
    ccdlflags='-Wl,-E'
    cccdlflags='-fPIC'
    lddlflags='-shared -O2 -L/usr/local/lib -fstack-protector-strong'


Characteristics of this binary (from libperl): 
  Compile-time options:
    HAS_TIMES
    MULTIPLICITY
    PERLIO_LAYERS
    PERL_COPY_ON_WRITE
    PERL_DONT_CREATE_GVSV
    PERL_IMPLICIT_CONTEXT
    PERL_MALLOC_WRAP
    PERL_OP_PARENT
    PERL_PRESERVE_IVUV
    USE_64_BIT_ALL
    USE_64_BIT_INT
    USE_ITHREADS
    USE_LARGE_FILES
    USE_LOCALE
    USE_LOCALE_COLLATE
    USE_LOCALE_CTYPE
    USE_LOCALE_NUMERIC
    USE_LOCALE_TIME
    USE_PERLIO
    USE_PERL_ATOF
    USE_REENTRANT_API
  Built under linux
  Compiled at Sep 17 2017 03:28:48
  %ENV:
    PERL5LIB=""
    PERL5OPT=""
    PERL5_CPANPLUS_IS_RUNNING="11283"
    PERL5_CPAN_IS_RUNNING="11283"
    PERL5_CPAN_IS_RUNNING_IN_RECURSION="9594,11283"
    PERL_CR_SMOKER_CURRENT="App-dupfind-0.172690"
    PERL_EXTUTILS_AUTOINSTALL="--defaultdeps"
    PERL_MM_USE_DEFAULT="1"
    PERL_USE_UNSAFE_INC="1"
  @INC:
    /home/stro/perl/5.26.0t/lib/site_perl/5.26.0/x86_64-linux-thread-multi
    /home/stro/perl/5.26.0t/lib/site_perl/5.26.0
    /home/stro/perl/5.26.0t/lib/5.26.0/x86_64-linux-thread-multi
    /home/stro/perl/5.26.0t/lib/5.26.0
    .