NetHack-Menu v0.08 Perl 5 v5.42.0 OpenBSD.amd64-openbsd-thread-multi
- Status
- Pass
- From
- Carlos Guevara
- Dist
-
NetHack-Menu v0.08
- Platform
- Perl 5 v5.42.0 OpenBSD.amd64-openbsd-thread-multi
- Date
- 2025-06-26 16:44:38
- ID
- d938cd02-52ac-11f0-a1fb-b8ba8a64d4a3
This distribution has been tested as part of the CPAN Testers
project, supporting the Perl programming language. See
http://wiki.cpantesters.org/ for more information or email
questions to cpan-testers-discuss@perl.org
--
Dear Shawn M Moore,
This is a computer-generated report for NetHack-Menu-0.08
on perl 5.42.0, created by CPAN-Reporter-1.2020.
Thank you for uploading your work to CPAN. Congratulations!
All tests were successful.
Sections of this report:
* Tester comments
* Program output
* Prerequisites
* Environment and other context
------------------------------
TESTER COMMENTS
------------------------------
Additional comments from tester:
this report is from an automated smoke testing program
and was not reviewed by a human for accuracy
------------------------------
PROGRAM OUTPUT
------------------------------
Output from '/usr/bin/make test':
PERL_DL_NONLAZY=1 "/home/cpan/bin/perl/bin/perl5.42.0" "-MExtUtils::Command::MM" "-MTest::Harness" "-e" "undef *Test::Harness::Switches; test_harness(0, 'blib/lib', 'blib/arch')" t/*.t
Passing a list of values to enum is deprecated. Enum values should be wrapped in an arrayref. at /home/cpan/bin/perl/lib/site_perl/5.42.0/OpenBSD.amd64-openbsd-thread-multi/Moose/Util/TypeConstraints.pm line 437.
Moose::Util::TypeConstraints::enum("NetHack::Menu::Item::SelectedAll", "all") called at lib/NetHack/Menu/Item.pm line 11
require NetHack/Menu/Item.pm called at lib/NetHack/Menu.pm line 10
NetHack::Menu::BEGIN() called at lib/NetHack/Menu.pm line 10
eval {...} called at lib/NetHack/Menu.pm line 10
require NetHack/Menu.pm called at -e line 1
Passing a list of values to enum is deprecated. Enum values should be wrapped in an arrayref. at /home/cpan/bin/perl/lib/site_perl/5.42.0/OpenBSD.amd64-openbsd-thread-multi/Moose/Util/TypeConstraints.pm line 437.
Moose::Util::TypeConstraints::enum("NetHack::Menu::Item::SelectedAll", "all") called at lib/NetHack/Menu/Item.pm line 11
require NetHack/Menu/Item.pm called at -e line 1
t/00-compile.t ............... ok
Passing a list of values to enum is deprecated. Enum values should be wrapped in an arrayref. at /home/cpan/bin/perl/lib/site_perl/5.42.0/OpenBSD.amd64-openbsd-thread-multi/Moose/Util/TypeConstraints.pm line 437.
Moose::Util::TypeConstraints::enum("NetHack::Menu::Item::SelectedAll", "all") called at /home/cpan/.cpan/build/NetHack-Menu-0.08-0/blib/lib/NetHack/Menu/Item.pm line 11
require NetHack/Menu/Item.pm called at /home/cpan/.cpan/build/NetHack-Menu-0.08-0/blib/lib/NetHack/Menu.pm line 10
NetHack::Menu::BEGIN() called at /home/cpan/.cpan/build/NetHack-Menu-0.08-0/blib/lib/NetHack/Menu.pm line 10
eval {...} called at /home/cpan/.cpan/build/NetHack-Menu-0.08-0/blib/lib/NetHack/Menu.pm line 10
require NetHack/Menu.pm called at t/lib/MockVT.pm line 5
MockVT::BEGIN() called at t/lib/MockVT.pm line 5
eval {...} called at t/lib/MockVT.pm line 5
require MockVT.pm called at t/001-basic.t line 4
main::BEGIN() called at t/001-basic.t line 4
eval {...} called at t/001-basic.t line 4
t/001-basic.t ................ ok
Passing a list of values to enum is deprecated. Enum values should be wrapped in an arrayref. at /home/cpan/bin/perl/lib/site_perl/5.42.0/OpenBSD.amd64-openbsd-thread-multi/Moose/Util/TypeConstraints.pm line 437.
Moose::Util::TypeConstraints::enum("NetHack::Menu::Item::SelectedAll", "all") called at /home/cpan/.cpan/build/NetHack-Menu-0.08-0/blib/lib/NetHack/Menu/Item.pm line 11
require NetHack/Menu/Item.pm called at /home/cpan/.cpan/build/NetHack-Menu-0.08-0/blib/lib/NetHack/Menu.pm line 10
NetHack::Menu::BEGIN() called at /home/cpan/.cpan/build/NetHack-Menu-0.08-0/blib/lib/NetHack/Menu.pm line 10
eval {...} called at /home/cpan/.cpan/build/NetHack-Menu-0.08-0/blib/lib/NetHack/Menu.pm line 10
require NetHack/Menu.pm called at t/lib/MockVT.pm line 5
MockVT::BEGIN() called at t/lib/MockVT.pm line 5
eval {...} called at t/lib/MockVT.pm line 5
require MockVT.pm called at t/002-no-menu.t line 4
main::BEGIN() called at t/002-no-menu.t line 4
eval {...} called at t/002-no-menu.t line 4
t/002-no-menu.t .............. ok
Passing a list of values to enum is deprecated. Enum values should be wrapped in an arrayref. at /home/cpan/bin/perl/lib/site_perl/5.42.0/OpenBSD.amd64-openbsd-thread-multi/Moose/Util/TypeConstraints.pm line 437.
Moose::Util::TypeConstraints::enum("NetHack::Menu::Item::SelectedAll", "all") called at /home/cpan/.cpan/build/NetHack-Menu-0.08-0/blib/lib/NetHack/Menu/Item.pm line 11
require NetHack/Menu/Item.pm called at /home/cpan/.cpan/build/NetHack-Menu-0.08-0/blib/lib/NetHack/Menu.pm line 10
NetHack::Menu::BEGIN() called at /home/cpan/.cpan/build/NetHack-Menu-0.08-0/blib/lib/NetHack/Menu.pm line 10
eval {...} called at /home/cpan/.cpan/build/NetHack-Menu-0.08-0/blib/lib/NetHack/Menu.pm line 10
require NetHack/Menu.pm called at t/lib/MockVT.pm line 5
MockVT::BEGIN() called at t/lib/MockVT.pm line 5
eval {...} called at t/lib/MockVT.pm line 5
require MockVT.pm called at t/003-some-selected.t line 4
main::BEGIN() called at t/003-some-selected.t line 4
eval {...} called at t/003-some-selected.t line 4
t/003-some-selected.t ........ ok
Passing a list of values to enum is deprecated. Enum values should be wrapped in an arrayref. at /home/cpan/bin/perl/lib/site_perl/5.42.0/OpenBSD.amd64-openbsd-thread-multi/Moose/Util/TypeConstraints.pm line 437.
Moose::Util::TypeConstraints::enum("NetHack::Menu::Item::SelectedAll", "all") called at /home/cpan/.cpan/build/NetHack-Menu-0.08-0/blib/lib/NetHack/Menu/Item.pm line 11
require NetHack/Menu/Item.pm called at /home/cpan/.cpan/build/NetHack-Menu-0.08-0/blib/lib/NetHack/Menu.pm line 10
NetHack::Menu::BEGIN() called at /home/cpan/.cpan/build/NetHack-Menu-0.08-0/blib/lib/NetHack/Menu.pm line 10
eval {...} called at /home/cpan/.cpan/build/NetHack-Menu-0.08-0/blib/lib/NetHack/Menu.pm line 10
require NetHack/Menu.pm called at t/lib/MockVT.pm line 5
MockVT::BEGIN() called at t/lib/MockVT.pm line 5
eval {...} called at t/lib/MockVT.pm line 5
require MockVT.pm called at t/004-multipage.t line 4
main::BEGIN() called at t/004-multipage.t line 4
eval {...} called at t/004-multipage.t line 4
t/004-multipage.t ............ ok
Passing a list of values to enum is deprecated. Enum values should be wrapped in an arrayref. at /home/cpan/bin/perl/lib/site_perl/5.42.0/OpenBSD.amd64-openbsd-thread-multi/Moose/Util/TypeConstraints.pm line 437.
Moose::Util::TypeConstraints::enum("NetHack::Menu::Item::SelectedAll", "all") called at /home/cpan/.cpan/build/NetHack-Menu-0.08-0/blib/lib/NetHack/Menu/Item.pm line 11
require NetHack/Menu/Item.pm called at /home/cpan/.cpan/build/NetHack-Menu-0.08-0/blib/lib/NetHack/Menu.pm line 10
NetHack::Menu::BEGIN() called at /home/cpan/.cpan/build/NetHack-Menu-0.08-0/blib/lib/NetHack/Menu.pm line 10
eval {...} called at /home/cpan/.cpan/build/NetHack-Menu-0.08-0/blib/lib/NetHack/Menu.pm line 10
require NetHack/Menu.pm called at t/lib/MockVT.pm line 5
MockVT::BEGIN() called at t/lib/MockVT.pm line 5
eval {...} called at t/lib/MockVT.pm line 5
require MockVT.pm called at t/005-start-at-middle.t line 4
main::BEGIN() called at t/005-start-at-middle.t line 4
eval {...} called at t/005-start-at-middle.t line 4
t/005-start-at-middle.t ...... ok
Passing a list of values to enum is deprecated. Enum values should be wrapped in an arrayref. at /home/cpan/bin/perl/lib/site_perl/5.42.0/OpenBSD.amd64-openbsd-thread-multi/Moose/Util/TypeConstraints.pm line 437.
Moose::Util::TypeConstraints::enum("NetHack::Menu::Item::SelectedAll", "all") called at /home/cpan/.cpan/build/NetHack-Menu-0.08-0/blib/lib/NetHack/Menu/Item.pm line 11
require NetHack/Menu/Item.pm called at /home/cpan/.cpan/build/NetHack-Menu-0.08-0/blib/lib/NetHack/Menu.pm line 10
NetHack::Menu::BEGIN() called at /home/cpan/.cpan/build/NetHack-Menu-0.08-0/blib/lib/NetHack/Menu.pm line 10
eval {...} called at /home/cpan/.cpan/build/NetHack-Menu-0.08-0/blib/lib/NetHack/Menu.pm line 10
require NetHack/Menu.pm called at t/lib/MockVT.pm line 5
MockVT::BEGIN() called at t/lib/MockVT.pm line 5
eval {...} called at t/lib/MockVT.pm line 5
require MockVT.pm called at t/007-single-select.t line 4
main::BEGIN() called at t/007-single-select.t line 4
eval {...} called at t/007-single-select.t line 4
t/007-single-select.t ........ ok
Passing a list of values to enum is deprecated. Enum values should be wrapped in an arrayref. at /home/cpan/bin/perl/lib/site_perl/5.42.0/OpenBSD.amd64-openbsd-thread-multi/Moose/Util/TypeConstraints.pm line 437.
Moose::Util::TypeConstraints::enum("NetHack::Menu::Item::SelectedAll", "all") called at /home/cpan/.cpan/build/NetHack-Menu-0.08-0/blib/lib/NetHack/Menu/Item.pm line 11
require NetHack/Menu/Item.pm called at /home/cpan/.cpan/build/NetHack-Menu-0.08-0/blib/lib/NetHack/Menu.pm line 10
NetHack::Menu::BEGIN() called at /home/cpan/.cpan/build/NetHack-Menu-0.08-0/blib/lib/NetHack/Menu.pm line 10
eval {...} called at /home/cpan/.cpan/build/NetHack-Menu-0.08-0/blib/lib/NetHack/Menu.pm line 10
require NetHack/Menu.pm called at t/lib/MockVT.pm line 5
MockVT::BEGIN() called at t/lib/MockVT.pm line 5
eval {...} called at t/lib/MockVT.pm line 5
require MockVT.pm called at t/008-single-select-paged.t line 4
main::BEGIN() called at t/008-single-select-paged.t line 4
eval {...} called at t/008-single-select-paged.t line 4
t/008-single-select-paged.t .. ok
Passing a list of values to enum is deprecated. Enum values should be wrapped in an arrayref. at /home/cpan/bin/perl/lib/site_perl/5.42.0/OpenBSD.amd64-openbsd-thread-multi/Moose/Util/TypeConstraints.pm line 437.
Moose::Util::TypeConstraints::enum("NetHack::Menu::Item::SelectedAll", "all") called at /home/cpan/.cpan/build/NetHack-Menu-0.08-0/blib/lib/NetHack/Menu/Item.pm line 11
require NetHack/Menu/Item.pm called at /home/cpan/.cpan/build/NetHack-Menu-0.08-0/blib/lib/NetHack/Menu.pm line 10
NetHack::Menu::BEGIN() called at /home/cpan/.cpan/build/NetHack-Menu-0.08-0/blib/lib/NetHack/Menu.pm line 10
eval {...} called at /home/cpan/.cpan/build/NetHack-Menu-0.08-0/blib/lib/NetHack/Menu.pm line 10
require NetHack/Menu.pm called at t/lib/MockVT.pm line 5
MockVT::BEGIN() called at t/lib/MockVT.pm line 5
eval {...} called at t/lib/MockVT.pm line 5
require MockVT.pm called at t/009-single-select-none.t line 4
main::BEGIN() called at t/009-single-select-none.t line 4
eval {...} called at t/009-single-select-none.t line 4
t/009-single-select-none.t ... ok
Passing a list of values to enum is deprecated. Enum values should be wrapped in an arrayref. at /home/cpan/bin/perl/lib/site_perl/5.42.0/OpenBSD.amd64-openbsd-thread-multi/Moose/Util/TypeConstraints.pm line 437.
Moose::Util::TypeConstraints::enum("NetHack::Menu::Item::SelectedAll", "all") called at /home/cpan/.cpan/build/NetHack-Menu-0.08-0/blib/lib/NetHack/Menu/Item.pm line 11
require NetHack/Menu/Item.pm called at /home/cpan/.cpan/build/NetHack-Menu-0.08-0/blib/lib/NetHack/Menu.pm line 10
NetHack::Menu::BEGIN() called at /home/cpan/.cpan/build/NetHack-Menu-0.08-0/blib/lib/NetHack/Menu.pm line 10
eval {...} called at /home/cpan/.cpan/build/NetHack-Menu-0.08-0/blib/lib/NetHack/Menu.pm line 10
require NetHack/Menu.pm called at t/lib/MockVT.pm line 5
MockVT::BEGIN() called at t/lib/MockVT.pm line 5
eval {...} called at t/lib/MockVT.pm line 5
require MockVT.pm called at t/010-enhance.t line 4
main::BEGIN() called at t/010-enhance.t line 4
eval {...} called at t/010-enhance.t line 4
t/010-enhance.t .............. ok
Passing a list of values to enum is deprecated. Enum values should be wrapped in an arrayref. at /home/cpan/bin/perl/lib/site_perl/5.42.0/OpenBSD.amd64-openbsd-thread-multi/Moose/Util/TypeConstraints.pm line 437.
Moose::Util::TypeConstraints::enum("NetHack::Menu::Item::SelectedAll", "all") called at /home/cpan/.cpan/build/NetHack-Menu-0.08-0/blib/lib/NetHack/Menu/Item.pm line 11
require NetHack/Menu/Item.pm called at /home/cpan/.cpan/build/NetHack-Menu-0.08-0/blib/lib/NetHack/Menu.pm line 10
NetHack::Menu::BEGIN() called at /home/cpan/.cpan/build/NetHack-Menu-0.08-0/blib/lib/NetHack/Menu.pm line 10
eval {...} called at /home/cpan/.cpan/build/NetHack-Menu-0.08-0/blib/lib/NetHack/Menu.pm line 10
require NetHack/Menu.pm called at t/lib/MockVT.pm line 5
MockVT::BEGIN() called at t/lib/MockVT.pm line 5
eval {...} called at t/lib/MockVT.pm line 5
require MockVT.pm called at t/011-select-count.t line 4
main::BEGIN() called at t/011-select-count.t line 4
eval {...} called at t/011-select-count.t line 4
t/011-select-count.t ......... ok
Passing a list of values to enum is deprecated. Enum values should be wrapped in an arrayref. at /home/cpan/bin/perl/lib/site_perl/5.42.0/OpenBSD.amd64-openbsd-thread-multi/Moose/Util/TypeConstraints.pm line 437.
Moose::Util::TypeConstraints::enum("NetHack::Menu::Item::SelectedAll", "all") called at /home/cpan/.cpan/build/NetHack-Menu-0.08-0/blib/lib/NetHack/Menu/Item.pm line 11
require NetHack/Menu/Item.pm called at /home/cpan/.cpan/build/NetHack-Menu-0.08-0/blib/lib/NetHack/Menu.pm line 10
NetHack::Menu::BEGIN() called at /home/cpan/.cpan/build/NetHack-Menu-0.08-0/blib/lib/NetHack/Menu.pm line 10
eval {...} called at /home/cpan/.cpan/build/NetHack-Menu-0.08-0/blib/lib/NetHack/Menu.pm line 10
require NetHack/Menu.pm called at t/lib/MockVT.pm line 5
MockVT::BEGIN() called at t/lib/MockVT.pm line 5
eval {...} called at t/lib/MockVT.pm line 5
require MockVT.pm called at t/012-counted-transitions.t line 4
main::BEGIN() called at t/012-counted-transitions.t line 4
eval {...} called at t/012-counted-transitions.t line 4
t/012-counted-transitions.t .. ok
Passing a list of values to enum is deprecated. Enum values should be wrapped in an arrayref. at /home/cpan/bin/perl/lib/site_perl/5.42.0/OpenBSD.amd64-openbsd-thread-multi/Moose/Util/TypeConstraints.pm line 437.
Moose::Util::TypeConstraints::enum("NetHack::Menu::Item::SelectedAll", "all") called at /home/cpan/.cpan/build/NetHack-Menu-0.08-0/blib/lib/NetHack/Menu/Item.pm line 11
require NetHack/Menu/Item.pm called at /home/cpan/.cpan/build/NetHack-Menu-0.08-0/blib/lib/NetHack/Menu.pm line 10
NetHack::Menu::BEGIN() called at /home/cpan/.cpan/build/NetHack-Menu-0.08-0/blib/lib/NetHack/Menu.pm line 10
eval {...} called at /home/cpan/.cpan/build/NetHack-Menu-0.08-0/blib/lib/NetHack/Menu.pm line 10
require NetHack/Menu.pm called at t/lib/MockVT.pm line 5
MockVT::BEGIN() called at t/lib/MockVT.pm line 5
eval {...} called at t/lib/MockVT.pm line 5
require MockVT.pm called at t/013-select-item.t line 4
main::BEGIN() called at t/013-select-item.t line 4
eval {...} called at t/013-select-item.t line 4
t/013-select-item.t .......... ok
All tests successful.
Files=13, Tests=134, 4 wallclock secs ( 0.06 usr 0.01 sys + 3.32 cusr 0.46 csys = 3.85 CPU)
Result: PASS
------------------------------
PREREQUISITES
------------------------------
Prerequisite modules loaded:
requires:
Module Need Have
---------------------------- ---- --------
Moose 0 2.2207
Moose::Util::TypeConstraints 0 2.2207
build_requires:
Module Need Have
---------------------------- ---- --------
File::Find 0 1.44
File::Temp 0 0.2311
lib 0 0.65
parent 0 0.244
strict 0 1.14
Term::VT102 0 0.91
Test::Deep 0 1.205
Test::Fatal 0 0.017
Test::More 0.88 1.302214
warnings 0 1.74
configure_requires:
Module Need Have
---------------------------- ---- --------
ExtUtils::MakeMaker 6.30 7.76
------------------------------
ENVIRONMENT AND OTHER CONTEXT
------------------------------
Environment variables:
AUTOMATED_TESTING = 1
DATE_MANIP_TEST_DM5 = 1
LC_ALL = C
NONINTERACTIVE_TESTING = 1
NO_NETWORK_TESTING = 1
PATH = /home/cpan/bin/perl/bin:/home/cpan/bin:/home/cpan/bin:/bin:/sbin:/usr/bin:/usr/sbin:/usr/X11R6/bin:/usr/local/bin:/usr/local/sbin
PERL5LIB =
PERL5OPT =
PERL5_CPANPLUS_IS_RUNNING = 36891
PERL5_CPAN_IS_RUNNING = 36891
PERL_MM_USE_DEFAULT = 1
PERL_USE_UNSAFE_INC = 1
SHELL = /usr/local/bin/bash
TERM = screen
TMPDIR = /home/cpan/tmp
Perl special variables (and OS-specific diagnostics, for MSWin32):
$^X = /home/cpan/bin/perl/bin/perl5.42.0
$UID/$EUID = 1001 / 1001
$GID = 1001 1001
$EGID = 1001 1001
Perl module toolchain versions installed:
Module Have
------------------- --------
CPAN 2.38
CPAN::Meta 2.150010
Cwd 3.94
ExtUtils::CBuilder 0.280241
ExtUtils::Command 7.76
ExtUtils::Install 2.22
ExtUtils::MakeMaker 7.76
ExtUtils::Manifest 1.75
ExtUtils::ParseXS 3.57
File::Spec 3.94
JSON 4.10
JSON::PP 4.16
Module::Build 0.4234
Module::Signature 0.92
Parse::CPAN::Meta 2.150010
Test2 1.302214
Test::Harness 3.50
Test::More 1.302214
YAML 1.31
YAML::Syck n/a
version 0.9933
--
Summary of my perl5 (revision 5 version 42 subversion 0) configuration:
Commit id: dbe7b927c5412c981a5cfded284b44e5f745b604
Platform:
osname=openbsd
osvers=7.7
archname=OpenBSD.amd64-openbsd-thread-multi
uname='openbsd cjg-openbsd7 7.7 generic#1 amd64 '
config_args='-des -Dprefix=/home/cpan/bin/perl -Dscriptdir=/home/cpan/bin/perl/bin -Dusedevel -Duse64bitall -Duseithreads'
hint=recommended
useposix=true
d_sigaction=define
useithreads=define
usemultiplicity=define
use64bitint=define
use64bitall=define
uselongdouble=undef
usemymalloc=n
default_inc_excludes_dot=define
Compiler:
cc='cc'
ccflags ='-pthread -DNO_LOCALE_NUMERIC -DNO_LOCALE_COLLATE -DNO_LOCALE_MONETARY -DNO_LOCALE_TIME -DNO_LOCALE_MESSAGES -DLIBC_HANDLES_MISMATCHED_CTYPE -fno-strict-aliasing -pipe -fstack-protector-strong -I/usr/local/include'
optimize='-O2'
cppflags='-pthread -DNO_LOCALE_NUMERIC -DNO_LOCALE_COLLATE -DNO_LOCALE_MONETARY -DNO_LOCALE_TIME -DNO_LOCALE_MESSAGES -DLIBC_HANDLES_MISMATCHED_CTYPE -fno-strict-aliasing -pipe -fstack-protector-strong -I/usr/local/include'
ccversion=''
gccversion='OpenBSD Clang 16.0.6'
gccosandvers=''
intsize=4
longsize=8
ptrsize=8
doublesize=8
byteorder=12345678
doublekind=3
d_longlong=define
longlongsize=8
d_longdbl=define
longdblsize=16
longdblkind=3
ivtype='long'
ivsize=8
nvtype='double'
nvsize=8
Off_t='off_t'
lseeksize=8
alignbytes=8
prototype=define
Linker and Libraries:
ld='cc'
ldflags ='-pthread -Wl,-E -fstack-protector-strong -L/usr/local/lib'
libpth=/usr/lib/clang/16/lib /usr/lib /usr/local/lib
libs=-lpthread -lm -lutil -lc
perllibs=-lpthread -lm -lutil -lc
libc=/usr/lib/libc.so.100.3
so=so
useshrplib=false
libperl=libperl.a
gnulibc_version=''
Dynamic Linking:
dlsrc=dl_dlopen.xs
dlext=so
d_dlsymun=undef
ccdlflags=' '
cccdlflags='-DPIC -fPIC '
lddlflags='-shared -fPIC -L/usr/local/lib -fstack-protector-strong'
Characteristics of this binary (from libperl):
Compile-time options:
HAS_LONG_DOUBLE
HAS_STRTOLD
HAS_TIMES
MULTIPLICITY
PERLIO_LAYERS
PERL_COPY_ON_WRITE
PERL_DONT_CREATE_GVSV
PERL_HASH_FUNC_SIPHASH13
PERL_HASH_USE_SBOX32
PERL_MALLOC_WRAP
PERL_OP_PARENT
PERL_PRESERVE_IVUV
PERL_USE_DEVEL
PERL_USE_SAFE_PUTENV
USE_64_BIT_ALL
USE_64_BIT_INT
USE_ITHREADS
USE_LARGE_FILES
USE_LOCALE
USE_LOCALE_CTYPE
USE_PERLIO
USE_PERL_ATOF
USE_REENTRANT_API
USE_THREAD_SAFE_LOCALE
Built under openbsd
Compiled at Jun 26 2025 10:21:59
%ENV:
PERL5LIB=""
PERL5OPT=""
PERL5_CPANPLUS_IS_RUNNING="36891"
PERL5_CPAN_IS_RUNNING="36891"
PERL_MM_USE_DEFAULT="1"
PERL_USE_UNSAFE_INC="1"
@INC:
/home/cpan/bin/perl/lib/site_perl/5.42.0/OpenBSD.amd64-openbsd-thread-multi
/home/cpan/bin/perl/lib/site_perl/5.42.0
/home/cpan/bin/perl/lib/5.42.0/OpenBSD.amd64-openbsd-thread-multi
/home/cpan/bin/perl/lib/5.42.0
.