IO-Stringy v2.113 Perl 5 v5.35.11 x86_64-linux
- Status
- Pass
- From
- Nigel Horne
- Dist
-
IO-Stringy v2.113
- Platform
- Perl 5 v5.35.11 x86_64-linux
- Date
- 2022-04-29 13:25:34
- ID
- d94d8182-c7bf-11ec-a819-e72b45354be1
This distribution has been tested as part of the CPAN Testers
project, supporting the Perl programming language. See
http://wiki.cpantesters.org/ for more information or email
questions to cpan-testers-discuss@perl.org
--
Dear Chase Whitener,
This is a computer-generated report for IO-Stringy-2.113
on perl 5.35.11, created by CPAN-Reporter-1.2018.
Thank you for uploading your work to CPAN. Congratulations!
All tests were successful.
Sections of this report:
* Tester comments
* Program output
* Prerequisites
* Environment and other context
------------------------------
TESTER COMMENTS
------------------------------
Additional comments from tester:
this report is from an automated smoke testing program
and was not reviewed by a human for accuracy
------------------------------
PROGRAM OUTPUT
------------------------------
Output from '/usr/bin/make test':
PERL_DL_NONLAZY=1 "/home/opc/perl5/perlbrew/perls/perl-5.35.11/bin/perl5.35.11" "-MExtUtils::Command::MM" "-MTest::Harness" "-e" "undef *Test::Harness::Switches; test_harness(0, 'blib/lib', 'blib/arch')" t/*.t
t/IO_InnerFile.t ....... ok
t/IO_Lines.t ........... ok
#
# Versions for all modules listed in MYMETA.json (including optional ones):
#
# === Configure Requires ===
#
# Module Want Have
# ------------------- ---- ----
# ExtUtils::MakeMaker any 7.64
#
# === Build Requires ===
#
# Module Want Have
# ------------------- ---- ----
# ExtUtils::MakeMaker any 7.64
#
# === Test Requires ===
#
# Module Want Have
# ------------------- ---- --------
# ExtUtils::MakeMaker any 7.64
# File::Basename any 2.85
# File::Spec any 3.84
# File::Temp any 0.2311
# FileHandle any 2.03
# IO::File any 1.48
# IO::Handle any 1.48
# Symbol any 1.09
# Test::More 0.88 1.302190
# Test::Tester any 1.302190
# strict any 1.12
# warnings any 1.58
#
# === Test Recommends ===
#
# Module Want Have
# ---------- -------- --------
# CPAN::Meta 2.120900 2.150010
#
# === Runtime Requires ===
#
# Module Want Have
# ---------- ---- -----
# Carp any 1.52
# Exporter 5.57 5.77
# File::Spec any 3.84
# FileHandle any 2.03
# IO::File any 1.48
# IO::Handle any 1.48
# Symbol any 1.09
# overload any 1.35
# parent any 0.238
# strict any 1.12
# warnings any 1.58
#
t/00-report-prereqs.t .. ok
t/IO_Scalar.t .......... ok
t/IO_ScalarArray.t ..... ok
t/IO_WrapTie.t ......... ok
t/simple.t ............. ok
t/two.t ................ ok
All tests successful.
Files=8, Tests=127, 2 wallclock secs ( 0.03 usr 0.02 sys + 0.71 cusr 0.07 csys = 0.83 CPU)
Result: PASS
------------------------------
PREREQUISITES
------------------------------
Prerequisite modules loaded:
requires:
Module Need Have
------------------- -------- --------
Carp 0 1.52
Exporter 5.57 5.77
File::Spec 0 3.84
FileHandle 0 2.03
IO::File 0 1.48
IO::Handle 0 1.48
overload 0 1.35
parent 0 0.238
strict 0 1.12
Symbol 0 1.09
warnings 0 1.58
build_requires:
Module Need Have
------------------- -------- --------
ExtUtils::MakeMaker 0 7.64
File::Basename 0 2.85
File::Spec 0 3.84
File::Temp 0 0.2311
FileHandle 0 2.03
IO::File 0 1.48
IO::Handle 0 1.48
strict 0 1.12
Symbol 0 1.09
Test::More 0.88 1.302190
Test::Tester 0 1.302190
warnings 0 1.58
configure_requires:
Module Need Have
------------------- -------- --------
ExtUtils::MakeMaker 0 7.64
opt_build_requires:
Module Need Have
------------------- -------- --------
CPAN::Meta 2.120900 2.150010
------------------------------
ENVIRONMENT AND OTHER CONTEXT
------------------------------
Environment variables:
AUTOMATED_TESTING = 1
HARNESS_OPTIONS = j2:c
LANG = en_US.UTF-8
NONINTERACTIVE_TESTING = 1
PATH = /home/opc/perl5/perlbrew/bin:/home/opc/perl5/perlbrew/perls/perl-5.35.11/bin:/home/opc/perl5/perlbrew/bin:/usr/local/bin:/usr/bin:/home/opc/.local/bin:/home/opc/bin
PERL5LIB =
PERL5OPT =
PERL5_CPANPLUS_IS_RUNNING = 4432
PERL5_CPAN_IS_RUNNING = 4432
PERLBREW_HOME = /home/opc/.perlbrew
PERLBREW_LIB =
PERLBREW_MANPATH = /home/opc/perl5/perlbrew/perls/perl-5.35.11/man
PERLBREW_PATH = /home/opc/perl5/perlbrew/bin:/home/opc/perl5/perlbrew/perls/perl-5.35.11/bin
PERLBREW_PERL = perl-5.35.11
PERLBREW_ROOT = /home/opc/perl5/perlbrew
PERLBREW_SHELLRC_VERSION = 0.92
PERLBREW_VERSION = 0.92
PERL_LOCAL_LIB_ROOT =
PERL_MM_USE_DEFAULT = 1
PERL_USE_UNSAFE_INC = 1
SHELL = /bin/bash
Perl special variables (and OS-specific diagnostics, for MSWin32):
$^X = /home/opc/perl5/perlbrew/perls/perl-5.35.11/bin/perl5.35.11
$UID/$EUID = 1000 / 1000
$GID = 1000 4 10 190 1000
$EGID = 1000 4 10 190 1000
Perl module toolchain versions installed:
Module Have
------------------- --------
CPAN 2.34
CPAN::Meta 2.150010
Cwd 3.84
ExtUtils::CBuilder 0.280236
ExtUtils::Command 7.64
ExtUtils::Install 2.20
ExtUtils::MakeMaker 7.64
ExtUtils::Manifest 1.73
ExtUtils::ParseXS 3.45
File::Spec 3.84
JSON 4.05
JSON::PP 4.08
Module::Build 0.4231
Module::Signature 0.88
Parse::CPAN::Meta 2.150010
Test::Harness 3.44
Test::More 1.302190
YAML 1.30
YAML::Syck 1.34
version 0.9929
--
Summary of my perl5 (revision 5 version 35 subversion 11) configuration:
Platform:
osname=linux
osvers=5.4.17-2136.306.1.3.el7uek.x86_64
archname=x86_64-linux
uname='linux oracle2.bandsman.co.uk 5.4.17-2136.306.1.3.el7uek.x86_64 #2 smp fri apr 8 14:47:22 pdt 2022 x86_64 x86_64 x86_64 gnulinux '
config_args='-de -Dprefix=/home/opc/perl5/perlbrew/perls/perl-5.35.11 -Dusedevel -Aeval:scriptdir=/home/opc/perl5/perlbrew/perls/perl-5.35.11/bin'
hint=recommended
useposix=true
d_sigaction=define
useithreads=undef
usemultiplicity=undef
use64bitint=define
use64bitall=define
uselongdouble=undef
usemymalloc=n
default_inc_excludes_dot=define
Compiler:
cc='cc'
ccflags ='-std=gnu99 -fwrapv -fno-strict-aliasing -pipe -fstack-protector-strong -I/usr/local/include -D_LARGEFILE_SOURCE -D_FILE_OFFSET_BITS=64 -D_FORTIFY_SOURCE=2'
optimize='-O2'
cppflags='-std=gnu99 -fwrapv -fno-strict-aliasing -pipe -fstack-protector-strong -I/usr/local/include'
ccversion=''
gccversion='4.8.5 20150623 (Red Hat 4.8.5-44.0.3)'
gccosandvers=''
intsize=4
longsize=8
ptrsize=8
doublesize=8
byteorder=12345678
doublekind=3
d_longlong=define
longlongsize=8
d_longdbl=define
longdblsize=16
longdblkind=3
ivtype='long'
ivsize=8
nvtype='double'
nvsize=8
Off_t='off_t'
lseeksize=8
alignbytes=8
prototype=define
Linker and Libraries:
ld='cc'
ldflags =' -fstack-protector-strong -L/usr/local/lib'
libpth=/usr/local/lib /usr/lib /usr/lib64 /usr/local/lib64
libs=-lpthread -lnsl -lgdbm -ldb -ldl -lm -lcrypt -lutil -lc -lgdbm_compat
perllibs=-lpthread -lnsl -ldl -lm -lcrypt -lutil -lc
libc=libc-2.17.so
so=so
useshrplib=false
libperl=libperl.a
gnulibc_version='2.17'
Dynamic Linking:
dlsrc=dl_dlopen.xs
dlext=so
d_dlsymun=undef
ccdlflags='-Wl,-E'
cccdlflags='-fPIC'
lddlflags='-shared -O2 -L/usr/local/lib -fstack-protector-strong'
Characteristics of this binary (from libperl):
Compile-time options:
HAS_TIMES
PERLIO_LAYERS
PERL_COPY_ON_WRITE
PERL_DONT_CREATE_GVSV
PERL_MALLOC_WRAP
PERL_OP_PARENT
PERL_PRESERVE_IVUV
PERL_USE_DEVEL
USE_64_BIT_ALL
USE_64_BIT_INT
USE_LARGE_FILES
USE_LOCALE
USE_LOCALE_COLLATE
USE_LOCALE_CTYPE
USE_LOCALE_NUMERIC
USE_LOCALE_TIME
USE_PERLIO
USE_PERL_ATOF
Built under linux
Compiled at Apr 22 2022 00:40:43
%ENV:
PERL5LIB=""
PERL5OPT=""
PERL5_CPANPLUS_IS_RUNNING="4432"
PERL5_CPAN_IS_RUNNING="4432"
PERLBREW_HOME="/home/opc/.perlbrew"
PERLBREW_LIB=""
PERLBREW_MANPATH="/home/opc/perl5/perlbrew/perls/perl-5.35.11/man"
PERLBREW_PATH="/home/opc/perl5/perlbrew/bin:/home/opc/perl5/perlbrew/perls/perl-5.35.11/bin"
PERLBREW_PERL="perl-5.35.11"
PERLBREW_ROOT="/home/opc/perl5/perlbrew"
PERLBREW_SHELLRC_VERSION="0.92"
PERLBREW_VERSION="0.92"
PERL_LOCAL_LIB_ROOT=""
PERL_MM_USE_DEFAULT="1"
PERL_USE_UNSAFE_INC="1"
@INC:
/home/opc/perl5/perlbrew/perls/perl-5.35.11/lib/site_perl/5.35.11/x86_64-linux
/home/opc/perl5/perlbrew/perls/perl-5.35.11/lib/site_perl/5.35.11
/home/opc/perl5/perlbrew/perls/perl-5.35.11/lib/5.35.11/x86_64-linux
/home/opc/perl5/perlbrew/perls/perl-5.35.11/lib/5.35.11
.