Report for CGI-Application-Plugin-Authentication-0.20

Back
From: metabase:user:30dda8bc-2aae-11df-837a-5e0a49663a4f
Subject: PASS CGI-Application-Plugin-Authentication-0.20 v5.12.3 GNU/Linux
Date: 2011-06-22T07:18:38Z

This distribution has been tested as part of the CPAN Testers
project, supporting the Perl programming language.  See
http://wiki.cpantesters.org/ for more information or email
questions to cpan-testers-discuss@perl.org


--
Dear Nicholas Bamber,

This is a computer-generated report for CGI-Application-Plugin-Authentication-0.20
on perl 5.12.3, created by CPAN-Reporter-1.1902.

Thank you for uploading your work to CPAN.  Congratulations!
All tests were successful.

Sections of this report:

    * Tester comments
    * Program output
    * Prerequisites
    * Environment and other context

------------------------------
TESTER COMMENTS
------------------------------

Additional comments from tester:

this report is from an automated smoke testing program
and was not reviewed by a human for accuracy

------------------------------
PROGRAM OUTPUT
------------------------------

Output from './Build test':

t/01_basic.t ........................ ok
t/02_config.t ....................... ok
t/03_authenticate.t ................. ok
authen config warning:  parameter POST_LOGIN_URL ignored since we already have POST_LOGIN_RUNMODE at t/03_destination.t line 43
t/03_destination.t .................. ok
t/03_login_box.t .................... ok
t/03_login_box_basic.t .............. ok
t/03_login_box_other.t .............. ok
t/03_missing_color.t ................ ok
t/04_attributes.t ................... ok
t/05_autorunmode.t .................. ok
# The following tests have some small time delays
t/06_timeout.t ...................... ok
t/07_protected_runmodes.t ........... ok
Use of uninitialized value within @_ in lc at /tmp/cpan/Fedora-14-i686/build/CGI-Application-Plugin-Authentication-0.20-NWE6xe/blib/lib/CGI/Application/Plugin/Authentication/Driver/Filter/crypt.pm line 18.
Use of uninitialized value within @_ in lc at /tmp/cpan/Fedora-14-i686/build/CGI-Application-Plugin-Authentication-0.20-NWE6xe/blib/lib/CGI/Application/Plugin/Authentication/Driver/Filter/crypt.pm line 18.
Use of uninitialized value within @_ in lc at /tmp/cpan/Fedora-14-i686/build/CGI-Application-Plugin-Authentication-0.20-NWE6xe/blib/lib/CGI/Application/Plugin/Authentication/Driver/Filter/crypt.pm line 18.
t/40_encoder_crypt.t ................ ok
t/40_encoder_lc.t ................... ok
Use of uninitialized value within @_ in lc at /tmp/cpan/Fedora-14-i686/build/CGI-Application-Plugin-Authentication-0.20-NWE6xe/blib/lib/CGI/Application/Plugin/Authentication/Driver/Filter/md5.pm line 28.
Use of uninitialized value within @_ in lc at /tmp/cpan/Fedora-14-i686/build/CGI-Application-Plugin-Authentication-0.20-NWE6xe/blib/lib/CGI/Application/Plugin/Authentication/Driver/Filter/md5.pm line 28.
Use of uninitialized value within @_ in lc at /tmp/cpan/Fedora-14-i686/build/CGI-Application-Plugin-Authentication-0.20-NWE6xe/blib/lib/CGI/Application/Plugin/Authentication/Driver/Filter/md5.pm line 28.
t/40_encoder_md5.t .................. ok
Use of uninitialized value within @_ in lc at /tmp/cpan/Fedora-14-i686/build/CGI-Application-Plugin-Authentication-0.20-NWE6xe/blib/lib/CGI/Application/Plugin/Authentication/Driver/Filter/sha1.pm line 28.
Use of uninitialized value within @_ in lc at /tmp/cpan/Fedora-14-i686/build/CGI-Application-Plugin-Authentication-0.20-NWE6xe/blib/lib/CGI/Application/Plugin/Authentication/Driver/Filter/sha1.pm line 28.
Use of uninitialized value within @_ in lc at /tmp/cpan/Fedora-14-i686/build/CGI-Application-Plugin-Authentication-0.20-NWE6xe/blib/lib/CGI/Application/Plugin/Authentication/Driver/Filter/sha1.pm line 28.
t/40_encoder_sha1.t ................. ok
t/40_encoder_strip.t ................ ok
t/40_encoder_uc.t ................... ok
Use of uninitialized value within @_ in lc at /tmp/cpan/Fedora-14-i686/build/CGI-Application-Plugin-Authentication-0.20-NWE6xe/blib/lib/CGI/Application/Plugin/Authentication/Driver/Filter/md5.pm line 28.
Use of uninitialized value within @_ in lc at /tmp/cpan/Fedora-14-i686/build/CGI-Application-Plugin-Authentication-0.20-NWE6xe/blib/lib/CGI/Application/Plugin/Authentication/Driver/Filter/sha1.pm line 28.
t/50_driver_missing_modules.t ....... ok
t/50_driver_undefined.t ............. ok
t/51_driver_dummy.t ................. ok
t/52_driver_generic.t ............... ok
Use of uninitialized value within @_ in lc at /tmp/cpan/Fedora-14-i686/build/CGI-Application-Plugin-Authentication-0.20-NWE6xe/blib/lib/CGI/Application/Plugin/Authentication/Driver/Filter/crypt.pm line 18.
Use of uninitialized value within @_ in lc at /tmp/cpan/Fedora-14-i686/build/CGI-Application-Plugin-Authentication-0.20-NWE6xe/blib/lib/CGI/Application/Plugin/Authentication/Driver/Filter/crypt.pm line 18.
Use of uninitialized value within @_ in lc at /tmp/cpan/Fedora-14-i686/build/CGI-Application-Plugin-Authentication-0.20-NWE6xe/blib/lib/CGI/Application/Plugin/Authentication/Driver/Filter/md5.pm line 28.
Use of uninitialized value within @_ in lc at /tmp/cpan/Fedora-14-i686/build/CGI-Application-Plugin-Authentication-0.20-NWE6xe/blib/lib/CGI/Application/Plugin/Authentication/Driver/Filter/crypt.pm line 18.
Use of uninitialized value within @_ in lc at /tmp/cpan/Fedora-14-i686/build/CGI-Application-Plugin-Authentication-0.20-NWE6xe/blib/lib/CGI/Application/Plugin/Authentication/Driver/Filter/md5.pm line 28.
Use of uninitialized value within @_ in lc at /tmp/cpan/Fedora-14-i686/build/CGI-Application-Plugin-Authentication-0.20-NWE6xe/blib/lib/CGI/Application/Plugin/Authentication/Driver/Filter/md5.pm line 28.
Use of uninitialized value within @_ in lc at /tmp/cpan/Fedora-14-i686/build/CGI-Application-Plugin-Authentication-0.20-NWE6xe/blib/lib/CGI/Application/Plugin/Authentication/Driver/Filter/crypt.pm line 18.
Use of uninitialized value within @_ in lc at /tmp/cpan/Fedora-14-i686/build/CGI-Application-Plugin-Authentication-0.20-NWE6xe/blib/lib/CGI/Application/Plugin/Authentication/Driver/Filter/crypt.pm line 18.
t/53_driver_dbi.t ................... ok
t/53_driver_dbi_bad.t ............... ok
t/53_driver_dbi_die.t ............... ok
t/53_driver_dbi_syntax.t ............ ok
t/54_driver_htpasswd.t .............. ok
t/55_driver_authensimple.t .......... ok
t/55_driver_authensimple_die.t ...... ok
t/55_driver_missing_authensimple.t .. ok
t/60_parsimony.t .................... ok
t/60_store.t ........................ ok
t/60_store_cookie.t ................. ok
t/60_store_session.t ................ ok
t/61_cookie_badargs.t ............... ok
t/61_store_cookie_noexpiry.t ........ ok
t/61_store_cookie_other.t ........... ok
t/70_action_dispatch.t .............. ok
t/80_devpopup.t ..................... ok
t/98_pod.t .......................... skipped: Author test.  Set $ENV{TEST_AUTHOR} to a true value to run.
t/99_pod_coverage.t ................. skipped: Author test.  Set $ENV{TEST_AUTHOR} to a true value to run.
t/changes.t ......................... skipped: Author test.  Set $ENV{TEST_AUTHOR} to a true value to run.
t/manifest.t ........................ skipped: Author test.  Set $ENV{TEST_AUTHOR} to a true value to run.
t/podspell.t ........................ skipped: Author test.  Set $ENV{TEST_AUTHOR} to a true value to run.
t/prereq.t .......................... skipped: Author test.  Set $ENV{TEST_PREREQ} to a true value to run.
All tests successful.
Files=45, Tests=586, 13 wallclock secs ( 0.17 usr  0.05 sys +  4.14 cusr  0.46 csys =  4.82 CPU)
Result: PASS

------------------------------
PREREQUISITES
------------------------------

Prerequisite modules loaded:

requires:

    Module                Need  Have      
    --------------------- ----- ----------
    Attribute::Handlers   0     0.91      
    CGI                   3.16  3.55      
    CGI::Application      4     4.50      
    Class::ISA            0     0.36      
    Digest::SHA           0     5.62      
    MIME::Base64          0     3.13      
    perl                  5.006 5.012003  
    Scalar::Util          0     1.23      
    UNIVERSAL::require    0     0.13      

build_requires:

    Module                Need  Have      
    --------------------- ----- ----------
    Readonly              0     1.03      
    Test::Exception       0     0.31      
    Test::MockObject      0     1.20110606
    Test::More            0.93  0.98      
    Test::NoWarnings      0     1.02      
    Test::Regression      0     0.06      
    Test::Taint           0     1.04      
    Test::Warn            0.11  0.23      
    Test::Without::Module 0     0.17      

configure_requires:

    Module                Need  Have      
    --------------------- ----- ----------
    Module::Build         0.38  0.3800    


------------------------------
ENVIRONMENT AND OTHER CONTEXT
------------------------------

Environment variables:

    AUTOMATED_TESTING = 1
    LANG = en_US.utf8
    PATH = /net/netfile2/ag-russell/perl-smoker/Fedora-14-i686/bin:/net/netfile2/ag-russell/install/Fedora-14-i686/perlbrew/bin:/bin:/sbin:/usr/bin:/usr/sbin:/usr/local/bin
    PATH_WITHOUT_PERLBREW = /bin:/sbin:/usr/bin:/usr/sbin:/usr/local/bin
    PERL5LIB = /net/netfile2/ag-russell/perl-smoker/Fedora-14-i686/lib/perl5/i386-linux-thread-multi:/net/netfile2/ag-russell/perl-smoker/Fedora-14-i686/lib/perl5
    PERL5OPT = 
    PERL5_CPANPLUS_IS_RUNNING = 31977
    PERL5_CPAN_IS_RUNNING = 31977
    PERL5_CPAN_IS_RUNNING_IN_RECURSION = 28253,31977
    PERLBREW_PATH = /net/netfile2/ag-russell/install/Fedora-14-i686/perlbrew/bin
    PERLBREW_ROOT = /net/netfile2/ag-russell/install/Fedora-14-i686/perlbrew
    PERLBREW_VERSION = 0.17
    PERL_CR_SMOKER_CURRENT = CGI-Application-Plugin-Authentication-0.20
    PERL_EXTUTILS_AUTOINSTALL = --defaultdeps
    PERL_LOCAL_LIB_ROOT = /net/netfile2/ag-russell/perl-smoker/Fedora-14-i686
    PERL_MB_OPT = --install_base /net/netfile2/ag-russell/perl-smoker/Fedora-14-i686
    PERL_MM_OPT = INSTALL_BASE=/net/netfile2/ag-russell/perl-smoker/Fedora-14-i686
    PERL_MM_USE_DEFAULT = 1
    SHELL = /bin/bash
    TERM = xterm

Perl special variables (and OS-specific diagnostics, for MSWin32):

    $^X = /usr/bin/perl
    $UID/$EUID = 2699 / 2699
    $GID = 2048 2048 10000 10003 10004 10099
    $EGID = 2048 2048 10000 10003 10004 10099

Perl module toolchain versions installed:

    Module              Have    
    ------------------- --------
    CPAN                1.9600  
    Cwd                 3.33    
    ExtUtils::CBuilder  0.280202
    ExtUtils::Command   1.17    
    ExtUtils::Install   1.54    
    ExtUtils::MakeMaker 6.57_11 
    ExtUtils::Manifest  1.58    
    ExtUtils::ParseXS   2.2206  
    File::Spec          3.33    
    Module::Build       0.3800  
    Module::Signature   0.68    
    Test::Harness       3.23    
    Test::More          0.98    
    YAML                0.73    
    YAML::Syck          1.17    
    version             0.91    


--

Summary of my perl5 (revision 5 version 12 subversion 3) configuration:
   
  Platform:
    osname=linux, osvers=2.6.32-71.el6.x86_64, archname=i386-linux-thread-multi
    uname='linux x86-01.phx2.fedoraproject.org 2.6.32-71.el6.x86_64 #1 smp wed sep 1 01:33:01 edt 2010 i686 i686 i386 gnulinux '
    config_args='-des -Doptimize=-O2 -g -pipe -Wall -Wp,-D_FORTIFY_SOURCE=2 -fexceptions -fstack-protector --param=ssp-buffer-size=4 -m32 -march=i686 -mtune=atom -fasynchronous-unwind-tables -Dccdlflags=-Wl,--enable-new-dtags -DDEBUGGING=-g -Dversion=5.12.3 -Dmyhostname=localhost -Dperladmin=root@localhost -Dcc=gcc -Dcf_by=Red Hat, Inc. -Dprefix=/usr -Dvendorprefix=/usr -Dsiteprefix=/usr/local -Dsitelib=/usr/local/share/perl5 -Dsitearch=/usr/local/lib/perl5 -Dprivlib=/usr/share/perl5 -Dvendorlib=/usr/share/perl5 -Darchlib=/usr/lib/perl5 -Dvendorarch=/usr/lib/perl5 -Darchname=i386-linux-thread-multi -Duseshrplib -Dusethreads -Duseithreads -Dusedtrace=/usr/bin/dtrace -Duselargefiles -Dd_semctl_semun -Di_db -Ui_ndbm -Di_gdbm -Di_shadow -Di_syslog -Dman3ext=3pm -Duseperlio -Dinstallusrbinperl=n -Ubincompat5005 -Uversiononly -Dpager=/usr/bin/less -isr -Dd_gethostent_r_proto -Ud_endhostent_r_proto -Ud_sethostent_r_proto -Ud_endprotoent_r_proto -Ud_setprotoent_r_proto -Ud_endservent_r_proto -Ud_setservent_r_proto -Dscriptdir=/usr/bin -Dotherlibdirs=/usr/local/lib/perl5/site_perl/5.10.0/i386-linux-thread-multi:/usr/local/lib/perl5/site_perl/5.10.0:/usr/lib/perl5/vendor_perl/5.10.0/i386-linux-thread-multi:/usr/lib/perl5/vendor_perl:/usr/lib/perl5/site_perl'
    hint=recommended, useposix=true, d_sigaction=define
    useithreads=define, usemultiplicity=define
    useperlio=define, d_sfio=undef, uselargefiles=define, usesocks=undef
    use64bitint=undef, use64bitall=undef, uselongdouble=undef
    usemymalloc=n, bincompat5005=undef
  Compiler:
    cc='gcc', ccflags ='-D_REENTRANT -D_GNU_SOURCE -fno-strict-aliasing -pipe -fstack-protector -I/usr/local/include -D_LARGEFILE_SOURCE -D_FILE_OFFSET_BITS=64',
    optimize='-O2 -g -pipe -Wall -Wp,-D_FORTIFY_SOURCE=2 -fexceptions -fstack-protector --param=ssp-buffer-size=4 -m32 -march=i686 -mtune=atom -fasynchronous-unwind-tables',
    cppflags='-D_REENTRANT -D_GNU_SOURCE -fno-strict-aliasing -pipe -fstack-protector -I/usr/local/include'
    ccversion='', gccversion='4.5.1 20100924 (Red Hat 4.5.1-4)', gccosandvers=''
    intsize=4, longsize=4, ptrsize=4, doublesize=8, byteorder=1234
    d_longlong=define, longlongsize=8, d_longdbl=define, longdblsize=12
    ivtype='long', ivsize=4, nvtype='double', nvsize=8, Off_t='off_t', lseeksize=8
    alignbytes=4, prototype=define
  Linker and Libraries:
    ld='gcc', ldflags =' -fstack-protector -L/usr/local/lib'
    libpth=/usr/local/lib /lib /usr/lib
    libs=-lresolv -lnsl -lgdbm -ldb -ldl -lm -lcrypt -lutil -lpthread -lc -lgdbm_compat
    perllibs=-lresolv -lnsl -ldl -lm -lcrypt -lutil -lpthread -lc
    libc=/lib/libc-2.12.90.so, so=so, useshrplib=true, libperl=libperl.so
    gnulibc_version='2.12.90'
  Dynamic Linking:
    dlsrc=dl_dlopen.xs, dlext=so, d_dlsymun=undef, ccdlflags='-Wl,--enable-new-dtags -Wl,-rpath,/usr/lib/perl5/CORE'
    cccdlflags='-fPIC', lddlflags='-shared -O2 -g -pipe -Wall -Wp,-D_FORTIFY_SOURCE=2 -fexceptions -fstack-protector --param=ssp-buffer-size=4 -m32 -march=i686 -mtune=atom -fasynchronous-unwind-tables -L/usr/local/lib'


Characteristics of this binary (from libperl): 
  Compile-time options: MULTIPLICITY PERL_DONT_CREATE_GVSV
                        PERL_IMPLICIT_CONTEXT PERL_MALLOC_WRAP USE_ITHREADS
                        USE_LARGE_FILES USE_PERLIO USE_PERL_ATOF
                        USE_REENTRANT_API
  Built under linux
  Compiled at Jan 24 2011 10:31:17
  %ENV:
    PERL5LIB="/net/netfile2/ag-russell/perl-smoker/Fedora-14-i686/lib/perl5/i386-linux-thread-multi:/net/netfile2/ag-russell/perl-smoker/Fedora-14-i686/lib/perl5"
    PERL5OPT=""
    PERL5_CPANPLUS_IS_RUNNING="31977"
    PERL5_CPAN_IS_RUNNING="31977"
    PERL5_CPAN_IS_RUNNING_IN_RECURSION="28253,31977"
    PERLBREW_PATH="/net/netfile2/ag-russell/install/Fedora-14-i686/perlbrew/bin"
    PERLBREW_ROOT="/net/netfile2/ag-russell/install/Fedora-14-i686/perlbrew"
    PERLBREW_VERSION="0.17"
    PERL_CR_SMOKER_CURRENT="CGI-Application-Plugin-Authentication-0.20"
    PERL_EXTUTILS_AUTOINSTALL="--defaultdeps"
    PERL_LOCAL_LIB_ROOT="/net/netfile2/ag-russell/perl-smoker/Fedora-14-i686"
    PERL_MB_OPT="--install_base /net/netfile2/ag-russell/perl-smoker/Fedora-14-i686"
    PERL_MM_OPT="INSTALL_BASE=/net/netfile2/ag-russell/perl-smoker/Fedora-14-i686"
    PERL_MM_USE_DEFAULT="1"
  @INC:
    /net/netfile2/ag-russell/perl-smoker/Fedora-14-i686/lib/perl5/i386-linux-thread-multi
    /net/netfile2/ag-russell/perl-smoker/Fedora-14-i686/lib/perl5/i386-linux-thread-multi
    /net/netfile2/ag-russell/perl-smoker/Fedora-14-i686/lib/perl5
    /usr/local/lib/perl5
    /usr/local/share/perl5
    /usr/lib/perl5
    /usr/share/perl5
    /usr/lib/perl5
    /usr/share/perl5
    /usr/local/lib/perl5/site_perl/5.10.0/i386-linux-thread-multi
    /usr/local/lib/perl5/site_perl/5.10.0
    /usr/lib/perl5/vendor_perl/5.10.0/i386-linux-thread-multi
    /usr/lib/perl5/vendor_perl
    /usr/lib/perl5/site_perl
    .