Report for XML-CompileX-Schema-Loader-0.006

Back
From: metabase:user:314402c4-2aae-11df-837a-5e0a49663a4f
Subject: PASS XML-CompileX-Schema-Loader-0.006 v5.14.4 FreeBSD
Date: 2015-01-15T21:17:02Z

This distribution has been tested as part of the CPAN Testers
project, supporting the Perl programming language.  See
http://wiki.cpantesters.org/ for more information or email
questions to cpan-testers-discuss@perl.org


--
Dear Mark Gardner,

This is a computer-generated report for XML-CompileX-Schema-Loader-0.006
on perl 5.14.4, created by CPAN-Reporter-1.2011.

Thank you for uploading your work to CPAN.  Congratulations!
All tests were successful.

Sections of this report:

    * Tester comments
    * Program output
    * Prerequisites
    * Environment and other context

------------------------------
TESTER COMMENTS
------------------------------

Additional comments from tester:

none provided

------------------------------
PROGRAM OUTPUT
------------------------------

Output from '/usr/bin/make test':

PERL_DL_NONLAZY=1 "/usr/perl5.14.4/bin/perl5.14.4" "-MExtUtils::Command::MM" "-MTest::Harness" "-e" "undef *Test::Harness::Switches; test_harness(0, 'blib/lib', 'blib/arch')" t/*.t
t/00-compile.t ............... ok
# Testing with Perl 5.014004, /usr/perl5.14.4/bin/perl5.14.4
#     Carp version is 1.3301
#     Const::Fast version is 0.014
#     ExtUtils::MakeMaker version is 7.04
#     File::Spec version is 3.47
#     HTTP::Exception version is 0.04006
#     HTTP::Response version is 6.04
#     HTTP::Status version is 6.03
#     IO::Handle version is 1.31
#     IPC::Open3 version is 1.0901
#     LWP::UserAgent version is 6.06
#     List::MoreUtils version is 0.402
#     Modern::Perl version is 1.20140107
#     Moo version is 1.006001
#     MooX::Types::MooseLike::Base version is 0.27
#     Path::Tiny version is 0.061
#     Scalar::Util version is 1.41
#     Test::LWP::UserAgent version is 0.024
#     Test::More version is 1.001014
#     Test::Most version is 0.34
#     URI version is 1.65
#     URI::file version is 4.21
#     XML::Compile::SOAP11 version is 3.07
#     XML::Compile::SOAP::Util version is 3.07
#     XML::Compile::Transport::SOAPHTTP version is 3.07
#     XML::Compile::Util version is 1.48
#     XML::Compile::WSDL11 version is 3.03
#     XML::LibXML version is 2.0117
#     strict version is 1.04
#     utf8 version is 1.09
#     warnings version is 1.12
t/000-report-versions.t ...... ok
t/author-critic.t ............ skipped: these tests are for testing by the author
t/author-eol.t ............... skipped: these tests are for testing by the author
t/author-no-tabs.t ........... skipped: these tests are for testing by the author
t/release-cpan-changes.t ..... skipped: these tests are for release candidate testing
t/release-dist-manifest.t .... skipped: these tests are for release candidate testing
t/release-distmeta.t ......... skipped: these tests are for release candidate testing
t/release-kwalitee.t ......... skipped: these tests are for release candidate testing
t/release-meta-json.t ........ skipped: these tests are for release candidate testing
t/release-minimum-version.t .. skipped: these tests are for release candidate testing
t/release-mojibake.t ......... skipped: these tests are for release candidate testing
t/release-pod-coverage.t ..... skipped: these tests are for release candidate testing
t/release-pod-linkcheck.t .... skipped: these tests are for release candidate testing
t/release-pod-syntax.t ....... skipped: these tests are for release candidate testing
t/release-portability.t ...... skipped: these tests are for release candidate testing
t/release-synopsis.t ......... skipped: these tests are for release candidate testing
t/release-test-version.t ..... skipped: these tests are for release candidate testing
t/release-unused-vars.t ...... skipped: these tests are for release candidate testing
t/stockquote.t ............... ok
All tests successful.
Files=20, Tests=36,  7 wallclock secs ( 0.12 usr  0.06 sys +  2.91 cusr  0.34 csys =  3.42 CPU)
Result: PASS

------------------------------
PREREQUISITES
------------------------------

Prerequisite modules loaded:

requires:

    Module                            Need  Have      
    --------------------------------- ----- ----------
    HTTP::Exception                   0     0.04006   
    List::MoreUtils                   0     0.402     
    LWP::UserAgent                    0     6.06      
    Modern::Perl                      0     1.20140107
    Moo                               0     1.006001  
    MooX::Types::MooseLike::Base      0     0.27      
    perl                              5.010 5.014004  
    URI                               0     1.65      
    utf8                              0     1.09      
    XML::Compile::SOAP::Util          0     3.07      
    XML::Compile::Util                0     1.48      
    XML::Compile::WSDL11              0     3.03      
    XML::LibXML                       0     2.0117    

build_requires:

    Module                            Need  Have      
    --------------------------------- ----- ----------
    Carp                              0     1.3301    
    Const::Fast                       0     0.014     
    ExtUtils::MakeMaker               0     7.04      
    File::Spec                        0     3.47      
    HTTP::Response                    0     6.04      
    HTTP::Status                      0     6.03      
    IO::Handle                        0     1.31      
    IPC::Open3                        0     1.0901    
    Path::Tiny                        0     0.061     
    Scalar::Util                      0     1.41      
    strict                            0     1.04      
    Test::LWP::UserAgent              0     0.024     
    Test::More                        0.94  1.001014  
    Test::Most                        0     0.34      
    URI::file                         0     4.21      
    warnings                          0     1.12      
    XML::Compile::SOAP11              0     3.07      
    XML::Compile::Transport::SOAPHTTP 0     3.07      

configure_requires:

    Module                            Need  Have      
    --------------------------------- ----- ----------
    ExtUtils::MakeMaker               0     7.04      


------------------------------
ENVIRONMENT AND OTHER CONTEXT
------------------------------

Environment variables:

    DBIC_NO_WARN_BAD_PERL = 1
    LC_ALL = de_DE.ISO8859-1
    PATH = /usr/local/bin:/usr/bin:/bin:/usr/local/sbin:/usr/sbin:/sbin:/home/cpansand/bin/freebsd9.1:/home/cpansand/bin/sh:/home/cpansand/bin:/usr/games:/home/cpansand/devel:/usr/home/eserte/src/srezic-misc/scripts
    PERL5LIB = 
    PERL5OPT = 
    PERL5_CPANPLUS_IS_RUNNING = 77868
    PERL5_CPAN_IS_RUNNING = 77868
    PERL5_CPAN_IS_RUNNING_IN_RECURSION = 77829,77868
    PERLDOC = -MPod::Perldoc::ToTextOverstrike
    PERL_BATCH = yes
    PERL_CPAN_REPORTER_CONFIG = /var/tmp/cpansmoker-1023/NdseqtHwDJ_config.ini
    PERL_EXTUTILS_AUTOINSTALL = --defaultdeps
    PERL_HTML_DISPLAY_CLASS = HTML::Display::Mozilla
    SHELL = /usr/local/bin/zsh
    TERM = screen
    TMPDIR = /var/tmp/cpansmoker-1023

Perl special variables (and OS-specific diagnostics, for MSWin32):

    $^X = /usr/perl5.14.4/bin/perl5.14.4
    $UID/$EUID = 1023 / 1023
    $GID = 1023 1023
    $EGID = 1023 1023

Perl module toolchain versions installed:

    Module              Have     
    ------------------- ---------
    CPAN                1.9600_01
    CPAN::Meta          2.142690 
    Cwd                 3.47     
    ExtUtils::CBuilder  0.280220 
    ExtUtils::Command   1.20     
    ExtUtils::Install   2.04     
    ExtUtils::MakeMaker 7.04     
    ExtUtils::Manifest  1.69     
    ExtUtils::ParseXS   3.24     
    File::Spec          3.47     
    JSON                2.90     
    JSON::PP            2.27300  
    Module::Build       0.4210   
    Module::Signature   0.73     
    Parse::CPAN::Meta   1.4414   
    Test::Harness       3.35     
    Test::More          1.001014 
    YAML                1.13     
    YAML::Syck          1.29     
    version             0.9909   


--

Summary of my perl5 (revision 5 version 14 subversion 4) configuration:
   
  Platform:
    osname=freebsd, osvers=9.2-release-p4, archname=amd64-freebsd
    uname='freebsd cvrsnica-freebsd-92 9.2-release-p4 freebsd 9.2-release-p4 #0: tue apr 8 18:08:22 utc 2014 root@amd64-builder.daemonology.net:usrobjusrsrcsysgeneric amd64 '
    config_args='-ds -e -Dprefix=/usr/perl5.14.4'
    hint=recommended, useposix=true, d_sigaction=define
    useithreads=undef, usemultiplicity=undef
    useperlio=define, d_sfio=undef, uselargefiles=define, usesocks=undef
    use64bitint=define, use64bitall=define, uselongdouble=undef
    usemymalloc=n, bincompat5005=undef
  Compiler:
    cc='cc', ccflags ='-DHAS_FPSETMASK -DHAS_FLOATINGPOINT_H -fno-strict-aliasing -pipe -fstack-protector -I/usr/local/include',
    optimize='-O',
    cppflags='-DHAS_FPSETMASK -DHAS_FLOATINGPOINT_H -fno-strict-aliasing -pipe -fstack-protector -I/usr/local/include'
    ccversion='', gccversion='4.2.1 20070831 patched [FreeBSD]', gccosandvers=''
    intsize=4, longsize=8, ptrsize=8, doublesize=8, byteorder=12345678
    d_longlong=define, longlongsize=8, d_longdbl=define, longdblsize=16
    ivtype='long', ivsize=8, nvtype='double', nvsize=8, Off_t='off_t', lseeksize=8
    alignbytes=8, prototype=define
  Linker and Libraries:
    ld='cc', ldflags ='-Wl,-E  -fstack-protector -L/usr/local/lib'
    libpth=/usr/lib /usr/local/lib
    libs=-lgdbm -lm -lcrypt -lutil -lc
    perllibs=-lm -lcrypt -lutil -lc
    libc=, so=so, useshrplib=false, libperl=libperl.a
    gnulibc_version=''
  Dynamic Linking:
    dlsrc=dl_dlopen.xs, dlext=so, d_dlsymun=undef, ccdlflags=' '
    cccdlflags='-DPIC -fPIC', lddlflags='-shared  -L/usr/local/lib -fstack-protector'


Characteristics of this binary (from libperl): 
  Compile-time options: PERL_DONT_CREATE_GVSV PERL_MALLOC_WRAP
                        PERL_PRESERVE_IVUV USE_64_BIT_ALL USE_64_BIT_INT
                        USE_LARGE_FILES USE_PERLIO USE_PERL_ATOF
  Built under freebsd
  Compiled at May 16 2014 00:20:44
  %ENV:
    PERL5LIB=""
    PERL5OPT=""
    PERL5_CPANPLUS_IS_RUNNING="77868"
    PERL5_CPAN_IS_RUNNING="77868"
    PERL5_CPAN_IS_RUNNING_IN_RECURSION="77829,77868"
    PERLDOC="-MPod::Perldoc::ToTextOverstrike"
    PERL_BATCH="yes"
    PERL_CPAN_REPORTER_CONFIG="/var/tmp/cpansmoker-1023/NdseqtHwDJ_config.ini"
    PERL_EXTUTILS_AUTOINSTALL="--defaultdeps"
    PERL_HTML_DISPLAY_CLASS="HTML::Display::Mozilla"
  @INC:
    /usr/perl5.14.4/lib/site_perl/5.14.4/amd64-freebsd
    /usr/perl5.14.4/lib/site_perl/5.14.4
    /usr/perl5.14.4/lib/5.14.4/amd64-freebsd
    /usr/perl5.14.4/lib/5.14.4
    .