Test2-Tools-LoadModule v0.007_01 Perl 5 v5.30.3 amd64-freebsd
        
            - Status
- Pass
- From
- Slaven Rezić
- Dist
- 
                Test2-Tools-LoadModule v0.007_01
            
- Platform
- Perl 5 v5.30.3 amd64-freebsd
- Date
- 2022-10-16 21:52:37
- ID
- d989c3fa-4d9c-11ed-b5cc-b2db6d8775ea
This distribution has been tested as part of the CPAN Testers
project, supporting the Perl programming language.  See
http://wiki.cpantesters.org/ for more information or email
questions to cpan-testers-discuss@perl.org
--
Dear Tom Wyant,
This is a computer-generated report for Test2-Tools-LoadModule-0.007_01
on perl 5.30.3, created by CPAN-Reporter-1.2018.
Thank you for uploading your work to CPAN.  Congratulations!
All tests were successful.
Sections of this report:
    * Tester comments
    * Program output
    * Prerequisites
    * Environment and other context
------------------------------
TESTER COMMENTS
------------------------------
Additional comments from tester:
none provided
------------------------------
PROGRAM OUTPUT
------------------------------
Output from './Build test':
t/basic.t ............. ok
t/build.t ............. ok
t/check_args.t ........ ok
t/hint_hash.t ......... ok
t/load.t .............. ok
t/load_all.t .......... ok
t/load_or_skip.t ...... ok
t/load_or_skip_all.t .. ok
t/require.t ........... ok
t/use.t ............... ok
All tests successful.
Files=10, Tests=83,  1 wallclock secs ( 0.03 usr  0.03 sys +  0.88 cusr  0.16 csys =  1.10 CPU)
Result: PASS
------------------------------
PREREQUISITES
------------------------------
Prerequisite modules loaded:
requires:
    Module                    Need     Have    
    ------------------------- -------- --------
    Carp                      0        1.50    
    Exporter                  5.567    5.74    
    File::Find                0        1.36    
    File::Spec                0        3.78    
    Getopt::Long              2.34     2.52    
    if                        0        0.0608  
    perl                      5.008001 5.030003
    strict                    0        1.11    
    Test2::API                1.302096 1.302191
    Test2::API::Context       1.302096 1.302191
    Test2::Util               1.302096 1.302191
    warnings                  0        1.44    
build_requires:
    Module                    Need     Have    
    ------------------------- -------- --------
    lib                       0        0.65    
    Test2::Plugin::BailOnFail 0        0.000145
    Test2::V0                 0        0.000145
configure_requires:
    Module                    Need     Have    
    ------------------------- -------- --------
    lib                       0        0.65    
    strict                    0        1.11    
    warnings                  0        1.44    
------------------------------
ENVIRONMENT AND OTHER CONTEXT
------------------------------
Environment variables:
    PATH = /usr/local/bin:/usr/bin:/bin:/usr/local/sbin:/usr/sbin:/sbin:/home/cpansand/bin/sh:/home/cpansand/bin:/usr/games:/home/cpansand/devel:/usr/home/eserte/src/srezic-misc/scripts
    PERL5LIB = 
    PERL5OPT = 
    PERL5_CPANPLUS_IS_RUNNING = 25938
    PERL5_CPAN_IS_RUNNING = 25938
    PERL5_CPAN_IS_RUNNING_IN_RECURSION = 25768,25938
    PERL_BATCH = yes
    PERL_CANARY_STABILITY_NOPROMPT = 1
    PERL_CPAN_REPORTER_CONFIG = /var/tmp/cpansmoker-1023/2022101621/cpanreporter_000_config.ini
    PERL_EXTUTILS_AUTOINSTALL = --defaultdeps
    PERL_USE_UNSAFE_INC = 1
    SHELL = /bin/sh
    TMPDIR = /var/tmp/cpansmoker-1023/2022101621
Perl special variables (and OS-specific diagnostics, for MSWin32):
    $^X = /usr/perl5.30.3p/bin/perl
    $UID/$EUID = 1023 / 1023
    $GID = 1023 1023
    $EGID = 1023 1023
Perl module toolchain versions installed:
    Module              Have    
    ------------------- --------
    CPAN                2.34    
    CPAN::Meta          2.150010
    Cwd                 3.78    
    ExtUtils::CBuilder  0.280236
    ExtUtils::Command   7.64    
    ExtUtils::Install   2.20    
    ExtUtils::MakeMaker 7.64    
    ExtUtils::Manifest  1.72    
    ExtUtils::ParseXS   3.40    
    File::Spec          3.78    
    JSON                4.09    
    JSON::PP            4.12    
    Module::Build       0.4231  
    Module::Signature   0.88    
    Parse::CPAN::Meta   2.150010
    Test::Harness       3.44    
    Test::More          1.302191
    YAML                1.30    
    YAML::Syck          1.34    
    version             0.9929  
--
Summary of my perl5 (revision 5 version 30 subversion 3) configuration:
   
  Platform:
    osname=freebsd
    osvers=13.0-stable
    archname=amd64-freebsd
    uname='freebsd cloud10.bbbike.org 13.0-stable freebsd 13.0-stable #0 stable13-n245623-e2872019983d: thu may 13 16:04:27 utc 2021 root@cloud10.bbbike.org:usrobjusrhomeprojectsfreebsdamd64.amd64sysgeneric amd64 '
    config_args='-ds -e -Dprefix=/usr/perl5.30.3p -Dcf_email=srezic@cpan.org -Doptimize=-O2 -pipe'
    hint=recommended
    useposix=true
    d_sigaction=define
    useithreads=undef
    usemultiplicity=undef
    use64bitint=define
    use64bitall=define
    uselongdouble=undef
    usemymalloc=n
    default_inc_excludes_dot=define
    bincompat5005=undef
  Compiler:
    cc='cc'
    ccflags ='-DHAS_FPSETMASK -DHAS_FLOATINGPOINT_H -fno-strict-aliasing -pipe -fstack-protector-strong -I/usr/local/include'
    optimize='-O2 -pipe'
    cppflags='-DHAS_FPSETMASK -DHAS_FLOATINGPOINT_H -fno-strict-aliasing -pipe -fstack-protector-strong -I/usr/local/include'
    ccversion=''
    gccversion='FreeBSD Clang 11.0.1 (git@github.com:llvm/llvm-project.git llvmorg-11.0.1-0-g43ff75f2c3fe)'
    gccosandvers=''
    intsize=4
    longsize=8
    ptrsize=8
    doublesize=8
    byteorder=12345678
    doublekind=3
    d_longlong=define
    longlongsize=8
    d_longdbl=define
    longdblsize=16
    longdblkind=3
    ivtype='long'
    ivsize=8
    nvtype='double'
    nvsize=8
    Off_t='off_t'
    lseeksize=8
    alignbytes=8
    prototype=define
  Linker and Libraries:
    ld='cc'
    ldflags ='-pthread -Wl,-E  -fstack-protector-strong -L/usr/local/lib'
    libpth=/usr/lib /usr/local/lib /usr/lib/clang/11.0.1/lib /usr/lib
    libs=-lpthread -lgdbm -ldl -lm -lcrypt -lutil -lc
    perllibs=-lpthread -ldl -lm -lcrypt -lutil -lc
    libc=
    so=so
    useshrplib=false
    libperl=libperl.a
    gnulibc_version=''
  Dynamic Linking:
    dlsrc=dl_dlopen.xs
    dlext=so
    d_dlsymun=undef
    ccdlflags=' '
    cccdlflags='-DPIC -fPIC'
    lddlflags='-shared  -L/usr/local/lib -fstack-protector-strong'
Characteristics of this binary (from libperl): 
  Compile-time options:
    HAS_TIMES
    PERLIO_LAYERS
    PERL_COPY_ON_WRITE
    PERL_DONT_CREATE_GVSV
    PERL_MALLOC_WRAP
    PERL_OP_PARENT
    PERL_PRESERVE_IVUV
    USE_64_BIT_ALL
    USE_64_BIT_INT
    USE_LARGE_FILES
    USE_LOCALE
    USE_LOCALE_COLLATE
    USE_LOCALE_CTYPE
    USE_LOCALE_NUMERIC
    USE_LOCALE_TIME
    USE_PERLIO
    USE_PERL_ATOF
  Built under freebsd
  Compiled at May 14 2021 19:47:18
  %ENV:
    PERL5LIB=""
    PERL5OPT=""
    PERL5_CPANPLUS_IS_RUNNING="25938"
    PERL5_CPAN_IS_RUNNING="25938"
    PERL5_CPAN_IS_RUNNING_IN_RECURSION="25768,25938"
    PERL_BATCH="yes"
    PERL_CANARY_STABILITY_NOPROMPT="1"
    PERL_CPAN_REPORTER_CONFIG="/var/tmp/cpansmoker-1023/2022101621/cpanreporter_000_config.ini"
    PERL_EXTUTILS_AUTOINSTALL="--defaultdeps"
    PERL_USE_UNSAFE_INC="1"
  @INC:
    /usr/perl5.30.3p/lib/site_perl/5.30.3/amd64-freebsd
    /usr/perl5.30.3p/lib/site_perl/5.30.3
    /usr/perl5.30.3p/lib/5.30.3/amd64-freebsd
    /usr/perl5.30.3p/lib/5.30.3
    .