Report for Catalyst-View-Email-0.33

Back
From: metabase:user:30ae4450-2aae-11df-837a-5e0a49663a4f
Subject: PASS Catalyst-View-Email-0.33 v5.18.2 
Date: 2014-03-14T08:36:04Z

This distribution has been tested as part of the CPAN Testers
project, supporting the Perl programming language.  See
http://wiki.cpantesters.org/ for more information or email
questions to cpan-testers-discuss@perl.org


--
Dear Devin Austin,

This is a computer-generated report for Catalyst-View-Email-0.33
on perl 5.18.2, created by CPAN-Reporter-1.2010_01.

Thank you for uploading your work to CPAN.  Congratulations!
All tests were successful.

Sections of this report:

    * Tester comments
    * Program output
    * Prerequisites
    * Environment and other context

------------------------------
TESTER COMMENTS
------------------------------

Additional comments from tester:

this report is from an automated smoke testing program
and was not reviewed by a human for accuracy

------------------------------
PROGRAM OUTPUT
------------------------------

Output from 'C:\strawberry182\c\bin\dmake.exe test':

C:\strawberry182\perl\bin\perl.exe "-MExtUtils::Command::MM" "-MTest::Harness" "-e" "undef *Test::Harness::Switches; test_harness(0, 'inc', 'blib\lib', 'blib\arch')" t/01use.t t/02pod.t t/04basic.t t/05template.t t/06config.t t/07mason.t
t/01use.t ....... ok
t/02pod.t ....... skipped: set TEST_POD to enable this test
require TestApp::View::Mason was successful but the package is not defined. at C:/strawberry182/perl/site/lib/Catalyst/Utils.pm line 314.
Class::MOP::load_class is deprecated at C:/strawberry182/perl/site/lib/Class/MOP.pm line 73.
	Class::MOP::load_class("Email::Sender::Transport::Test") called at C:\strawberry182\cpan\build\Catalyst-View-Email-0.33-WlC50f\blib\lib/Catalyst/View/Email.pm line 226
	Catalyst::View::Email::_build_mailer_obj(TestApp::View::Email=HASH(0x2c2cfe4)) called at accessor Catalyst::View::Email::_mailer_obj (defined at C:\strawberry182\cpan\build\Catalyst-View-Email-0.33-WlC50f\blib\lib/Catalyst/View/Email.pm line 21) line 10
	Catalyst::View::Email::_mailer_obj(TestApp::View::Email=HASH(0x2c2cfe4)) called at C:\strawberry182\cpan\build\Catalyst-View-Email-0.33-WlC50f\blib\lib/Catalyst/View/Email.pm line 299
	Catalyst::View::Email::process(TestApp::View::Email=HASH(0x2c2cfe4), TestApp=HASH(0x2cc410c)) called at C:/strawberry182/perl/site/lib/Catalyst/Action.pm line 65
	Catalyst::Action::execute(Catalyst::Action=HASH(0x2ccc134), TestApp::View::Email=HASH(0x2c2cfe4), TestApp=HASH(0x2cc410c)) called at C:/strawberry182/perl/site/lib/Catalyst.pm line 1734
	eval {...} called at C:/strawberry182/perl/site/lib/Catalyst.pm line 1734
	Catalyst::execute(TestApp=HASH(0x2cc410c), "TestApp::View::Email", Catalyst::Action=HASH(0x2ccc134)) called at C:/strawberry182/perl/site/lib/Catalyst/Action.pm line 60
	Catalyst::Action::dispatch(Catalyst::Action=HASH(0x2ccc134), TestApp=HASH(0x2cc410c)) called at C:/strawberry182/perl/site/lib/Catalyst/Dispatcher.pm line 258
	Catalyst::Dispatcher::_do_forward(Catalyst::Dispatcher=HASH(0x1f96044), "forward", TestApp=HASH(0x2cc410c), "TestApp::View::Email") called at C:/strawberry182/perl/site/lib/Catalyst/Dispatcher.pm line 238
	Catalyst::Dispatcher::forward(Catalyst::Dispatcher=HASH(0x1f96044), TestApp=HASH(0x2cc410c), "TestApp::View::Email") called at C:/strawberry182/perl/site/lib/Catalyst.pm line 397
	Catalyst::forward(TestApp=HASH(0x2cc410c), "TestApp::View::Email") called at C:/strawberry182/cpan/build/Catalyst-View-Email-0.33-WlC50f/t/lib/TestApp/Controller/Root.pm line 26
	TestApp::Controller::Root::email(TestApp::Controller::Root=HASH(0x2c30cac), TestApp=HASH(0x2cc410c)) called at C:/strawberry182/perl/site/lib/Catalyst/Action.pm line 65
	Catalyst::Action::execute(Catalyst::Action=HASH(0x2c59654), TestApp::Controller::Root=HASH(0x2c30cac), TestApp=HASH(0x2cc410c)) called at C:/strawberry182/perl/site/lib/Catalyst.pm line 1734
	eval {...} called at C:/strawberry182/perl/site/lib/Catalyst.pm line 1734
	Catalyst::execute(TestApp=HASH(0x2cc410c), "TestApp::Controller::Root", Catalyst::Action=HASH(0x2c59654)) called at C:/strawberry182/perl/site/lib/Catalyst/Action.pm line 60
	Catalyst::Action::dispatch(Catalyst::Action=HASH(0x2c59654), TestApp=HASH(0x2cc410c)) called at C:/strawberry182/perl/site/lib/Catalyst/Controller.pm line 161
	Catalyst::Controller::_ACTION(TestApp::Controller::Root=HASH(0x2c30cac), TestApp=HASH(0x2cc410c)) called at C:/strawberry182/perl/site/lib/Catalyst/Action.pm line 65
	Catalyst::Action::execute(Catalyst::Action=HASH(0x2c58eec), TestApp::Controller::Root=HASH(0x2c30cac), TestApp=HASH(0x2cc410c)) called at C:/strawberry182/perl/site/lib/Catalyst.pm line 1734
	eval {...} called at C:/strawberry182/perl/site/lib/Catalyst.pm line 1734
	Catalyst::execute(TestApp=HASH(0x2cc410c), "TestApp::Controller::Root", Catalyst::Action=HASH(0x2c58eec)) called at C:/strawberry182/perl/site/lib/Catalyst/Action.pm line 60
	Catalyst::Action::dispatch(Catalyst::Action=HASH(0x2c58eec), TestApp=HASH(0x2cc410c)) called at C:/strawberry182/perl/site/lib/Catalyst/Dispatcher.pm line 258
	Catalyst::Dispatcher::_do_forward(Catalyst::Dispatcher=HASH(0x1f96044), "forward", TestApp=HASH(0x2cc410c), "_ACTION") called at C:/strawberry182/perl/site/lib/Catalyst/Dispatcher.pm line 238
	Catalyst::Dispatcher::forward(Catalyst::Dispatcher=HASH(0x1f96044), TestApp=HASH(0x2cc410c), "_ACTION") called at C:/strawberry182/perl/site/lib/Catalyst.pm line 397
	Catalyst::forward(TestApp=HASH(0x2cc410c), "_ACTION") called at C:/strawberry182/perl/site/lib/Catalyst/Controller.pm line 135
	Catalyst::Controller::_DISPATCH(TestApp::Controller::Root=HASH(0x2c30cac), TestApp=HASH(0x2cc410c)) called at C:/strawberry182/perl/site/lib/Catalyst/Action.pm line 65
	Catalyst::Action::execute(Catalyst::Action=HASH(0x2c560cc), TestApp::Controller::Root=HASH(0x2c30cac), TestApp=HASH(0x2cc410c)) called at C:/strawberry182/perl/site/lib/Catalyst.pm line 1734
	eval {...} called at C:/strawberry182/perl/site/lib/Catalyst.pm line 1734
	Catalyst::execute(TestApp=HASH(0x2cc410c), "TestApp::Controller::Root", Catalyst::Action=HASH(0x2c560cc)) called at C:/strawberry182/perl/site/lib/Catalyst/Action.pm line 60
	Catalyst::Action::dispatch(Catalyst::Action=HASH(0x2c560cc), TestApp=HASH(0x2cc410c)) called at C:/strawberry182/perl/site/lib/Catalyst/Dispatcher.pm line 258
	Catalyst::Dispatcher::_do_forward(Catalyst::Dispatcher=HASH(0x1f96044), "forward", TestApp=HASH(0x2cc410c), "/root/_DISPATCH") called at C:/strawberry182/perl/site/lib/Catalyst/Dispatcher.pm line 238
	Catalyst::Dispatcher::forward(Catalyst::Dispatcher=HASH(0x1f96044), TestApp=HASH(0x2cc410c), "/root/_DISPATCH") called at C:/strawberry182/perl/site/lib/Catalyst.pm line 397
	Catalyst::forward(TestApp=HASH(0x2cc410c), "/root/_DISPATCH") called at C:/strawberry182/perl/site/lib/Catalyst/Dispatcher.pm line 106
	Catalyst::Dispatcher::dispatch(Catalyst::Dispatcher=HASH(0x1f96044), TestApp=HASH(0x2cc410c)) called at C:/strawberry182/perl/site/lib/Catalyst.pm line 1680
	Catalyst::dispatch(TestApp=HASH(0x2cc410c)) called at C:/strawberry182/perl/site/lib/Catalyst.pm line 2015
	Catalyst::try {...} () called at C:/strawberry182/perl/vendor/lib/Try/Tiny.pm line 83
	eval {...} called at C:/strawberry182/perl/vendor/lib/Try/Tiny.pm line 74
	Try::Tiny::try(CODE(0x2c68b8c), Try::Tiny::Catch=REF(0x2c68a24)) called at C:/strawberry182/perl/site/lib/Catalyst.pm line 2024
	Catalyst::handle_request("TestApp", "env", HASH(0x2a562b4), "response_cb", CODE(0x2c68a84)) called at C:/strawberry182/perl/site/lib/Catalyst/Engine.pm line 797
	Catalyst::Engine::__ANON__(CODE(0x2c68a84)) called at C:/strawberry182/perl/site/lib/Plack/Middleware/HTTPExceptions.pm line 32
	Plack::Middleware::HTTPExceptions::try {...} () called at C:/strawberry182/perl/vendor/lib/Try/Tiny.pm line 83
	eval {...} called at C:/strawberry182/perl/vendor/lib/Try/Tiny.pm line 74
	Try::Tiny::try(CODE(0x2c688bc), Try::Tiny::Catch=REF(0x2cc0304)) called at C:/strawberry182/perl/site/lib/Plack/Middleware/HTTPExceptions.pm line 41
	Plack::Middleware::HTTPExceptions::__ANON__(CODE(0x2c687b4)) called at C:/strawberry182/perl/site/lib/Plack/Util.pm line 301
	Plack::Util::__ANON__(CODE(0x2c686ac)) called at C:/strawberry182/perl/site/lib/Plack/Util.pm line 301
	Plack::Util::__ANON__(CODE(0x2c685a4)) called at C:/strawberry182/perl/site/lib/Plack/Util.pm line 301
	Plack::Util::__ANON__(CODE(0x2c6852c)) called at C:/strawberry182/perl/site/lib/HTTP/Message/PSGI.pm line 100
	HTTP::Message::PSGI::res_from_psgi(CODE(0x2cc01cc)) called at C:/strawberry182/perl/site/lib/HTTP/Message/PSGI.pm line 155
	HTTP::Response::from_psgi("HTTP::Response", CODE(0x2cc01cc)) called at C:/strawberry182/perl/site/lib/Plack/Test/MockHTTP.pm line 24
	Plack::Test::MockHTTP::try {...} () called at C:/strawberry182/perl/vendor/lib/Try/Tiny.pm line 78
	eval {...} called at C:/strawberry182/perl/vendor/lib/Try/Tiny.pm line 74
	Try::Tiny::try(CODE(0x2b80754), Try::Tiny::Catch=REF(0x2c33054)) called at C:/strawberry182/perl/site/lib/Plack/Test/MockHTTP.pm line 27
	Plack::Test::MockHTTP::request(Plack::Test::MockHTTP=HASH(0x2c6de64), HTTP::Request=HASH(0x2c66cdc)) called at C:/strawberry182/perl/site/lib/Plack/Test.pm line 38
	Plack::Test::__ANON__(HTTP::Request=HASH(0x2c66cdc)) called at C:/strawberry182/perl/site/lib/Catalyst/Test.pm line 281
	Catalyst::Test::__ANON__(CODE(0x2c6dce4)) called at C:/strawberry182/perl/site/lib/Plack/Test.pm line 38
	Plack::Test::test_psgi("app", CODE(0x2c5e2f4), "mangle_response", CODE(0x1f79c54), "app", CODE(0x2c6db1c), "client", CODE(0x2c6dbc4)) called at C:/strawberry182/perl/site/lib/Catalyst/Test.pm line 284
	Catalyst::Test::_request(HASH(0x998c5c), "/email?time=1394786156") called at C:/strawberry182/perl/site/lib/Catalyst/Test.pm line 327
	Catalyst::Test::_local_request("TestApp", "/email?time=1394786156") called at C:/strawberry182/perl/site/lib/Catalyst/Test.pm line 32
	Catalyst::Test::__ANON__("/email?time=1394786156") called at t/04basic.t line 14
t/04basic.t ..... ok
require TestApp::View::Mason was successful but the package is not defined. at C:/strawberry182/perl/site/lib/Catalyst/Utils.pm line 314.
Class::MOP::load_class is deprecated at C:/strawberry182/perl/site/lib/Class/MOP.pm line 73.
	Class::MOP::load_class("Email::Sender::Transport::Test") called at C:\strawberry182\cpan\build\Catalyst-View-Email-0.33-WlC50f\blib\lib/Catalyst/View/Email.pm line 226
	Catalyst::View::Email::_build_mailer_obj(TestApp::View::Email::Template=HASH(0x2b97f5c)) called at accessor Catalyst::View::Email::_mailer_obj (defined at C:\strawberry182\cpan\build\Catalyst-View-Email-0.33-WlC50f\blib\lib/Catalyst/View/Email.pm line 21) line 10
	Catalyst::View::Email::_mailer_obj(TestApp::View::Email::Template=HASH(0x2b97f5c)) called at C:\strawberry182\cpan\build\Catalyst-View-Email-0.33-WlC50f\blib\lib/Catalyst/View/Email.pm line 299
	Catalyst::View::Email::process(TestApp::View::Email::Template=HASH(0x2b97f5c), TestApp=HASH(0x2c98844)) called at C:\strawberry182\cpan\build\Catalyst-View-Email-0.33-WlC50f\blib\lib/Catalyst/View/Email/Template.pm line 306
	Class::MOP::Class:::around(CODE(0x2adb12c), TestApp::View::Email::Template=HASH(0x2b97f5c), TestApp=HASH(0x2c98844)) called at C:/strawberry182/perl/site/lib/Class/MOP/Method/Wrapped.pm line 163
	Class::MOP::Method::Wrapped::__ANON__(TestApp::View::Email::Template=HASH(0x2b97f5c), TestApp=HASH(0x2c98844)) called at C:/strawberry182/perl/site/lib/Class/MOP/Method/Wrapped.pm line 92
	Catalyst::View::Email::Template::process(TestApp::View::Email::Template=HASH(0x2b97f5c), TestApp=HASH(0x2c98844)) called at C:/strawberry182/perl/site/lib/Catalyst/Action.pm line 65
	Catalyst::Action::execute(Catalyst::Action=HASH(0x2cd979c), TestApp::View::Email::Template=HASH(0x2b97f5c), TestApp=HASH(0x2c98844)) called at C:/strawberry182/perl/site/lib/Catalyst.pm line 1734
	eval {...} called at C:/strawberry182/perl/site/lib/Catalyst.pm line 1734
	Catalyst::execute(TestApp=HASH(0x2c98844), "TestApp::View::Email::Template", Catalyst::Action=HASH(0x2cd979c)) called at C:/strawberry182/perl/site/lib/Catalyst/Action.pm line 60
	Catalyst::Action::dispatch(Catalyst::Action=HASH(0x2cd979c), TestApp=HASH(0x2c98844)) called at C:/strawberry182/perl/site/lib/Catalyst/Dispatcher.pm line 258
	Catalyst::Dispatcher::_do_forward(Catalyst::Dispatcher=HASH(0x2808cdc), "forward", TestApp=HASH(0x2c98844), "TestApp::View::Email::Template") called at C:/strawberry182/perl/site/lib/Catalyst/Dispatcher.pm line 238
	Catalyst::Dispatcher::forward(Catalyst::Dispatcher=HASH(0x2808cdc), TestApp=HASH(0x2c98844), "TestApp::View::Email::Template") called at C:/strawberry182/perl/site/lib/Catalyst.pm line 397
	Catalyst::forward(TestApp=HASH(0x2c98844), "TestApp::View::Email::Template") called at C:/strawberry182/cpan/build/Catalyst-View-Email-0.33-WlC50f/t/lib/TestApp/Controller/Root.pm line 81
	TestApp::Controller::Root::template_email(TestApp::Controller::Root=HASH(0x2be36e4), TestApp=HASH(0x2c98844)) called at C:/strawberry182/perl/site/lib/Catalyst/Action.pm line 65
	Catalyst::Action::execute(Catalyst::Action=HASH(0x2c66f44), TestApp::Controller::Root=HASH(0x2be36e4), TestApp=HASH(0x2c98844)) called at C:/strawberry182/perl/site/lib/Catalyst.pm line 1734
	eval {...} called at C:/strawberry182/perl/site/lib/Catalyst.pm line 1734
	Catalyst::execute(TestApp=HASH(0x2c98844), "TestApp::Controller::Root", Catalyst::Action=HASH(0x2c66f44)) called at C:/strawberry182/perl/site/lib/Catalyst/Action.pm line 60
	Catalyst::Action::dispatch(Catalyst::Action=HASH(0x2c66f44), TestApp=HASH(0x2c98844)) called at C:/strawberry182/perl/site/lib/Catalyst/Controller.pm line 161
	Catalyst::Controller::_ACTION(TestApp::Controller::Root=HASH(0x2be36e4), TestApp=HASH(0x2c98844)) called at C:/strawberry182/perl/site/lib/Catalyst/Action.pm line 65
	Catalyst::Action::execute(Catalyst::Action=HASH(0x2c663ec), TestApp::Controller::Root=HASH(0x2be36e4), TestApp=HASH(0x2c98844)) called at C:/strawberry182/perl/site/lib/Catalyst.pm line 1734
	eval {...} called at C:/strawberry182/perl/site/lib/Catalyst.pm line 1734
	Catalyst::execute(TestApp=HASH(0x2c98844), "TestApp::Controller::Root", Catalyst::Action=HASH(0x2c663ec)) called at C:/strawberry182/perl/site/lib/Catalyst/Action.pm line 60
	Catalyst::Action::dispatch(Catalyst::Action=HASH(0x2c663ec), TestApp=HASH(0x2c98844)) called at C:/strawberry182/perl/site/lib/Catalyst/Dispatcher.pm line 258
	Catalyst::Dispatcher::_do_forward(Catalyst::Dispatcher=HASH(0x2808cdc), "forward", TestApp=HASH(0x2c98844), "_ACTION") called at C:/strawberry182/perl/site/lib/Catalyst/Dispatcher.pm line 238
	Catalyst::Dispatcher::forward(Catalyst::Dispatcher=HASH(0x2808cdc), TestApp=HASH(0x2c98844), "_ACTION") called at C:/strawberry182/perl/site/lib/Catalyst.pm line 397
	Catalyst::forward(TestApp=HASH(0x2c98844), "_ACTION") called at C:/strawberry182/perl/site/lib/Catalyst/Controller.pm line 135
	Catalyst::Controller::_DISPATCH(TestApp::Controller::Root=HASH(0x2be36e4), TestApp=HASH(0x2c98844)) called at C:/strawberry182/perl/site/lib/Catalyst/Action.pm line 65
	Catalyst::Action::execute(Catalyst::Action=HASH(0x2c5ae9c), TestApp::Controller::Root=HASH(0x2be36e4), TestApp=HASH(0x2c98844)) called at C:/strawberry182/perl/site/lib/Catalyst.pm line 1734
	eval {...} called at C:/strawberry182/perl/site/lib/Catalyst.pm line 1734
	Catalyst::execute(TestApp=HASH(0x2c98844), "TestApp::Controller::Root", Catalyst::Action=HASH(0x2c5ae9c)) called at C:/strawberry182/perl/site/lib/Catalyst/Action.pm line 60
	Catalyst::Action::dispatch(Catalyst::Action=HASH(0x2c5ae9c), TestApp=HASH(0x2c98844)) called at C:/strawberry182/perl/site/lib/Catalyst/Dispatcher.pm line 258
	Catalyst::Dispatcher::_do_forward(Catalyst::Dispatcher=HASH(0x2808cdc), "forward", TestApp=HASH(0x2c98844), "/root/_DISPATCH") called at C:/strawberry182/perl/site/lib/Catalyst/Dispatcher.pm line 238
	Catalyst::Dispatcher::forward(Catalyst::Dispatcher=HASH(0x2808cdc), TestApp=HASH(0x2c98844), "/root/_DISPATCH") called at C:/strawberry182/perl/site/lib/Catalyst.pm line 397
	Catalyst::forward(TestApp=HASH(0x2c98844), "/root/_DISPATCH") called at C:/strawberry182/perl/site/lib/Catalyst/Dispatcher.pm line 106
	Catalyst::Dispatcher::dispatch(Catalyst::Dispatcher=HASH(0x2808cdc), TestApp=HASH(0x2c98844)) called at C:/strawberry182/perl/site/lib/Catalyst.pm line 1680
	Catalyst::dispatch(TestApp=HASH(0x2c98844)) called at C:/strawberry182/perl/site/lib/Catalyst.pm line 2015
	Catalyst::try {...} () called at C:/strawberry182/perl/vendor/lib/Try/Tiny.pm line 83
	eval {...} called at C:/strawberry182/perl/vendor/lib/Try/Tiny.pm line 74
	Try::Tiny::try(CODE(0x2c95bbc), Try::Tiny::Catch=REF(0x2c95a54)) called at C:/strawberry182/perl/site/lib/Catalyst.pm line 2024
	Catalyst::handle_request("TestApp", "env", HASH(0x2b7bdec), "response_cb", CODE(0x2c95ab4)) called at C:/strawberry182/perl/site/lib/Catalyst/Engine.pm line 797
	Catalyst::Engine::__ANON__(CODE(0x2c95ab4)) called at C:/strawberry182/perl/site/lib/Plack/Middleware/HTTPExceptions.pm line 32
	Plack::Middleware::HTTPExceptions::try {...} () called at C:/strawberry182/perl/vendor/lib/Try/Tiny.pm line 83
	eval {...} called at C:/strawberry182/perl/vendor/lib/Try/Tiny.pm line 74
	Try::Tiny::try(CODE(0x2c958ec), Try::Tiny::Catch=REF(0x2c94f14)) called at C:/strawberry182/perl/site/lib/Plack/Middleware/HTTPExceptions.pm line 41
	Plack::Middleware::HTTPExceptions::__ANON__(CODE(0x2c957e4)) called at C:/strawberry182/perl/site/lib/Plack/Util.pm line 301
	Plack::Util::__ANON__(CODE(0x2c956dc)) called at C:/strawberry182/perl/site/lib/Plack/Util.pm line 301
	Plack::Util::__ANON__(CODE(0x2c955d4)) called at C:/strawberry182/perl/site/lib/Plack/Util.pm line 301
	Plack::Util::__ANON__(CODE(0x2c9555c)) called at C:/strawberry182/perl/site/lib/HTTP/Message/PSGI.pm line 100
	HTTP::Message::PSGI::res_from_psgi(CODE(0x2cce234)) called at C:/strawberry182/perl/site/lib/HTTP/Message/PSGI.pm line 155
	HTTP::Response::from_psgi("HTTP::Response", CODE(0x2cce234)) called at C:/strawberry182/perl/site/lib/Plack/Test/MockHTTP.pm line 24
	Plack::Test::MockHTTP::try {...} () called at C:/strawberry182/perl/vendor/lib/Try/Tiny.pm line 78
	eval {...} called at C:/strawberry182/perl/vendor/lib/Try/Tiny.pm line 74
	Try::Tiny::try(CODE(0x2c6a88c), Try::Tiny::Catch=REF(0x2c4ae74)) called at C:/strawberry182/perl/site/lib/Plack/Test/MockHTTP.pm line 27
	Plack::Test::MockHTTP::request(Plack::Test::MockHTTP=HASH(0x2c7ad44), HTTP::Request=HASH(0x2c7477c)) called at C:/strawberry182/perl/site/lib/Plack/Test.pm line 38
	Plack::Test::__ANON__(HTTP::Request=HASH(0x2c7477c)) called at C:/strawberry182/perl/site/lib/Catalyst/Test.pm line 281
	Catalyst::Test::__ANON__(CODE(0x2c7abc4)) called at C:/strawberry182/perl/site/lib/Plack/Test.pm line 38
	Plack::Test::test_psgi("app", CODE(0x2c6c6a4), "mangle_response", CODE(0x2169844), "app", CODE(0x2c7a9fc), "client", CODE(0x2c7aaa4)) called at C:/strawberry182/perl/site/lib/Catalyst/Test.pm line 284
	Catalyst::Test::_request(HASH(0x998c74), "/template_email?time=1394786158") called at C:/strawberry182/perl/site/lib/Catalyst/Test.pm line 327
	Catalyst::Test::_local_request("TestApp", "/template_email?time=1394786158") called at C:/strawberry182/perl/site/lib/Catalyst/Test.pm line 32
	Catalyst::Test::__ANON__("/template_email?time=1394786158") called at t/05template.t line 18
t/05template.t .. ok
require TestApp::View::Mason was successful but the package is not defined. at C:/strawberry182/perl/site/lib/Catalyst/Utils.pm line 314.
Class::MOP::load_class is deprecated at C:/strawberry182/perl/site/lib/Class/MOP.pm line 73.
	Class::MOP::load_class("Email::Sender::Transport::Test") called at C:\strawberry182\cpan\build\Catalyst-View-Email-0.33-WlC50f\blib\lib/Catalyst/View/Email.pm line 226
	Catalyst::View::Email::_build_mailer_obj(TestApp::View::Email::AppConfig=HASH(0x2b6c22c)) called at accessor Catalyst::View::Email::_mailer_obj (defined at C:\strawberry182\cpan\build\Catalyst-View-Email-0.33-WlC50f\blib\lib/Catalyst/View/Email.pm line 21) line 10
	Catalyst::View::Email::_mailer_obj(TestApp::View::Email::AppConfig=HASH(0x2b6c22c)) called at C:\strawberry182\cpan\build\Catalyst-View-Email-0.33-WlC50f\blib\lib/Catalyst/View/Email.pm line 299
	Catalyst::View::Email::process(TestApp::View::Email::AppConfig=HASH(0x2b6c22c), TestApp=HASH(0x2ccf224)) called at C:/strawberry182/perl/site/lib/Catalyst/Action.pm line 65
	Catalyst::Action::execute(Catalyst::Action=HASH(0x2cd7a9c), TestApp::View::Email::AppConfig=HASH(0x2b6c22c), TestApp=HASH(0x2ccf224)) called at C:/strawberry182/perl/site/lib/Catalyst.pm line 1734
	eval {...} called at C:/strawberry182/perl/site/lib/Catalyst.pm line 1734
	Catalyst::execute(TestApp=HASH(0x2ccf224), "TestApp::View::Email::AppConfig", Catalyst::Action=HASH(0x2cd7a9c)) called at C:/strawberry182/perl/site/lib/Catalyst/Action.pm line 60
	Catalyst::Action::dispatch(Catalyst::Action=HASH(0x2cd7a9c), TestApp=HASH(0x2ccf224)) called at C:/strawberry182/perl/site/lib/Catalyst/Dispatcher.pm line 258
	Catalyst::Dispatcher::_do_forward(Catalyst::Dispatcher=HASH(0x217eabc), "forward", TestApp=HASH(0x2ccf224), "TestApp::View::Email::AppConfig") called at C:/strawberry182/perl/site/lib/Catalyst/Dispatcher.pm line 238
	Catalyst::Dispatcher::forward(Catalyst::Dispatcher=HASH(0x217eabc), TestApp=HASH(0x2ccf224), "TestApp::View::Email::AppConfig") called at C:/strawberry182/perl/site/lib/Catalyst.pm line 397
	Catalyst::forward(TestApp=HASH(0x2ccf224), "TestApp::View::Email::AppConfig") called at C:/strawberry182/cpan/build/Catalyst-View-Email-0.33-WlC50f/t/lib/TestApp/Controller/Root.pm line 48
	TestApp::Controller::Root::email_app_config(TestApp::Controller::Root=HASH(0x2c3d31c), TestApp=HASH(0x2ccf224)) called at C:/strawberry182/perl/site/lib/Catalyst/Action.pm line 65
	Catalyst::Action::execute(Catalyst::Action=HASH(0x2c64cac), TestApp::Controller::Root=HASH(0x2c3d31c), TestApp=HASH(0x2ccf224)) called at C:/strawberry182/perl/site/lib/Catalyst.pm line 1734
	eval {...} called at C:/strawberry182/perl/site/lib/Catalyst.pm line 1734
	Catalyst::execute(TestApp=HASH(0x2ccf224), "TestApp::Controller::Root", Catalyst::Action=HASH(0x2c64cac)) called at C:/strawberry182/perl/site/lib/Catalyst/Action.pm line 60
	Catalyst::Action::dispatch(Catalyst::Action=HASH(0x2c64cac), TestApp=HASH(0x2ccf224)) called at C:/strawberry182/perl/site/lib/Catalyst/Controller.pm line 161
	Catalyst::Controller::_ACTION(TestApp::Controller::Root=HASH(0x2c3d31c), TestApp=HASH(0x2ccf224)) called at C:/strawberry182/perl/site/lib/Catalyst/Action.pm line 65
	Catalyst::Action::execute(Catalyst::Action=HASH(0x2c641fc), TestApp::Controller::Root=HASH(0x2c3d31c), TestApp=HASH(0x2ccf224)) called at C:/strawberry182/perl/site/lib/Catalyst.pm line 1734
	eval {...} called at C:/strawberry182/perl/site/lib/Catalyst.pm line 1734
	Catalyst::execute(TestApp=HASH(0x2ccf224), "TestApp::Controller::Root", Catalyst::Action=HASH(0x2c641fc)) called at C:/strawberry182/perl/site/lib/Catalyst/Action.pm line 60
	Catalyst::Action::dispatch(Catalyst::Action=HASH(0x2c641fc), TestApp=HASH(0x2ccf224)) called at C:/strawberry182/perl/site/lib/Catalyst/Dispatcher.pm line 258
	Catalyst::Dispatcher::_do_forward(Catalyst::Dispatcher=HASH(0x217eabc), "forward", TestApp=HASH(0x2ccf224), "_ACTION") called at C:/strawberry182/perl/site/lib/Catalyst/Dispatcher.pm line 238
	Catalyst::Dispatcher::forward(Catalyst::Dispatcher=HASH(0x217eabc), TestApp=HASH(0x2ccf224), "_ACTION") called at C:/strawberry182/perl/site/lib/Catalyst.pm line 397
	Catalyst::forward(TestApp=HASH(0x2ccf224), "_ACTION") called at C:/strawberry182/perl/site/lib/Catalyst/Controller.pm line 135
	Catalyst::Controller::_DISPATCH(TestApp::Controller::Root=HASH(0x2c3d31c), TestApp=HASH(0x2ccf224)) called at C:/strawberry182/perl/site/lib/Catalyst/Action.pm line 65
	Catalyst::Action::execute(Catalyst::Action=HASH(0x2c6243c), TestApp::Controller::Root=HASH(0x2c3d31c), TestApp=HASH(0x2ccf224)) called at C:/strawberry182/perl/site/lib/Catalyst.pm line 1734
	eval {...} called at C:/strawberry182/perl/site/lib/Catalyst.pm line 1734
	Catalyst::execute(TestApp=HASH(0x2ccf224), "TestApp::Controller::Root", Catalyst::Action=HASH(0x2c6243c)) called at C:/strawberry182/perl/site/lib/Catalyst/Action.pm line 60
	Catalyst::Action::dispatch(Catalyst::Action=HASH(0x2c6243c), TestApp=HASH(0x2ccf224)) called at C:/strawberry182/perl/site/lib/Catalyst/Dispatcher.pm line 258
	Catalyst::Dispatcher::_do_forward(Catalyst::Dispatcher=HASH(0x217eabc), "forward", TestApp=HASH(0x2ccf224), "/root/_DISPATCH") called at C:/strawberry182/perl/site/lib/Catalyst/Dispatcher.pm line 238
	Catalyst::Dispatcher::forward(Catalyst::Dispatcher=HASH(0x217eabc), TestApp=HASH(0x2ccf224), "/root/_DISPATCH") called at C:/strawberry182/perl/site/lib/Catalyst.pm line 397
	Catalyst::forward(TestApp=HASH(0x2ccf224), "/root/_DISPATCH") called at C:/strawberry182/perl/site/lib/Catalyst/Dispatcher.pm line 106
	Catalyst::Dispatcher::dispatch(Catalyst::Dispatcher=HASH(0x217eabc), TestApp=HASH(0x2ccf224)) called at C:/strawberry182/perl/site/lib/Catalyst.pm line 1680
	Catalyst::dispatch(TestApp=HASH(0x2ccf224)) called at C:/strawberry182/perl/site/lib/Catalyst.pm line 2015
	Catalyst::try {...} () called at C:/strawberry182/perl/vendor/lib/Try/Tiny.pm line 83
	eval {...} called at C:/strawberry182/perl/vendor/lib/Try/Tiny.pm line 74
	Try::Tiny::try(CODE(0x2c94fac), Try::Tiny::Catch=REF(0x2c94e44)) called at C:/strawberry182/perl/site/lib/Catalyst.pm line 2024
	Catalyst::handle_request("TestApp", "env", HASH(0x2aecc34), "response_cb", CODE(0x2c94ea4)) called at C:/strawberry182/perl/site/lib/Catalyst/Engine.pm line 797
	Catalyst::Engine::__ANON__(CODE(0x2c94ea4)) called at C:/strawberry182/perl/site/lib/Plack/Middleware/HTTPExceptions.pm line 32
	Plack::Middleware::HTTPExceptions::try {...} () called at C:/strawberry182/perl/vendor/lib/Try/Tiny.pm line 83
	eval {...} called at C:/strawberry182/perl/vendor/lib/Try/Tiny.pm line 74
	Try::Tiny::try(CODE(0x2c94cdc), Try::Tiny::Catch=REF(0x2ccd46c)) called at C:/strawberry182/perl/site/lib/Plack/Middleware/HTTPExceptions.pm line 41
	Plack::Middleware::HTTPExceptions::__ANON__(CODE(0x2c94bd4)) called at C:/strawberry182/perl/site/lib/Plack/Util.pm line 301
	Plack::Util::__ANON__(CODE(0x2c94acc)) called at C:/strawberry182/perl/site/lib/Plack/Util.pm line 301
	Plack::Util::__ANON__(CODE(0x2c949c4)) called at C:/strawberry182/perl/site/lib/Plack/Util.pm line 301
	Plack::Util::__ANON__(CODE(0x2c9494c)) called at C:/strawberry182/perl/site/lib/HTTP/Message/PSGI.pm line 100
	HTTP::Message::PSGI::res_from_psgi(CODE(0x2ccd334)) called at C:/strawberry182/perl/site/lib/HTTP/Message/PSGI.pm line 155
	HTTP::Response::from_psgi("HTTP::Response", CODE(0x2ccd334)) called at C:/strawberry182/perl/site/lib/Plack/Test/MockHTTP.pm line 24
	Plack::Test::MockHTTP::try {...} () called at C:/strawberry182/perl/vendor/lib/Try/Tiny.pm line 78
	eval {...} called at C:/strawberry182/perl/vendor/lib/Try/Tiny.pm line 74
	Try::Tiny::try(CODE(0x2a941b4), Try::Tiny::Catch=REF(0x2c3ebcc)) called at C:/strawberry182/perl/site/lib/Plack/Test/MockHTTP.pm line 27
	Plack::Test::MockHTTP::request(Plack::Test::MockHTTP=HASH(0x2c7a694), HTTP::Request=HASH(0x2c72ca4)) called at C:/strawberry182/perl/site/lib/Plack/Test.pm line 38
	Plack::Test::__ANON__(HTTP::Request=HASH(0x2c72ca4)) called at C:/strawberry182/perl/site/lib/Catalyst/Test.pm line 281
	Catalyst::Test::__ANON__(CODE(0x2c7a52c)) called at C:/strawberry182/perl/site/lib/Plack/Test.pm line 38
	Plack::Test::test_psgi("mangle_response", CODE(0x2168704), "app", CODE(0x2c6a44c), "app", CODE(0x2c7a34c), "client", CODE(0x2c7a3f4)) called at C:/strawberry182/perl/site/lib/Catalyst/Test.pm line 284
	Catalyst::Test::_request(HASH(0x998c74), "/email_app_config?time=1394786160") called at C:/strawberry182/perl/site/lib/Catalyst/Test.pm line 327
	Catalyst::Test::_local_request("TestApp", "/email_app_config?time=1394786160") called at C:/strawberry182/perl/site/lib/Catalyst/Test.pm line 32
	Catalyst::Test::__ANON__("/email_app_config?time=1394786160") called at t/06config.t line 21
t/06config.t .... ok
t/07mason.t ..... skipped: Test requires module 'Catalyst::View::Mason' but it's not found
All tests successful.
Files=6, Tests=34, 11 wallclock secs ( 0.04 usr +  0.03 sys =  0.07 CPU)
Result: PASS

------------------------------
PREREQUISITES
------------------------------

Prerequisite modules loaded:

requires:

    Module                Need     Have    
    --------------------- -------- --------
    Authen::SASL          2.13     2.16    
    Catalyst              5.7      5.90061 
    Email::MIME           1.859    1.926   
    Email::MIME::Creator  1.455    1.926   
    Email::Sender::Simple 0.100110 1.300011
    MIME::Base64          3.08     3.14    
    Moose                 0.93     2.1204  
    parent                0.223    0.228   
    Test::More            0.88     1.001002
    Test::Requires        0        0.07    

build_requires:

    Module                Need     Have    
    --------------------- -------- --------
    ExtUtils::MakeMaker   6.36     6.84    
    Test::More            0        1.001002
    Test::Requires        0        0.07    

configure_requires:

    Module                Need     Have    
    --------------------- -------- --------
    ExtUtils::MakeMaker   6.36     6.84    


------------------------------
ENVIRONMENT AND OTHER CONTEXT
------------------------------

Environment variables:

    AUTOMATED_TESTING = 1
    COMSPEC = C:\WINDOWS\system32\cmd.exe
    NUMBER_OF_PROCESSORS = 1
    PATH = C:\Program Files\Far Manager\;C:\WINDOWS\system32;C:\WINDOWS;C:\WINDOWS\System32\Wbem;C:\strawberry182\c\bin;C:\strawberry182\perl\site\bin;C:\strawberry182\perl\bin
    PERL5LIB = 
    PERL5OPT = 
    PERL5_CPANPLUS_IS_RUNNING = 112
    PERL5_CPAN_IS_RUNNING = 112
    PERL5_CPAN_IS_RUNNING_IN_RECURSION = 276,172,112
    PERL_EXTUTILS_AUTOINSTALL = --defaultdeps
    PERL_MM_USE_DEFAULT = 1
    PROCESSOR_IDENTIFIER = x86 Family 16 Model 5 Stepping 3, AuthenticAMD
    TEMP = C:\DOCUME~1\c\LOCALS~1\Temp
    TERM = dumb

Perl special variables (and OS-specific diagnostics, for MSWin32):

    $^X = C:\strawberry182\perl\bin\perl.exe
    $UID/$EUID = 0 / 0
    $GID = 0
    $EGID = 0
    Win32::GetOSName = WinXP/.Net
    Win32::GetOSVersion = Service Pack 3, 5, 1, 2600, 2, 3, 0, 256, 1
    Win32::FsType = NTFS
    Win32::IsAdminUser = 1

Perl module toolchain versions installed:

    Module              Have    
    ------------------- --------
    CPAN                2.00    
    CPAN::Meta          2.133380
    Cwd                 3.40    
    ExtUtils::CBuilder  0.280212
    ExtUtils::Command   1.18    
    ExtUtils::Install   1.59    
    ExtUtils::MakeMaker 6.84    
    ExtUtils::Manifest  1.63    
    ExtUtils::ParseXS   3.22    
    File::Spec          3.40    
    JSON                2.90    
    JSON::PP            2.27203 
    Module::Build       0.4203  
    Module::Signature   n/a     
    Parse::CPAN::Meta   1.4409  
    Test::Harness       3.30    
    Test::More          1.001002
    YAML                0.90    
    YAML::Syck          1.27    
    version             0.9904  


--

Summary of my perl5 (revision 5 version 18 subversion 2) configuration:
   
  Platform:
    osname=MSWin32, osvers=6.2, archname=MSWin32-x86-multi-thread-64int
    uname='Win32 strawberry-perl 5.18.2.1 #1 Tue Jan  7 16:30:36 2014 i386'
    config_args='undef'
    hint=recommended, useposix=true, d_sigaction=undef
    useithreads=define, usemultiplicity=define
    useperlio=define, d_sfio=undef, uselargefiles=define, usesocks=undef
    use64bitint=define, use64bitall=undef, uselongdouble=undef
    usemymalloc=n, bincompat5005=undef
  Compiler:
    cc='gcc', ccflags =' -s -O2 -DWIN32  -DPERL_TEXTMODE_SCRIPTS -DPERL_IMPLICIT_CONTEXT -DPERL_IMPLICIT_SYS -DUSE_PERLIO -fno-strict-aliasing -mms-bitfields',
    optimize='-s -O2',
    cppflags='-DWIN32'
    ccversion='', gccversion='4.7.3', gccosandvers=''
    intsize=4, longsize=4, ptrsize=4, doublesize=8, byteorder=12345678
    d_longlong=define, longlongsize=8, d_longdbl=define, longdblsize=12
    ivtype='long long', ivsize=8, nvtype='double', nvsize=8, Off_t='long long', lseeksize=8
    alignbytes=8, prototype=define
  Linker and Libraries:
    ld='g++', ldflags ='-s -L"C:\strawberry182\perl\lib\CORE" -L"C:\strawberry182\c\lib"'
    libpth=C:\strawberry182\c\lib C:\strawberry182\c\i686-w64-mingw32\lib C:\strawberry182\c\lib\gcc\i686-w64-mingw32\4.7.3
    libs=-lmoldname -lkernel32 -luser32 -lgdi32 -lwinspool -lcomdlg32 -ladvapi32 -lshell32 -lole32 -loleaut32 -lnetapi32 -luuid -lws2_32 -lmpr -lwinmm -lversion -lodbc32 -lodbccp32 -lcomctl32
    perllibs=-lmoldname -lkernel32 -luser32 -lgdi32 -lwinspool -lcomdlg32 -ladvapi32 -lshell32 -lole32 -loleaut32 -lnetapi32 -luuid -lws2_32 -lmpr -lwinmm -lversion -lodbc32 -lodbccp32 -lcomctl32
    libc=, so=dll, useshrplib=true, libperl=libperl518.a
    gnulibc_version=''
  Dynamic Linking:
    dlsrc=dl_win32.xs, dlext=dll, d_dlsymun=undef, ccdlflags=' '
    cccdlflags=' ', lddlflags='-mdll -s -L"C:\strawberry182\perl\lib\CORE" -L"C:\strawberry182\c\lib"'


Characteristics of this binary (from libperl): 
  Compile-time options: HAS_TIMES HAVE_INTERP_INTERN MULTIPLICITY
                        PERLIO_LAYERS PERL_DONT_CREATE_GVSV
                        PERL_HASH_FUNC_ONE_AT_A_TIME_HARD
                        PERL_IMPLICIT_CONTEXT PERL_IMPLICIT_SYS
                        PERL_MALLOC_WRAP PERL_PRESERVE_IVUV PERL_SAWAMPERSAND
                        USE_64_BIT_INT USE_ITHREADS USE_LARGE_FILES
                        USE_LOCALE USE_LOCALE_COLLATE USE_LOCALE_CTYPE
                        USE_LOCALE_NUMERIC USE_PERLIO USE_PERL_ATOF
  Built under MSWin32
  Compiled at Jan  7 2014 16:39:31
  %ENV:
    PERL5_CPANPLUS_IS_RUNNING="112"
    PERL5_CPAN_IS_RUNNING="112"
    PERL5_CPAN_IS_RUNNING_IN_RECURSION="276,172,112"
    PERL_EXTUTILS_AUTOINSTALL="--defaultdeps"
    PERL_MM_USE_DEFAULT="1"
  @INC:
    C:/strawberry182/perl/site/lib
    C:/strawberry182/perl/vendor/lib
    C:/strawberry182/perl/lib
    .