Report for Dist-Zilla-Plugin-SpellingCommonMistakesTests-1.001000

Back
From: metabase:user:30f4dfbe-2aae-11df-837a-5e0a49663a4f
Subject: PASS Dist-Zilla-Plugin-SpellingCommonMistakesTests-1.001000 v5.10.1 GNU/Linux
Date: 2014-05-13T05:45:55Z

This distribution has been tested as part of the CPAN Testers
project, supporting the Perl programming language.  See
http://wiki.cpantesters.org/ for more information or email
questions to cpan-testers-discuss@perl.org


--
Dear Adam Lesperance,

This is a computer-generated report for Dist-Zilla-Plugin-SpellingCommonMistakesTests-1.001000
on perl 5.10.1, created by CPAN-Reporter-1.2011.

Thank you for uploading your work to CPAN.  Congratulations!
All tests were successful.

Sections of this report:

    * Tester comments
    * Program output
    * Prerequisites
    * Environment and other context

------------------------------
TESTER COMMENTS
------------------------------

Additional comments from tester:

this report is from an automated smoke testing program
and was not reviewed by a human for accuracy

------------------------------
PROGRAM OUTPUT
------------------------------

Output from './Build test':

Can't locate package Dist::Zilla::Plugin::InlineFiles for @Dist::Zilla::Plugin::SpellingCommonMistakesTests::ISA at /home/njh/perl5/perlbrew/perls/perl-5.10.1/lib/site_perl/5.10.1/x86_64-linux-thread-multi/Class/MOP/Class.pm line 958.
t/00-compile.t .................. ok
# 
# 
# perl: v5.10.1 (wanted 5.008) on linux from /home/njh/perl5/perlbrew/perls/perl-5.10.1/bin/perl
# 
# Dist::Zilla::Plugin::Bootstrap::lib           => module not found. (want any version)
# Dist::Zilla::Plugin::InlineFiles              => module not found. (want any version)
# English                                       => 1.04       (want any version)
# File::Find                                    => 1.14       (want any version)
# File::Temp                                    => 0.2304     (want any version)
# Module::Build                                 => 0.4205     (want 0.3601) 
# Moose                                         => 2.1204     (want any version)
# Pod::Spell::CommonMistakes                    => 1.000      (want any version)
# Test::More                                    => 1.001003   (want 0.88)   
# Test::Pod::Spelling::CommonMistakes           => 1.000      (want any version)
# utf8                                          => 1.07       (want any version)
# 
# Thanks for using my code.  I hope it works for you.
# If not, please try and include this output in the bug report.
# That will help me reproduce the issue and solve you problem.
# 
t/000-report-versions-tiny.t .... ok
t/author-critic.t ............... skipped: these tests are for testing by the author
t/release-common_spelling.t ..... skipped: these tests are for release candidate testing
t/release-consistent-version.t .. skipped: these tests are for release candidate testing
t/release-cpan-changes.t ........ skipped: these tests are for release candidate testing
t/release-dist-manifest.t ....... skipped: these tests are for release candidate testing
t/release-distmeta.t ............ skipped: these tests are for release candidate testing
t/release-eol.t ................. skipped: these tests are for release candidate testing
t/release-has-version.t ......... skipped: these tests are for release candidate testing
t/release-kwalitee.t ............ skipped: these tests are for release candidate testing
t/release-minimum-version.t ..... skipped: these tests are for release candidate testing
t/release-no-tabs.t ............. skipped: these tests are for release candidate testing
t/release-pod-coverage.t ........ skipped: these tests are for release candidate testing
t/release-pod-syntax.t .......... skipped: these tests are for release candidate testing
t/release-portability.t ......... skipped: these tests are for release candidate testing
t/release-unused-vars.t ......... skipped: these tests are for release candidate testing
All tests successful.
Files=17, Tests=2,  1 wallclock secs ( 0.04 usr  0.00 sys +  0.64 cusr  0.04 csys =  0.72 CPU)
Result: PASS

------------------------------
PREREQUISITES
------------------------------

Prerequisite modules loaded:

requires:

    Module                              Need   Have    
    ----------------------------------- ------ --------
  ! Dist::Zilla::Plugin::InlineFiles    0      n/a     
    Moose                               0      2.1204  
    perl                                5.008  5.010001
    Pod::Spell::CommonMistakes          0      1.000   
    Test::Pod::Spelling::CommonMistakes 0      1.000   
    utf8                                0      1.07    

build_requires:

    Module                              Need   Have    
    ----------------------------------- ------ --------
  ! Dist::Zilla::Plugin::Bootstrap::lib 0      n/a     
    English                             0      1.04    
    File::Find                          0      1.14    
    File::Temp                          0      0.2304  
    Module::Build                       0.3601 0.4205  
    Test::More                          0.88   1.001003

configure_requires:

    Module                              Need   Have    
    ----------------------------------- ------ --------
    Module::Build                       0.3601 0.4205  


------------------------------
ENVIRONMENT AND OTHER CONTEXT
------------------------------

Environment variables:

    AUTOMATED_TESTING = 1
    LANG = en_GB.UTF-8
    LANGUAGE = en_GB:en
    LD_LIBRARY_PATH = /usr/local/lib::
    PATH = /home/njh/perl5/perlbrew/bin:/home/njh/perl5/perlbrew/perls/perl-5.10.1/bin:/home/njh/perl5/perlbrew/bin:/usr/local/bin:/usr/bin:/bin:/usr/local/games:/usr/games:/home/njh/bin:/sbin
    PERL5LIB = /home/njh/.cpan/build/List-UtilsBy-0.09-fq92Wp/blib/arch:/home/njh/.cpan/build/List-UtilsBy-0.09-fq92Wp/blib/lib:/home/njh/.cpan/build/TAP-SimpleOutput-0.002-nt6UPH/blib/arch:/home/njh/.cpan/build/TAP-SimpleOutput-0.002-nt6UPH/blib/lib:/home/njh/.cpan/build/Perl-Version-1.013-oe4vQL/blib/arch:/home/njh/.cpan/build/Perl-Version-1.013-oe4vQL/blib/lib:/home/njh/.cpan/build/aliased-0.31-E7sdK1/blib/arch:/home/njh/.cpan/build/aliased-0.31-E7sdK1/blib/lib:/home/njh/.cpan/build/MooseX-Role-Parameterized-1.02-oaTgwZ/blib/arch:/home/njh/.cpan/build/MooseX-Role-Parameterized-1.02-oaTgwZ/blib/lib:/home/njh/.cpan/build/autobox-Core-1.27-0ntwne/blib/arch:/home/njh/.cpan/build/autobox-Core-1.27-0ntwne/blib/lib:/home/njh/.cpan/build/autobox-Junctions-0.001-lpxPC1/blib/arch:/home/njh/.cpan/build/autobox-Junctions-0.001-lpxPC1/blib/lib:/home/njh/.cpan/build/Syntax-Keyword-Junction-0.003007-xRTYQu/blib/arch:/home/njh/.cpan/build/Syntax-Keyword-Junction-0.003007-xRTYQu/blib/lib:/home/njh/.cpan/build/syntax-0.004-IABQGk/blib/arch:/home/njh/.cpan/build/syntax-0.004-IABQGk/blib/lib:/home/njh/.cpan/build/autobox-2.82-hC7VhH/blib/arch:/home/njh/.cpan/build/autobox-2.82-hC7VhH/blib/lib:/home/njh/.cpan/build/Scope-Guard-0.20-hqaCj7/blib/arch:/home/njh/.cpan/build/Scope-Guard-0.20-hqaCj7/blib/lib
    PERL5OPT = 
    PERL5_CPANPLUS_IS_RUNNING = 23585
    PERL5_CPAN_IS_RUNNING = 23585
    PERL5_MINISMOKEBOX = 0.58
    PERLBREW_BASHRC_VERSION = 0.58
    PERLBREW_HOME = /home/njh/.perlbrew
    PERLBREW_MANPATH = /home/njh/perl5/perlbrew/perls/perl-5.10.1/man
    PERLBREW_PATH = /home/njh/perl5/perlbrew/bin:/home/njh/perl5/perlbrew/perls/perl-5.10.1/bin
    PERLBREW_PERL = perl-5.10.1
    PERLBREW_ROOT = /home/njh/perl5/perlbrew
    PERLBREW_VERSION = 0.67
    PERL_EXTUTILS_AUTOINSTALL = --defaultdeps
    PERL_MM_USE_DEFAULT = 1
    SHELL = /bin/bash
    TERM = linux

Perl special variables (and OS-specific diagnostics, for MSWin32):

    $^X = /home/njh/perl5/perlbrew/perls/perl-5.10.1/bin/perl
    $UID/$EUID = 1000 / 1000
    $GID = 1000 4 24 25 29 30 44 46 108 112 1000
    $EGID = 1000 4 24 25 29 30 44 46 108 112 1000

Perl module toolchain versions installed:

    Module              Have    
    ------------------- --------
    CPAN                2.05    
    CPAN::Meta          2.140640
    Cwd                 3.40    
    ExtUtils::CBuilder  0.280216
    ExtUtils::Command   1.18    
    ExtUtils::Install   1.64    
    ExtUtils::MakeMaker 6.94    
    ExtUtils::Manifest  1.63    
    ExtUtils::ParseXS   3.24    
    File::Spec          3.40    
    JSON                2.90    
    JSON::PP            2.27203 
    Module::Build       0.4205  
    Module::Signature   0.73    
    Parse::CPAN::Meta   1.4414  
    Test::Harness       3.30    
    Test::More          1.001003
    YAML                0.90    
    YAML::Syck          1.27    
    version             0.9902  


--

Summary of my perl5 (revision 5 version 10 subversion 1) configuration:
   
  Platform:
    osname=linux, osvers=3.2.0-4-amd64, archname=x86_64-linux-thread-multi
    uname='linux nigelhorne.force9.co.uk 3.2.0-4-amd64 #1 smp debian 3.2.32-1 x86_64 gnulinux '
    config_args='-de -Dprefix=/home/njh/perl5/perlbrew/perls/perl-5.10.1 -Duseithreads -Dusemultiplicity -Accflags=-O2 -W -Wformat=2 -Wswitch -Wshadow -Wwrite-strings -Wuninitialized -Wall -pipe -mtune=native -march=native -fomit-frame-pointer -mfpmath=sse -pedantic -D_FORTIFY_SOURCE=2 -Wpointer-arith -Wstrict-prototypes -fstack-protector -Wstack-protector -Wextra -Wbad-function-cast -Wcast-align -Wcast-qual -Wdisabled-optimization -Wendif-labels -Wfloat-equal -Wformat-nonliteral -Winline -Wmissing-declarations -Wmissing-prototypes -Wnested-externs -Wpointer-arith -Wundef -Wformat-security -Aeval:scriptdir=/home/njh/perl5/perlbrew/perls/perl-5.10.1/bin'
    hint=recommended, useposix=true, d_sigaction=define
    useithreads=define, usemultiplicity=define
    useperlio=define, d_sfio=undef, uselargefiles=define, usesocks=undef
    use64bitint=define, use64bitall=define, uselongdouble=undef
    usemymalloc=n, bincompat5005=undef
  Compiler:
    cc='cc', ccflags ='-D_REENTRANT -D_GNU_SOURCE -O2 -W -Wformat=2 -Wswitch -Wshadow -Wwrite-strings -Wuninitialized -Wall -pipe -mtune=native -march=native -fomit-frame-pointer -mfpmath=sse -pedantic -D_FORTIFY_SOURCE=2 -Wpointer-arith -Wstrict-prototypes -fstack-protector -Wstack-protector -Wextra -Wbad-function-cast -Wcast-align -Wcast-qual -Wdisabled-optimization -Wendif-labels -Wfloat-equal -Wformat-nonliteral -Winline -Wmissing-declarations -Wmissing-prototypes -Wnested-externs -Wpointer-arith -Wundef -Wformat-security -fno-strict-aliasing -I/usr/local/include -D_LARGEFILE_SOURCE -D_FILE_OFFSET_BITS=64',
    optimize='-O2',
    cppflags='-D_REENTRANT -D_GNU_SOURCE -O2 -W -Wformat=2 -Wswitch -Wshadow -Wwrite-strings -Wuninitialized -Wall -pipe -mtune=native -march=native -fomit-frame-pointer -mfpmath=sse -pedantic -D_FORTIFY_SOURCE=2 -Wpointer-arith -Wstrict-prototypes -fstack-protector -Wstack-protector -Wextra -Wbad-function-cast -Wcast-align -Wcast-qual -Wdisabled-optimization -Wendif-labels -Wfloat-equal -Wformat-nonliteral -Winline -Wmissing-declarations -Wmissing-prototypes -Wnested-externs -Wpointer-arith -Wundef -Wformat-security -fno-strict-aliasing -I/usr/local/include'
    ccversion='', gccversion='4.7.2', gccosandvers=''
    intsize=4, longsize=8, ptrsize=8, doublesize=8, byteorder=12345678
    d_longlong=define, longlongsize=8, d_longdbl=define, longdblsize=16
    ivtype='long', ivsize=8, nvtype='double', nvsize=8, Off_t='off_t', lseeksize=8
    alignbytes=8, prototype=define
  Linker and Libraries:
    ld='cc', ldflags =' -fstack-protector -L/usr/local/lib'
    libpth=/usr/local/lib /lib/x86_64-linux-gnu /lib/../lib /usr/lib/x86_64-linux-gnu /usr/lib/../lib /lib /usr/lib
    libs=-lnsl -lgdbm -ldb -ldl -lm -lcrypt -lutil -lpthread -lc -lgdbm_compat
    perllibs=-lnsl -ldl -lm -lcrypt -lutil -lpthread -lc
    libc=, so=so, useshrplib=false, libperl=libperl.a
    gnulibc_version='2.13'
  Dynamic Linking:
    dlsrc=dl_dlopen.xs, dlext=so, d_dlsymun=undef, ccdlflags='-Wl,-E'
    cccdlflags='-fPIC', lddlflags='-shared -O2 -L/usr/local/lib -fstack-protector'


Characteristics of this binary (from libperl): 
  Compile-time options: MULTIPLICITY PERL_DONT_CREATE_GVSV
                        PERL_IMPLICIT_CONTEXT PERL_MALLOC_WRAP USE_64_BIT_ALL
                        USE_64_BIT_INT USE_ITHREADS USE_LARGE_FILES
                        USE_PERLIO USE_REENTRANT_API
  Built under linux
  Compiled at Mar  5 2013 01:45:13
  %ENV:
    PERL5LIB="/home/njh/.cpan/build/List-UtilsBy-0.09-fq92Wp/blib/arch:/home/njh/.cpan/build/List-UtilsBy-0.09-fq92Wp/blib/lib:/home/njh/.cpan/build/TAP-SimpleOutput-0.002-nt6UPH/blib/arch:/home/njh/.cpan/build/TAP-SimpleOutput-0.002-nt6UPH/blib/lib:/home/njh/.cpan/build/Perl-Version-1.013-oe4vQL/blib/arch:/home/njh/.cpan/build/Perl-Version-1.013-oe4vQL/blib/lib:/home/njh/.cpan/build/aliased-0.31-E7sdK1/blib/arch:/home/njh/.cpan/build/aliased-0.31-E7sdK1/blib/lib:/home/njh/.cpan/build/MooseX-Role-Parameterized-1.02-oaTgwZ/blib/arch:/home/njh/.cpan/build/MooseX-Role-Parameterized-1.02-oaTgwZ/blib/lib:/home/njh/.cpan/build/autobox-Core-1.27-0ntwne/blib/arch:/home/njh/.cpan/build/autobox-Core-1.27-0ntwne/blib/lib:/home/njh/.cpan/build/autobox-Junctions-0.001-lpxPC1/blib/arch:/home/njh/.cpan/build/autobox-Junctions-0.001-lpxPC1/blib/lib:/home/njh/.cpan/build/Syntax-Keyword-Junction-0.003007-xRTYQu/blib/arch:/home/njh/.cpan/build/Syntax-Keyword-Junction-0.003007-xRTYQu/blib/lib:/home/njh/.cpan/build/syntax-0.004-IABQGk/blib/arch:/home/njh/.cpan/build/syntax-0.004-IABQGk/blib/lib:/home/njh/.cpan/build/autobox-2.82-hC7VhH/blib/arch:/home/njh/.cpan/build/autobox-2.82-hC7VhH/blib/lib:/home/njh/.cpan/build/Scope-Guard-0.20-hqaCj7/blib/arch:/home/njh/.cpan/build/Scope-Guard-0.20-hqaCj7/blib/lib"
    PERL5OPT=""
    PERL5_CPANPLUS_IS_RUNNING="23585"
    PERL5_CPAN_IS_RUNNING="23585"
    PERL5_MINISMOKEBOX="0.58"
    PERLBREW_BASHRC_VERSION="0.58"
    PERLBREW_HOME="/home/njh/.perlbrew"
    PERLBREW_MANPATH="/home/njh/perl5/perlbrew/perls/perl-5.10.1/man"
    PERLBREW_PATH="/home/njh/perl5/perlbrew/bin:/home/njh/perl5/perlbrew/perls/perl-5.10.1/bin"
    PERLBREW_PERL="perl-5.10.1"
    PERLBREW_ROOT="/home/njh/perl5/perlbrew"
    PERLBREW_VERSION="0.67"
    PERL_EXTUTILS_AUTOINSTALL="--defaultdeps"
    PERL_MM_USE_DEFAULT="1"
  @INC:
    /home/njh/.cpan/build/List-UtilsBy-0.09-fq92Wp/blib/arch
    /home/njh/.cpan/build/List-UtilsBy-0.09-fq92Wp/blib/lib
    /home/njh/.cpan/build/TAP-SimpleOutput-0.002-nt6UPH/blib/arch
    /home/njh/.cpan/build/TAP-SimpleOutput-0.002-nt6UPH/blib/lib
    /home/njh/.cpan/build/Perl-Version-1.013-oe4vQL/blib/arch
    /home/njh/.cpan/build/Perl-Version-1.013-oe4vQL/blib/lib
    /home/njh/.cpan/build/aliased-0.31-E7sdK1/blib/arch
    /home/njh/.cpan/build/aliased-0.31-E7sdK1/blib/lib
    /home/njh/.cpan/build/MooseX-Role-Parameterized-1.02-oaTgwZ/blib/arch
    /home/njh/.cpan/build/MooseX-Role-Parameterized-1.02-oaTgwZ/blib/lib
    /home/njh/.cpan/build/autobox-Core-1.27-0ntwne/blib/arch
    /home/njh/.cpan/build/autobox-Core-1.27-0ntwne/blib/lib
    /home/njh/.cpan/build/autobox-Junctions-0.001-lpxPC1/blib/arch
    /home/njh/.cpan/build/autobox-Junctions-0.001-lpxPC1/blib/lib
    /home/njh/.cpan/build/Syntax-Keyword-Junction-0.003007-xRTYQu/blib/arch
    /home/njh/.cpan/build/Syntax-Keyword-Junction-0.003007-xRTYQu/blib/lib
    /home/njh/.cpan/build/syntax-0.004-IABQGk/blib/arch
    /home/njh/.cpan/build/syntax-0.004-IABQGk/blib/lib
    /home/njh/.cpan/build/autobox-2.82-hC7VhH/blib/arch
    /home/njh/.cpan/build/autobox-2.82-hC7VhH/blib/lib
    /home/njh/.cpan/build/Scope-Guard-0.20-hqaCj7/blib/arch
    /home/njh/.cpan/build/Scope-Guard-0.20-hqaCj7/blib/lib
    /home/njh/perl5/perlbrew/perls/perl-5.10.1/lib/5.10.1/x86_64-linux-thread-multi
    /home/njh/perl5/perlbrew/perls/perl-5.10.1/lib/5.10.1
    /home/njh/perl5/perlbrew/perls/perl-5.10.1/lib/site_perl/5.10.1/x86_64-linux-thread-multi
    /home/njh/perl5/perlbrew/perls/perl-5.10.1/lib/site_perl/5.10.1
    .