Text-VisualPrintf v4.03 Perl 5 v5.16.3 x86_64-linux-ld
- Status
- Pass
- From
- Andreas J. König (ANDK)
- Dist
-
Text-VisualPrintf v4.03
- Platform
- Perl 5 v5.16.3 x86_64-linux-ld
- Date
- 2023-12-29 20:50:08
- ID
- d9d8c664-a68b-11ee-92fa-409c05b4dfcc
This distribution has been tested as part of the CPAN Testers
project, supporting the Perl programming language. See
http://wiki.cpantesters.org/ for more information or email
questions to cpan-testers-discuss@perl.org
--
Dear Kaz Utashiro,
This is a computer-generated report for Text-VisualPrintf-4.03
on perl 5.16.3, created by CPAN-Reporter-1.2019.
Thank you for uploading your work to CPAN. Congratulations!
All tests were successful.
Sections of this report:
* Tester comments
* Program output
* Prerequisites
* Environment and other context
------------------------------
TESTER COMMENTS
------------------------------
Additional comments from tester:
this report is from an automated smoke testing program
and was not reviewed by a human for accuracy
------------------------------
PROGRAM OUTPUT
------------------------------
Output from './Build test':
t/00_compile.t ..... ok
t/01_simple.t ...... ok
t/02_multi.t ....... ok
t/03_special.t ..... ok
Unknown charname 'KATAKANA LETTER SMALL KI' at (eval 25) line 1.
Unknown charname 'KATAKANA LETTER SMALL KO' at (eval 31) line 1.
Unknown charname 'KATAKANA LETTER SMALL SA' at (eval 33) line 1.
Unknown charname 'KATAKANA LETTER SMALL SE' at (eval 39) line 1.
Unknown charname 'KATAKANA LETTER SMALL SO' at (eval 41) line 1.
Unknown charname 'KATAKANA LETTER SMALL TA' at (eval 43) line 1.
Unknown charname 'KATAKANA LETTER SMALL TI' at (eval 45) line 1.
Unknown charname 'KATAKANA LETTER SMALL TE' at (eval 49) line 1.
Unknown charname 'KATAKANA LETTER SMALL NA' at (eval 53) line 1.
Unknown charname 'KATAKANA LETTER SMALL NI' at (eval 55) line 1.
Unknown charname 'KATAKANA LETTER SMALL NE' at (eval 59) line 1.
Unknown charname 'KATAKANA LETTER SMALL NO' at (eval 61) line 1.
Unknown charname 'KATAKANA LETTER SMALL MA' at (eval 73) line 1.
Unknown charname 'KATAKANA LETTER SMALL MI' at (eval 75) line 1.
Unknown charname 'KATAKANA LETTER SMALL ME' at (eval 79) line 1.
Unknown charname 'KATAKANA LETTER SMALL MO' at (eval 81) line 1.
Unknown charname 'KATAKANA LETTER YI' at (eval 84) line 1.
Unknown charname 'KATAKANA LETTER SMALL YI' at (eval 85) line 1.
Unknown charname 'KATAKANA LETTER YE' at (eval 88) line 1.
Unknown charname 'KATAKANA LETTER SMALL YE' at (eval 89) line 1.
Unknown charname 'KATAKANA LETTER SMALL WI' at (eval 105) line 1.
Unknown charname 'KATAKANA LETTER WU' at (eval 106) line 1.
Unknown charname 'KATAKANA LETTER SMALL WU' at (eval 107) line 1.
Unknown charname 'KATAKANA LETTER SMALL WE' at (eval 109) line 1.
Unknown charname 'KATAKANA LETTER SMALL WO' at (eval 111) line 1.
Unknown charname 'KATAKANA LETTER SMALL GA' at (eval 113) line 1.
Unknown charname 'KATAKANA LETTER SMALL GI' at (eval 115) line 1.
Unknown charname 'KATAKANA LETTER SMALL GU' at (eval 117) line 1.
Unknown charname 'KATAKANA LETTER SMALL GE' at (eval 119) line 1.
Unknown charname 'KATAKANA LETTER SMALL GO' at (eval 121) line 1.
Unknown charname 'KATAKANA LETTER SMALL ZA' at (eval 123) line 1.
Unknown charname 'KATAKANA LETTER SMALL ZI' at (eval 125) line 1.
Unknown charname 'KATAKANA LETTER SMALL ZU' at (eval 127) line 1.
Unknown charname 'KATAKANA LETTER SMALL ZE' at (eval 129) line 1.
Unknown charname 'KATAKANA LETTER SMALL ZO' at (eval 131) line 1.
Unknown charname 'KATAKANA LETTER SMALL DA' at (eval 133) line 1.
Unknown charname 'KATAKANA LETTER SMALL DI' at (eval 135) line 1.
Unknown charname 'KATAKANA LETTER SMALL DU' at (eval 137) line 1.
Unknown charname 'KATAKANA LETTER SMALL DE' at (eval 139) line 1.
Unknown charname 'KATAKANA LETTER SMALL DO' at (eval 141) line 1.
Unknown charname 'KATAKANA LETTER SMALL BA' at (eval 143) line 1.
Unknown charname 'KATAKANA LETTER SMALL BI' at (eval 145) line 1.
Unknown charname 'KATAKANA LETTER SMALL BU' at (eval 147) line 1.
Unknown charname 'KATAKANA LETTER SMALL BE' at (eval 149) line 1.
Unknown charname 'KATAKANA LETTER SMALL BO' at (eval 151) line 1.
Unknown charname 'KATAKANA LETTER SMALL PA' at (eval 153) line 1.
Unknown charname 'KATAKANA LETTER SMALL PI' at (eval 155) line 1.
Unknown charname 'KATAKANA LETTER SMALL PU' at (eval 157) line 1.
Unknown charname 'KATAKANA LETTER SMALL PE' at (eval 159) line 1.
Unknown charname 'KATAKANA LETTER SMALL PO' at (eval 161) line 1.
Unknown charname 'HIRAGANA LETTER SMALL KI' at (eval 175) line 1.
Unknown charname 'HIRAGANA LETTER SMALL KU' at (eval 177) line 1.
Unknown charname 'HIRAGANA LETTER SMALL KO' at (eval 181) line 1.
Unknown charname 'HIRAGANA LETTER SMALL SA' at (eval 183) line 1.
Unknown charname 'HIRAGANA LETTER SMALL SI' at (eval 185) line 1.
Unknown charname 'HIRAGANA LETTER SMALL SU' at (eval 187) line 1.
Unknown charname 'HIRAGANA LETTER SMALL SE' at (eval 189) line 1.
Unknown charname 'HIRAGANA LETTER SMALL SO' at (eval 191) line 1.
Unknown charname 'HIRAGANA LETTER SMALL TA' at (eval 193) line 1.
Unknown charname 'HIRAGANA LETTER SMALL TI' at (eval 195) line 1.
Unknown charname 'HIRAGANA LETTER SMALL TE' at (eval 199) line 1.
Unknown charname 'HIRAGANA LETTER SMALL TO' at (eval 201) line 1.
Unknown charname 'HIRAGANA LETTER SMALL NA' at (eval 203) line 1.
Unknown charname 'HIRAGANA LETTER SMALL NI' at (eval 205) line 1.
Unknown charname 'HIRAGANA LETTER SMALL NU' at (eval 207) line 1.
Unknown charname 'HIRAGANA LETTER SMALL NE' at (eval 209) line 1.
Unknown charname 'HIRAGANA LETTER SMALL NO' at (eval 211) line 1.
Unknown charname 'HIRAGANA LETTER SMALL HA' at (eval 213) line 1.
Unknown charname 'HIRAGANA LETTER SMALL HI' at (eval 215) line 1.
Unknown charname 'HIRAGANA LETTER SMALL HU' at (eval 217) line 1.
Unknown charname 'HIRAGANA LETTER SMALL HE' at (eval 219) line 1.
Unknown charname 'HIRAGANA LETTER SMALL HO' at (eval 221) line 1.
Unknown charname 'HIRAGANA LETTER SMALL MA' at (eval 223) line 1.
Unknown charname 'HIRAGANA LETTER SMALL MI' at (eval 225) line 1.
Unknown charname 'HIRAGANA LETTER SMALL MU' at (eval 227) line 1.
Unknown charname 'HIRAGANA LETTER SMALL ME' at (eval 229) line 1.
Unknown charname 'HIRAGANA LETTER SMALL MO' at (eval 231) line 1.
Unknown charname 'HIRAGANA LETTER YI' at (eval 234) line 1.
Unknown charname 'HIRAGANA LETTER SMALL YI' at (eval 235) line 1.
Unknown charname 'HIRAGANA LETTER YE' at (eval 238) line 1.
Unknown charname 'HIRAGANA LETTER SMALL YE' at (eval 239) line 1.
Unknown charname 'HIRAGANA LETTER SMALL RA' at (eval 243) line 1.
Unknown charname 'HIRAGANA LETTER SMALL RI' at (eval 245) line 1.
Unknown charname 'HIRAGANA LETTER SMALL RU' at (eval 247) line 1.
Unknown charname 'HIRAGANA LETTER SMALL RE' at (eval 249) line 1.
Unknown charname 'HIRAGANA LETTER SMALL RO' at (eval 251) line 1.
Unknown charname 'HIRAGANA LETTER SMALL WI' at (eval 255) line 1.
Unknown charname 'HIRAGANA LETTER WU' at (eval 256) line 1.
Unknown charname 'HIRAGANA LETTER SMALL WU' at (eval 257) line 1.
Unknown charname 'HIRAGANA LETTER SMALL WE' at (eval 259) line 1.
Unknown charname 'HIRAGANA LETTER SMALL WO' at (eval 261) line 1.
Unknown charname 'HIRAGANA LETTER SMALL GA' at (eval 263) line 1.
Unknown charname 'HIRAGANA LETTER SMALL GI' at (eval 265) line 1.
Unknown charname 'HIRAGANA LETTER SMALL GU' at (eval 267) line 1.
Unknown charname 'HIRAGANA LETTER SMALL GE' at (eval 269) line 1.
Unknown charname 'HIRAGANA LETTER SMALL GO' at (eval 271) line 1.
Unknown charname 'HIRAGANA LETTER SMALL ZA' at (eval 273) line 1.
Unknown charname 'HIRAGANA LETTER SMALL ZI' at (eval 275) line 1.
Unknown charname 'HIRAGANA LETTER SMALL ZU' at (eval 277) line 1.
Unknown charname 'HIRAGANA LETTER SMALL ZE' at (eval 279) line 1.
Unknown charname 'HIRAGANA LETTER SMALL ZO' at (eval 281) line 1.
Unknown charname 'HIRAGANA LETTER SMALL DA' at (eval 283) line 1.
Unknown charname 'HIRAGANA LETTER SMALL DI' at (eval 285) line 1.
Unknown charname 'HIRAGANA LETTER SMALL DU' at (eval 287) line 1.
Unknown charname 'HIRAGANA LETTER SMALL DE' at (eval 289) line 1.
Unknown charname 'HIRAGANA LETTER SMALL DO' at (eval 291) line 1.
Unknown charname 'HIRAGANA LETTER SMALL BA' at (eval 293) line 1.
Unknown charname 'HIRAGANA LETTER SMALL BI' at (eval 295) line 1.
Unknown charname 'HIRAGANA LETTER SMALL BU' at (eval 297) line 1.
Unknown charname 'HIRAGANA LETTER SMALL BE' at (eval 299) line 1.
Unknown charname 'HIRAGANA LETTER SMALL BO' at (eval 301) line 1.
Unknown charname 'HIRAGANA LETTER SMALL PA' at (eval 303) line 1.
Unknown charname 'HIRAGANA LETTER SMALL PI' at (eval 305) line 1.
Unknown charname 'HIRAGANA LETTER SMALL PU' at (eval 307) line 1.
Unknown charname 'HIRAGANA LETTER SMALL PE' at (eval 309) line 1.
Unknown charname 'HIRAGANA LETTER SMALL PO' at (eval 311) line 1.
t/04_combined.t .... ok
t/05_filehandle.t .. ok
t/06_io.t .......... ok
t/07_backspace.t ... ok
t/08_duplicate.t ... ok
All tests successful.
Files=9, Tests=587, 2 wallclock secs ( 0.10 usr 0.02 sys + 1.11 cusr 0.26 csys = 1.49 CPU)
Result: PASS
------------------------------
PREREQUISITES
------------------------------
Prerequisite modules loaded:
requires:
Module Need Have
--------------------- ------- --------
perl v5.14.0 5.016003
Text::Conceal 1.03 1.03
Text::VisualWidth::PP 0.05 0.05
build_requires:
Module Need Have
--------------------- ------- --------
Test::More 0.98 1.302196
configure_requires:
Module Need Have
--------------------- ------- --------
Module::Build::Tiny 0.035 0.039
------------------------------
ENVIRONMENT AND OTHER CONTEXT
------------------------------
Environment variables:
AUTOMATED_TESTING = 1
LANG = en_US.UTF-8
LANGUAGE = en_US:en
PATH = /home/sand/bin:/usr/local/bin:/usr/bin:/bin:/usr/games:/usr/local/perl/bin:/usr/X11/bin:/sbin:/usr/sbin
PERL5LIB =
PERL5OPT =
PERL5_CPANPLUS_IS_RUNNING = 3208877
PERL5_CPAN_IS_RUNNING = 3208877
PERL_CANARY_STABILITY_NOPROMPT = 1
PERL_MM_USE_DEFAULT = 1
PERL_USE_UNSAFE_INC = 1
SHELL = /usr/bin/zsh
TERM = screen
Perl special variables (and OS-specific diagnostics, for MSWin32):
$^X = /home/sand/src/perl/repoperls/installed-perls/host/k93msid/v5.16.3/fc43/bin/perl
$UID/$EUID = 1005 / 1005
$GID = 1005 1005
$EGID = 1005 1005
Perl module toolchain versions installed:
Module Have
------------------- --------
CPAN 2.36
CPAN::Meta 2.150010
Cwd 3.75
ExtUtils::CBuilder 0.280236
ExtUtils::Command 7.70
ExtUtils::Install 2.20
ExtUtils::MakeMaker 7.70
ExtUtils::Manifest 1.75
ExtUtils::ParseXS 3.44
File::Spec 3.75
JSON 4.10
JSON::PP 4.12
Module::Build 0.4231
Module::Signature 0.88
Parse::CPAN::Meta 2.150010
Test2 1.302196
Test::Harness 3.47
Test::More 1.302196
YAML 1.30
YAML::Syck 1.34
version 0.9929
--
Summary of my perl5 (revision 5 version 16 subversion 3) configuration:
Derived from: fd04d42d38f4751b981eb6e9213ee1ab8ef11ea6
Platform:
osname=linux, osvers=5.16.0-5-amd64, archname=x86_64-linux-ld
uname='linux k93msid 5.16.0-5-amd64 #1 smp preempt debian 5.16.14-1 (2022-03-15) x86_64 gnulinux '
config_args='-Dprefix=/home/sand/src/perl/repoperls/installed-perls/host/k93msid/v5.16.3/fc43 -Dmyhostname=k93msid -Dinstallusrbinperl=n -Uversiononly -Dusedevel -des -Ui_db -Dlibswanted=cl pthread socket inet nsl gdbm dbm malloc dl ld sun m crypt sec util c cposix posix ucb BSD gdbm_compat -Uuseithreads -Duselongdouble -DEBUGGING=both'
hint=recommended, useposix=true, d_sigaction=define
useithreads=undef, usemultiplicity=undef
useperlio=define, d_sfio=undef, uselargefiles=define, usesocks=undef
use64bitint=define, use64bitall=define, uselongdouble=define
usemymalloc=n, bincompat5005=undef
Compiler:
cc='cc', ccflags ='-fwrapv -DDEBUGGING -fno-strict-aliasing -pipe -fstack-protector -I/usr/local/include -D_LARGEFILE_SOURCE -D_FILE_OFFSET_BITS=64',
optimize='-O2 -g',
cppflags='-fwrapv -DDEBUGGING -fno-strict-aliasing -pipe -fstack-protector -I/usr/local/include'
ccversion='', gccversion='11.2.0', gccosandvers=''
intsize=4, longsize=8, ptrsize=8, doublesize=8, byteorder=12345678
d_longlong=define, longlongsize=8, d_longdbl=define, longdblsize=16
ivtype='long', ivsize=8, nvtype='long double', nvsize=16, Off_t='off_t', lseeksize=8
alignbytes=16, prototype=define
Linker and Libraries:
ld='cc', ldflags =' -fstack-protector -L/usr/local/lib'
libpth=/usr/local/lib /lib/x86_64-linux-gnu /lib/../lib /usr/lib/x86_64-linux-gnu /usr/lib/../lib /lib /usr/lib
libs=-lpthread -lnsl -ldl -lm -lcrypt -lutil -lc
perllibs=-lpthread -lnsl -ldl -lm -lcrypt -lutil -lc
libc=libc-2.33.so, so=so, useshrplib=false, libperl=libperl.a
gnulibc_version='2.33'
Dynamic Linking:
dlsrc=dl_dlopen.xs, dlext=so, d_dlsymun=undef, ccdlflags='-Wl,-E'
cccdlflags='-fPIC', lddlflags='-shared -O2 -g -L/usr/local/lib -fstack-protector'
Characteristics of this binary (from libperl):
Compile-time options: DEBUGGING HAS_TIMES PERLIO_LAYERS
PERL_DONT_CREATE_GVSV PERL_MALLOC_WRAP
PERL_PRESERVE_IVUV PERL_USE_DEVEL USE_64_BIT_ALL
USE_64_BIT_INT USE_LARGE_FILES USE_LOCALE
USE_LOCALE_COLLATE USE_LOCALE_CTYPE
USE_LOCALE_NUMERIC USE_LONG_DOUBLE USE_PERLIO
USE_PERL_ATOF
Locally applied patches:
uncommitted-changes
Built under linux
Compiled at Mar 20 2022 04:26:25
%ENV:
PERL5LIB=""
PERL5OPT=""
PERL5_CPANPLUS_IS_RUNNING="3208877"
PERL5_CPAN_IS_RUNNING="3208877"
PERL_CANARY_STABILITY_NOPROMPT="1"
PERL_MM_USE_DEFAULT="1"
PERL_USE_UNSAFE_INC="1"
@INC:
/home/sand/src/perl/repoperls/installed-perls/host/k93msid/v5.16.3/fc43/lib/site_perl/5.16.3/x86_64-linux-ld
/home/sand/src/perl/repoperls/installed-perls/host/k93msid/v5.16.3/fc43/lib/site_perl/5.16.3
/home/sand/src/perl/repoperls/installed-perls/host/k93msid/v5.16.3/fc43/lib/5.16.3/x86_64-linux-ld
/home/sand/src/perl/repoperls/installed-perls/host/k93msid/v5.16.3/fc43/lib/5.16.3
.