Test-WWW-Mechanize v1.49_01 Perl 5 v5.26.0 MSWin32-x86-multi-thread-64int
- Status
- Pass
- From
- Alexandr Ciornii (CHORNY)
- Dist
-
Test-WWW-Mechanize v1.49_01
- Platform
- Perl 5 v5.26.0 MSWin32-x86-multi-thread-64int
- Date
- 2018-03-26 16:52:31
- ID
- d9f0f62a-6c5d-1014-9d63-b53057c31c24
This distribution has been tested as part of the CPAN Testers
project, supporting the Perl programming language. See
http://wiki.cpantesters.org/ for more information or email
questions to cpan-testers-discuss@perl.org
--
Dear Andy Lester,
This is a computer-generated report for Test-WWW-Mechanize-1.49_01
on perl 5.26.0, created by CPAN-Reporter-1.2018.
Thank you for uploading your work to CPAN. Congratulations!
All tests were successful.
Sections of this report:
* Tester comments
* Program output
* Prerequisites
* Environment and other context
------------------------------
TESTER COMMENTS
------------------------------
Additional comments from tester:
this report is from an automated smoke testing program
and was not reviewed by a human for accuracy
------------------------------
PROGRAM OUTPUT
------------------------------
Output from 'C:\STRAWB~1\c\bin\gmake.exe test':
"C:\Strawberry260\perl\bin\perl.exe" "-MExtUtils::Command::MM" "-MTest::Harness" "-e" "undef *Test::Harness::Switches; test_harness(0, 'blib\lib', 'blib\arch')" t/*.t
# Testing Test::WWW::Mechanize 1.49_01, with WWW::Mechanize 1.86, LWP 6.31, Test::More 1.302120, Perl 5.026000, C:\Strawberry260\perl\bin\perl.exe
# Found HTML::Lint 2.26
# Found HTML::Tidy 1.60
t/00-load.t ................ ok
t/autolint.t ............... ok
t/autotidy.t ............... skipped: HTML::Tidy5 1.00 is not installed, cannot test autotidy.
# Test server http://127.0.0.1:26611 as PID -1656
The requested name is valid and was found in the database, but it does not have the correct associated data being resolved for. at C:/Strawberry260/perl/vendor/lib/HTTP/Server/Simple.pm line 168, <DATA> line 16.
The requested name is valid and was found in the database, but it does not have the correct associated data being resolved for. at C:/Strawberry260/perl/vendor/lib/HTTP/Server/Simple.pm line 172, <DATA> line 16.
The requested name is valid and was found in the database, but it does not have the correct associated data being resolved for. at C:/Strawberry260/perl/vendor/lib/HTTP/Server/Simple.pm line 408, <DATA> line 16.
The requested name is valid and was found in the database, but it does not have the correct associated data being resolved for. at C:/Strawberry260/perl/vendor/lib/HTTP/Server/Simple.pm line 408, <> line 1.
t/click_ok.t ............... ok
t/content_contains.t ....... ok
t/content_lacks.t .......... ok
# Test server http://127.0.0.1:27441 as PID -1248
The requested name is valid and was found in the database, but it does not have the correct associated data being resolved for. at C:/Strawberry260/perl/vendor/lib/HTTP/Server/Simple.pm line 168, <DATA> line 16.
The requested name is valid and was found in the database, but it does not have the correct associated data being resolved for. at C:/Strawberry260/perl/vendor/lib/HTTP/Server/Simple.pm line 172, <DATA> line 16.
The requested name is valid and was found in the database, but it does not have the correct associated data being resolved for. at C:/Strawberry260/perl/vendor/lib/HTTP/Server/Simple.pm line 408, <DATA> line 16.
The requested name is valid and was found in the database, but it does not have the correct associated data being resolved for. at C:/Strawberry260/perl/vendor/lib/HTTP/Server/Simple.pm line 408, <> line 1.
The requested name is valid and was found in the database, but it does not have the correct associated data being resolved for. at C:/Strawberry260/perl/vendor/lib/HTTP/Server/Simple.pm line 408, <> line 2.
The requested name is valid and was found in the database, but it does not have the correct associated data being resolved for. at C:/Strawberry260/perl/vendor/lib/HTTP/Server/Simple.pm line 408, <> line 3.
t/delete_ok.t .............. ok
t/follow_link_ok.t ......... ok
t/followable_links.t ....... ok
t/get_ok-parms.t ........... ok
t/get_ok.t ................. ok
t/has_tag.t ................ ok
t/head_ok-parms.t .......... ok
t/head_ok.t ................ ok
# Test server http://127.0.0.1:31222 as PID -1268
The requested name is valid and was found in the database, but it does not have the correct associated data being resolved for. at C:/Strawberry260/perl/vendor/lib/HTTP/Server/Simple.pm line 168, <DATA> line 16.
The requested name is valid and was found in the database, but it does not have the correct associated data being resolved for. at C:/Strawberry260/perl/vendor/lib/HTTP/Server/Simple.pm line 172, <DATA> line 16.
The requested name is valid and was found in the database, but it does not have the correct associated data being resolved for. at C:/Strawberry260/perl/vendor/lib/HTTP/Server/Simple.pm line 408, <DATA> line 16.
t/headers.t ................ ok
t/html_lint_ok.t ........... ok
t/lacks_uncapped_inputs.t .. ok
t/link_content.t ........... ok
t/link_status.t ............ ok
t/links_ok.t ............... ok
t/new.t .................... ok
t/page_links_content.t ..... ok
t/page_links_ok.t .......... ok
t/pod-coverage.t ........... ok
t/pod.t .................... ok
# Test server http://127.0.0.1:31050 as PID -388
The requested name is valid and was found in the database, but it does not have the correct associated data being resolved for. at C:/Strawberry260/perl/vendor/lib/HTTP/Server/Simple.pm line 168, <DATA> line 16.
The requested name is valid and was found in the database, but it does not have the correct associated data being resolved for. at C:/Strawberry260/perl/vendor/lib/HTTP/Server/Simple.pm line 172, <DATA> line 16.
The requested name is valid and was found in the database, but it does not have the correct associated data being resolved for. at C:/Strawberry260/perl/vendor/lib/HTTP/Server/Simple.pm line 408, <DATA> line 16.
The requested name is valid and was found in the database, but it does not have the correct associated data being resolved for. at C:/Strawberry260/perl/vendor/lib/HTTP/Server/Simple.pm line 408, <> line 1.
The requested name is valid and was found in the database, but it does not have the correct associated data being resolved for. at C:/Strawberry260/perl/vendor/lib/HTTP/Server/Simple.pm line 408, <> line 2.
t/put_ok.t ................. ok
t/scrape_text_by_id.t ...... ok
t/stuff_inputs.t ........... ok
# Test server http://127.0.0.1:38533 as PID -320
The requested name is valid and was found in the database, but it does not have the correct associated data being resolved for. at C:/Strawberry260/perl/vendor/lib/HTTP/Server/Simple.pm line 168, <DATA> line 16.
The requested name is valid and was found in the database, but it does not have the correct associated data being resolved for. at C:/Strawberry260/perl/vendor/lib/HTTP/Server/Simple.pm line 172, <DATA> line 16.
The requested name is valid and was found in the database, but it does not have the correct associated data being resolved for. at C:/Strawberry260/perl/vendor/lib/HTTP/Server/Simple.pm line 408, <DATA> line 16.
The requested name is valid and was found in the database, but it does not have the correct associated data being resolved for. at C:/Strawberry260/perl/vendor/lib/HTTP/Server/Simple.pm line 408, <> line 1.
t/submit_form_ok.t ......... ok
t/text_contains.t .......... ok
t/title_is.t ............... ok
All tests successful.
Files=31, Tests=287, 24 wallclock secs ( 0.18 usr + 0.07 sys = 0.25 CPU)
Result: PASS
------------------------------
PREREQUISITES
------------------------------
Prerequisite modules loaded:
requires:
Module Need Have
------------------------- ----- --------
Carp 0 1.42
Carp::Assert::More 0 1.16
HTML::Form 0 6.03
HTML::TokeParser 0 3.69
HTML::TreeBuilder 0 5.07
HTTP::Server::Simple 0.42 0.52
HTTP::Server::Simple::CGI 0 0
LWP 6.02 6.31
parent 0 0.236
perl 5.008 5.026000
Test::Builder::Tester 1.09 1.302120
Test::LongString 0.15 0.17
Test::More 0.96 1.302120
URI::file 0 4.21
WWW::Mechanize 1.68 1.86
build_requires:
Module Need Have
------------------------- ----- --------
ExtUtils::MakeMaker 0 7.30
configure_requires:
Module Need Have
------------------------- ----- --------
ExtUtils::MakeMaker 0 7.30
------------------------------
ENVIRONMENT AND OTHER CONTEXT
------------------------------
Environment variables:
AUTOMATED_TESTING = 1
COMSPEC = C:\WINDOWS\system32\cmd.exe
NUMBER_OF_PROCESSORS = 1
PATH = C:\WINDOWS\system32;C:\WINDOWS;C:\WINDOWS\System32\Wbem;C:\Git\cmd;C:\Strawberry260\c\bin;C:\Strawberry260\perl\site\bin;C:\Strawberry260\perl\bin
PERL5LIB =
PERL5OPT =
PERL5_CPANPLUS_IS_RUNNING = 456
PERL5_CPAN_IS_RUNNING = 456
PERL5_CPAN_IS_RUNNING_IN_RECURSION = 1104,456
PERL_CR_SMOKER_CURRENT = Test-WWW-Mechanize-1.49_01
PERL_CR_SMOKER_RUNONCE = 1
PERL_EXTUTILS_AUTOINSTALL = --defaultdeps
PERL_MM_USE_DEFAULT = 1
PERL_USE_UNSAFE_INC = 1
PROCESSOR_IDENTIFIER = x86 Family 18 Model 1 Stepping 0, AuthenticAMD
TEMP = C:\DOCUME~1\a\LOCALS~1\Temp
Perl special variables (and OS-specific diagnostics, for MSWin32):
$^X = C:\Strawberry260\perl\bin\perl.exe
$UID/$EUID = 0 / 0
$GID = 0
$EGID = 0
Win32::GetOSName = WinXP/.Net
Win32::GetOSVersion = Service Pack 3, 5, 1, 2600, 2, 3, 0, 256, 1
Win32::FsType = NTFS
Win32::IsAdminUser = 1
Perl module toolchain versions installed:
Module Have
------------------- --------
CPAN 2.18
CPAN::Meta 2.150010
Cwd 3.67
ExtUtils::CBuilder 0.280230
ExtUtils::Command 7.30
ExtUtils::Install 2.14
ExtUtils::MakeMaker 7.30
ExtUtils::Manifest 1.70
ExtUtils::ParseXS 3.35
File::Spec 3.67
JSON 2.97001
JSON::PP 2.97001
Module::Build 0.4224
Module::Signature 0.81
Parse::CPAN::Meta 2.150010
Test::Harness 3.39
Test::More 1.302120
YAML 1.24
YAML::Syck 1.30
version 0.9918
--
Summary of my perl5 (revision 5 version 26 subversion 0) configuration:
Platform:
osname=MSWin32
osvers=4.0
archname=MSWin32-x86-multi-thread-64int
uname='Win32 strawberry-perl 5.26.0.1 #1 Sat Dec 30 15:55:34 2017 i386'
config_args='undef'
hint=recommended
useposix=true
d_sigaction=undef
useithreads=define
usemultiplicity=define
use64bitint=define
use64bitall=undef
uselongdouble=undef
usemymalloc=n
default_inc_excludes_dot=define
bincompat5005=undef
Compiler:
cc='gcc'
ccflags =' -s -O2 -DWIN32 -D__USE_MINGW_ANSI_STDIO -DPERL_TEXTMODE_SCRIPTS -DPERL_IMPLICIT_CONTEXT -DPERL_IMPLICIT_SYS -DUSE_PERLIO -fwrapv -fno-strict-aliasing -mms-bitfields'
optimize='-s -O2'
cppflags='-DWIN32'
ccversion=''
gccversion='7.1.0'
gccosandvers=''
intsize=4
longsize=4
ptrsize=4
doublesize=8
byteorder=12345678
doublekind=3
d_longlong=define
longlongsize=8
d_longdbl=define
longdblsize=12
longdblkind=3
ivtype='long long'
ivsize=8
nvtype='double'
nvsize=8
Off_t='long long'
lseeksize=8
alignbytes=8
prototype=define
Linker and Libraries:
ld='g++'
ldflags ='-s -L"C:\STRAWB~1\perl\lib\CORE" -L"C:\STRAWB~1\c\lib"'
libpth=C:\STRAWB~1\c\lib C:\STRAWB~1\c\i686-w64-mingw32\lib C:\STRAWB~1\c\lib\gcc\i686-w64-mingw32\7.1.0
libs= -lmoldname -lkernel32 -luser32 -lgdi32 -lwinspool -lcomdlg32 -ladvapi32 -lshell32 -lole32 -loleaut32 -lnetapi32 -luuid -lws2_32 -lmpr -lwinmm -lversion -lodbc32 -lodbccp32 -lcomctl32
perllibs= -lmoldname -lkernel32 -luser32 -lgdi32 -lwinspool -lcomdlg32 -ladvapi32 -lshell32 -lole32 -loleaut32 -lnetapi32 -luuid -lws2_32 -lmpr -lwinmm -lversion -lodbc32 -lodbccp32 -lcomctl32
libc=
so=dll
useshrplib=true
libperl=libperl526.a
gnulibc_version=''
Dynamic Linking:
dlsrc=dl_win32.xs
dlext=xs.dll
d_dlsymun=undef
ccdlflags=' '
cccdlflags=' '
lddlflags='-mdll -s -L"C:\STRAWB~1\perl\lib\CORE" -L"C:\STRAWB~1\c\lib"'
Characteristics of this binary (from libperl):
Compile-time options:
HAS_TIMES
HAVE_INTERP_INTERN
MULTIPLICITY
PERLIO_LAYERS
PERL_COPY_ON_WRITE
PERL_DONT_CREATE_GVSV
PERL_IMPLICIT_CONTEXT
PERL_IMPLICIT_SYS
PERL_MALLOC_WRAP
PERL_OP_PARENT
PERL_PRESERVE_IVUV
USE_64_BIT_INT
USE_ITHREADS
USE_LARGE_FILES
USE_LOCALE
USE_LOCALE_COLLATE
USE_LOCALE_CTYPE
USE_LOCALE_NUMERIC
USE_LOCALE_TIME
USE_PERLIO
USE_PERL_ATOF
Built under MSWin32
Compiled at Dec 30 2017 16:05:39
%ENV:
PERL5_CPANPLUS_IS_RUNNING="456"
PERL5_CPAN_IS_RUNNING="456"
PERL5_CPAN_IS_RUNNING_IN_RECURSION="1104,456"
PERL_CR_SMOKER_CURRENT="Test-WWW-Mechanize-1.49_01"
PERL_CR_SMOKER_RUNONCE="1"
PERL_EXTUTILS_AUTOINSTALL="--defaultdeps"
PERL_MM_USE_DEFAULT="1"
PERL_USE_UNSAFE_INC="1"
@INC:
C:/Strawberry260/perl/site/lib
C:/Strawberry260/perl/vendor/lib
C:/Strawberry260/perl/lib
.