Report for Data-ICal-0.17

Back
From: metabase:user:e3434da8-b236-11df-85ca-0247c6d74bde
Subject: PASS Data-ICal-0.17 v5.15.2 GNU/Linux
Date: 2011-11-28T12:16:50Z

This distribution has been tested as part of the CPAN Testers
project, supporting the Perl programming language.  See
http://wiki.cpantesters.org/ for more information or email
questions to cpan-testers-discuss@perl.org


--
Dear Jesse Vincent,

This is a computer-generated report for Data-ICal-0.17
on perl 5.15.2, created by CPAN-Reporter-1.2002.

Thank you for uploading your work to CPAN.  Congratulations!
All tests were successful.

Sections of this report:

    * Tester comments
    * Program output
    * Prerequisites
    * Environment and other context

------------------------------
TESTER COMMENTS
------------------------------

Additional comments from tester:

this report is from an automated smoke testing program
and was not reviewed by a human for accuracy

------------------------------
PROGRAM OUTPUT
------------------------------

Output from '/usr/bin/make test':

PERL_DL_NONLAZY=1 /home/perl5152/testing/bin/perl5.15.2 "-MExtUtils::Command::MM" "-e" "test_harness(0, 'inc', 'blib/lib', 'blib/arch')" t/00.load.t t/01.simplegen.t t/02.linewrap.t t/03.unknown-props.t t/04.mandatory-props.t t/05.prop-params.t t/06.prop-bad-quote.t t/07.roundtrip.t t/08.parse.t t/09.mime.t t/10.mime-vcal10.t t/11.crlf.t t/pod-coverage.t t/pod.t
# Testing Data::ICal 0.17
t/00.load.t ............. ok
t/01.simplegen.t ........ ok
t/02.linewrap.t ......... ok
t/03.unknown-props.t .... ok
t/04.mandatory-props.t .. ok
t/05.prop-params.t ...... ok
t/06.prop-bad-quote.t ... ok
t/07.roundtrip.t ........ ok
t/08.parse.t ............ ok
t/09.mime.t ............. ok
t/10.mime-vcal10.t ...... ok
t/11.crlf.t ............. ok
t/pod-coverage.t ........ ok
t/pod.t ................. ok
All tests successful.
Files=14, Tests=161,  1 wallclock secs ( 0.07 usr  0.03 sys +  0.81 cusr  0.19 csys =  1.10 CPU)
Result: PASS

------------------------------
PREREQUISITES
------------------------------

Prerequisite modules loaded:

requires:

    Module              Need Have
    ------------------- ---- ----
    Class::Accessor     0    0.34
    Class::ReturnValue  0    0.55
    ExtUtils::MakeMaker 6.42 6.59
    MIME::QuotedPrint   0    3.13
    Test::LongString    0    0.15
    Test::More          0    0.98
    Test::NoWarnings    0    1.03
    Test::Warn          0    0.23
    Text::vFile::asData 0    0.07

build_requires:

    Module              Need Have
    ------------------- ---- ----
    ExtUtils::MakeMaker 0    6.59

configure_requires:

    Module              Need Have
    ------------------- ---- ----
    ExtUtils::MakeMaker 6.42 6.59


------------------------------
ENVIRONMENT AND OTHER CONTEXT
------------------------------

Environment variables:

    AUTOMATED_TESTING = 1
    LANG = en_GB.utf8
    LC_COLLATE = C
    LC_MONETARY = nl_NL.utf8
    PATH = /home/tester/perl5/perlbrew/bin:/home/tester/perl5/perlbrew/perls/perl-5.15.2/bin:/usr/lib64/qt-3.3/bin:/usr/lib64/ccache:/usr/local/bin:/bin:/usr/bin:/usr/local/sbin:/usr/sbin:/sbin:/home/tester/bin:/home/tester/bin
    PATH_WITHOUT_PERLBREW = /usr/lib64/qt-3.3/bin:/usr/lib64/ccache:/usr/local/bin:/bin:/usr/bin:/usr/local/sbin:/usr/sbin:/sbin:/home/tester/bin
    PERL5LIB = /home/perl5152/.cpan/build/Test-Warn-0.23-Uqd9mB/blib/arch:/home/perl5152/.cpan/build/Test-Warn-0.23-Uqd9mB/blib/lib:/home/perl5152/.cpan/build/Tree-DAG_Node-1.06-_D85eg/blib/arch:/home/perl5152/.cpan/build/Tree-DAG_Node-1.06-_D85eg/blib/lib:/home/perl5152/.cpan/build/Text-vFile-asData-0.07-6DDY3U/blib/arch:/home/perl5152/.cpan/build/Text-vFile-asData-0.07-6DDY3U/blib/lib:/home/perl5152/.cpan/build/Class-Accessor-Chained-0.01-olQE2T/blib/arch:/home/perl5152/.cpan/build/Class-Accessor-Chained-0.01-olQE2T/blib/lib:/home/perl5152/.cpan/build/Class-Accessor-0.34-ljjn8M/blib/arch:/home/perl5152/.cpan/build/Class-Accessor-0.34-ljjn8M/blib/lib:/home/perl5152/.cpan/build/Class-ReturnValue-0.55-vpss4J/blib/arch:/home/perl5152/.cpan/build/Class-ReturnValue-0.55-vpss4J/blib/lib:/home/perl5152/.cpan/build/Devel-StackTrace-1.27-vL1LR5/blib/arch:/home/perl5152/.cpan/build/Devel-StackTrace-1.27-vL1LR5/blib/lib:/home/perl5152/.cpan/build/Test-LongString-0.15-7XrLvw/blib/arch:/home/perl5152/.cpan/build/Test-LongString-0.15-7XrLvw/blib/lib
    PERL5OPT = 
    PERL5_CPANPLUS_IS_RUNNING = 19652
    PERL5_CPAN_IS_RUNNING = 19652
    PERL5_CPAN_IS_RUNNING_IN_RECURSION = 8661,19652
    PERLBREW_PATH = /home/tester/perl5/perlbrew/bin:/home/tester/perl5/perlbrew/perls/perl-5.15.2/bin
    PERLBREW_PERL = perl-5.15.2
    PERLBREW_ROOT = /home/tester/perl5/perlbrew
    PERLBREW_VERSION = 0.15
    PERL_CR_SMOKER_CURRENT = Data-ICal-0.17
    PERL_EXTUTILS_AUTOINSTALL = --defaultdeps
    PERL_MM_USE_DEFAULT = 1
    SHELL = /bin/bash
    TERM = screen

Perl special variables (and OS-specific diagnostics, for MSWin32):

    $^X = /home/perl5152/testing/bin/perl5.15.2
    $UID/$EUID = 512 / 512
    $GID = 512 512
    $EGID = 512 512

Perl module toolchain versions installed:

    Module              Have    
    ------------------- --------
    CPAN                1.9800  
    CPAN::Meta          2.112150
    Cwd                 3.37    
    ExtUtils::CBuilder  0.280204
    ExtUtils::Command   1.17    
    ExtUtils::Install   1.57    
    ExtUtils::MakeMaker 6.59    
    ExtUtils::Manifest  1.60    
    ExtUtils::ParseXS   3.03_01 
    File::Spec          3.34    
    JSON                2.53    
    JSON::PP            2.27200 
    Module::Build       0.39_01 
    Module::Signature   n/a     
    Parse::CPAN::Meta   1.4401  
    Test::Harness       3.23    
    Test::More          0.98    
    YAML                n/a     
    YAML::Syck          n/a     
    version             0.94    


--

Summary of my perl5 (revision 5 version 15 subversion 2) configuration:
   
  Platform:
    osname=linux, osvers=2.6.38.8-35.fc15.x86_64, archname=x86_64-linux-thread-multi
    uname='linux firenze.fritz.box 2.6.38.8-35.fc15.x86_64 #1 smp wed jul 6 13:58:54 utc 2011 x86_64 x86_64 x86_64 gnulinux '
    config_args='-des -Dprefix=/home/perl5152/testing/ -Dusethreads -Dusedevel'
    hint=recommended, useposix=true, d_sigaction=define
    useithreads=define, usemultiplicity=define
    useperlio=define, d_sfio=undef, uselargefiles=define, usesocks=undef
    use64bitint=define, use64bitall=define, uselongdouble=undef
    usemymalloc=n, bincompat5005=undef
  Compiler:
    cc='cc', ccflags ='-D_REENTRANT -D_GNU_SOURCE -fno-strict-aliasing -pipe -fstack-protector -I/usr/local/include -D_LARGEFILE_SOURCE -D_FILE_OFFSET_BITS=64',
    optimize='-O2',
    cppflags='-D_REENTRANT -D_GNU_SOURCE -fno-strict-aliasing -pipe -fstack-protector -I/usr/local/include'
    ccversion='', gccversion='4.6.0 20110530 (Red Hat 4.6.0-9)', gccosandvers=''
    intsize=4, longsize=8, ptrsize=8, doublesize=8, byteorder=12345678
    d_longlong=define, longlongsize=8, d_longdbl=define, longdblsize=16
    ivtype='long', ivsize=8, nvtype='double', nvsize=8, Off_t='off_t', lseeksize=8
    alignbytes=8, prototype=define
  Linker and Libraries:
    ld='cc', ldflags =' -fstack-protector -L/usr/local/lib'
    libpth=/usr/local/lib /lib/../lib64 /usr/lib/../lib64 /lib /usr/lib /lib64 /usr/lib64 /usr/local/lib64
    libs=-lnsl -lgdbm -ldb -ldl -lm -lcrypt -lutil -lpthread -lc -lgdbm_compat
    perllibs=-lnsl -ldl -lm -lcrypt -lutil -lpthread -lc
    libc=, so=so, useshrplib=false, libperl=libperl.a
    gnulibc_version='2.14'
  Dynamic Linking:
    dlsrc=dl_dlopen.xs, dlext=so, d_dlsymun=undef, ccdlflags='-Wl,-E'
    cccdlflags='-fPIC', lddlflags='-shared -O2 -L/usr/local/lib -fstack-protector'


Characteristics of this binary (from libperl): 
  Compile-time options: HAS_TIMES MULTIPLICITY PERLIO_LAYERS
                        PERL_DONT_CREATE_GVSV PERL_IMPLICIT_CONTEXT
                        PERL_MALLOC_WRAP PERL_PRESERVE_IVUV PERL_USE_DEVEL
                        USE_64_BIT_ALL USE_64_BIT_INT USE_ITHREADS
                        USE_LARGE_FILES USE_LOCALE USE_LOCALE_COLLATE
                        USE_LOCALE_CTYPE USE_LOCALE_NUMERIC USE_PERLIO
                        USE_PERL_ATOF USE_REENTRANT_API
  Built under linux
  Compiled at Aug 21 2011 23:35:28
  %ENV:
    PERL5LIB="/home/perl5152/.cpan/build/Test-Warn-0.23-Uqd9mB/blib/arch:/home/perl5152/.cpan/build/Test-Warn-0.23-Uqd9mB/blib/lib:/home/perl5152/.cpan/build/Tree-DAG_Node-1.06-_D85eg/blib/arch:/home/perl5152/.cpan/build/Tree-DAG_Node-1.06-_D85eg/blib/lib:/home/perl5152/.cpan/build/Text-vFile-asData-0.07-6DDY3U/blib/arch:/home/perl5152/.cpan/build/Text-vFile-asData-0.07-6DDY3U/blib/lib:/home/perl5152/.cpan/build/Class-Accessor-Chained-0.01-olQE2T/blib/arch:/home/perl5152/.cpan/build/Class-Accessor-Chained-0.01-olQE2T/blib/lib:/home/perl5152/.cpan/build/Class-Accessor-0.34-ljjn8M/blib/arch:/home/perl5152/.cpan/build/Class-Accessor-0.34-ljjn8M/blib/lib:/home/perl5152/.cpan/build/Class-ReturnValue-0.55-vpss4J/blib/arch:/home/perl5152/.cpan/build/Class-ReturnValue-0.55-vpss4J/blib/lib:/home/perl5152/.cpan/build/Devel-StackTrace-1.27-vL1LR5/blib/arch:/home/perl5152/.cpan/build/Devel-StackTrace-1.27-vL1LR5/blib/lib:/home/perl5152/.cpan/build/Test-LongString-0.15-7XrLvw/blib/arch:/home/perl5152/.cpan/build/Test-LongString-0.15-7XrLvw/blib/lib"
    PERL5OPT=""
    PERL5_CPANPLUS_IS_RUNNING="19652"
    PERL5_CPAN_IS_RUNNING="19652"
    PERL5_CPAN_IS_RUNNING_IN_RECURSION="8661,19652"
    PERLBREW_PATH="/home/tester/perl5/perlbrew/bin:/home/tester/perl5/perlbrew/perls/perl-5.15.2/bin"
    PERLBREW_PERL="perl-5.15.2"
    PERLBREW_ROOT="/home/tester/perl5/perlbrew"
    PERLBREW_VERSION="0.15"
    PERL_CR_SMOKER_CURRENT="Data-ICal-0.17"
    PERL_EXTUTILS_AUTOINSTALL="--defaultdeps"
    PERL_MM_USE_DEFAULT="1"
  @INC:
    /home/perl5152/.cpan/build/Test-Warn-0.23-Uqd9mB/blib/arch
    /home/perl5152/.cpan/build/Test-Warn-0.23-Uqd9mB/blib/lib
    /home/perl5152/.cpan/build/Tree-DAG_Node-1.06-_D85eg/blib/arch
    /home/perl5152/.cpan/build/Tree-DAG_Node-1.06-_D85eg/blib/lib
    /home/perl5152/.cpan/build/Text-vFile-asData-0.07-6DDY3U/blib/arch
    /home/perl5152/.cpan/build/Text-vFile-asData-0.07-6DDY3U/blib/lib
    /home/perl5152/.cpan/build/Class-Accessor-Chained-0.01-olQE2T/blib/arch
    /home/perl5152/.cpan/build/Class-Accessor-Chained-0.01-olQE2T/blib/lib
    /home/perl5152/.cpan/build/Class-Accessor-0.34-ljjn8M/blib/arch
    /home/perl5152/.cpan/build/Class-Accessor-0.34-ljjn8M/blib/lib
    /home/perl5152/.cpan/build/Class-ReturnValue-0.55-vpss4J/blib/arch
    /home/perl5152/.cpan/build/Class-ReturnValue-0.55-vpss4J/blib/lib
    /home/perl5152/.cpan/build/Devel-StackTrace-1.27-vL1LR5/blib/arch
    /home/perl5152/.cpan/build/Devel-StackTrace-1.27-vL1LR5/blib/lib
    /home/perl5152/.cpan/build/Test-LongString-0.15-7XrLvw/blib/arch
    /home/perl5152/.cpan/build/Test-LongString-0.15-7XrLvw/blib/lib
    /home/perl5152/testing/lib/site_perl/5.15.2/x86_64-linux-thread-multi
    /home/perl5152/testing/lib/site_perl/5.15.2
    /home/perl5152/testing/lib/5.15.2/x86_64-linux-thread-multi
    /home/perl5152/testing/lib/5.15.2
    .