Report for WebAPI-DBIC-0.004002

Back
From: metabase:user:314402c4-2aae-11df-837a-5e0a49663a4f
Subject: PASS WebAPI-DBIC-0.004002 v5.25.10 GNU/Linux
Date: 2017-02-25T15:05:31Z

This distribution has been tested as part of the CPAN Testers
project, supporting the Perl programming language.  See
http://wiki.cpantesters.org/ for more information or email
questions to cpan-testers-discuss@perl.org


--
Dear Tim Bunce,

This is a computer-generated report for WebAPI-DBIC-0.004002
on perl 5.25.10, created by CPAN-Reporter-1.2018.

Thank you for uploading your work to CPAN.  Congratulations!
All tests were successful.

Sections of this report:

    * Tester comments
    * Program output
    * Prerequisites
    * Environment and other context

------------------------------
TESTER COMMENTS
------------------------------

Additional comments from tester:

none provided

------------------------------
PROGRAM OUTPUT
------------------------------

Output from '/usr/bin/make test':

PERL_DL_NONLAZY=1 "/bbbike/perl-5.25.10/bin/perl5.25.10" "-MExtUtils::Command::MM" "-MTest::Harness" "-e" "undef *Test::Harness::Switches; test_harness(0, 'blib/lib', 'blib/arch')" t/*.t t/media-active-model/*.t t/media-hal/*.t t/media-jsonapi/*.t
Can't locate Alien/Web/HalBrowser.pm in @INC (you may need to install the Alien::Web::HalBrowser module) (@INC contains: blib/lib /tmpfs/.cpan-build-cpansand/2017022403/WebAPI-DBIC-0.004002-0/blib/lib /tmpfs/.cpan-build-cpansand/2017022403/WebAPI-DBIC-0.004002-0/blib/arch /opt/perl-5.25.10/lib/site_perl/5.25.10/x86_64-linux /opt/perl-5.25.10/lib/site_perl/5.25.10/x86_64-linux /opt/perl-5.25.10/lib/site_perl/5.25.10 /opt/perl-5.25.10/lib/5.25.10/x86_64-linux /opt/perl-5.25.10/lib/5.25.10/x86_64-linux /opt/perl-5.25.10/lib/5.25.10 . /tmpfs/.cpan-build-cpansand/2017022403/WebAPI-DBIC-0.004002-0/blib/lib /tmpfs/.cpan-build-cpansand/2017022403/WebAPI-DBIC-0.004002-0/blib/arch /opt/perl-5.25.10/lib/site_perl/5.25.10/x86_64-linux /opt/perl-5.25.10/lib/site_perl/5.25.10 /opt/perl-5.25.10/lib/5.25.10/x86_64-linux /opt/perl-5.25.10/lib/5.25.10 .) at webapi-dbic-any.psgi line 29.
BEGIN failed--compilation aborted at webapi-dbic-any.psgi line 29.
Can't locate Alien/Web/HalBrowser.pm in @INC (you may need to install the Alien::Web::HalBrowser module) (@INC contains: t/lib blib/lib /tmpfs/.cpan-build-cpansand/2017022403/WebAPI-DBIC-0.004002-0/blib/lib /tmpfs/.cpan-build-cpansand/2017022403/WebAPI-DBIC-0.004002-0/blib/arch /opt/perl-5.25.10/lib/site_perl/5.25.10/x86_64-linux /opt/perl-5.25.10/lib/site_perl/5.25.10 /opt/perl-5.25.10/lib/5.25.10/x86_64-linux /opt/perl-5.25.10/lib/5.25.10 .) at webapi-dbic-demo.psgi line 18.
BEGIN failed--compilation aborted at webapi-dbic-demo.psgi line 18.
t/00-compile.t .......................... ok
t/10-basics-req.t ....................... ok
t/11-paging-req.t ....................... ok
t/12-searching-req.t .................... ok
t/13-fields-req.t ....................... ok
t/14-distinct-req.t ..................... ok
t/30-ordering-req.t ..................... ok
t/50-modify-req.t ....................... ok
t/53-put_rel-req.t ...................... ok
Exception: DBIx::Class::Row::get_column(): No such column 'nonesuch' on TestSchema::Result::Artist at /tmpfs/.cpan-build-cpansand/2017022403/WebAPI-DBIC-0.004002-0/blib/lib/WebAPI/DBIC/Resource/Role/ItemInvoke.pm line 57
t/60-invoke-req.t ....................... ok
t/90-root-req.t ......................... ok
t/media-active-model/10-basics-req.t .... ok
Child result class TestSchema::Result::CD_to_Producer has multiple keys (cd producer) so relations like cd_to_producer won't have links generated.
t/media-active-model/40-prefetch-req.t .. ok
TestSchema::Result::Artist relationship cds_90s has coderef-based condition which is not handled yet - unknown crosstable_cond_key
t/media-hal/10-basics-req.t ............. ok
TestSchema::Result::Artist relationship cds_90s has coderef-based condition which is not handled yet - unknown crosstable_cond_key
t/media-hal/11-paging-req.t ............. ok
TestSchema::Result::Artist relationship cds_90s has coderef-based condition which is not handled yet - unknown crosstable_cond_key
t/media-hal/12-searching-req.t .......... ok
TestSchema::Result::Artist relationship cds_90s has coderef-based condition which is not handled yet - unknown crosstable_cond_key
t/media-hal/13-fields-req.t ............. ok
t/media-hal/14-distinct-req.t ........... ok
t/media-hal/30-ordering-req.t ........... ok
TestSchema::Result::Artist relationship cds_90s has coderef-based condition which is not handled yet - unknown crosstable_cond_key
t/media-hal/40-prefetch-req.t ........... ok
TestSchema::Result::Artist relationship cds_90s has coderef-based condition which is not handled yet - unknown crosstable_cond_key
t/media-hal/50-modify-req.t ............. ok
TestSchema::Result::Track relationship next_tracks has coderef-based condition which is not handled yet - unknown crosstable_cond_key
t/media-hal/52-post_rel-req.t ........... ok
TestSchema::Result::Track relationship next_tracks has coderef-based condition which is not handled yet - unknown crosstable_cond_key
t/media-hal/53-put_rel-req.t ............ ok
t/media-hal/90-root-req.t ............... ok
t/media-jsonapi/10-basics-req.t ......... ok
Result class TestSchema::Result::CD_to_Producer has multiple keys (cd producer) so relations like cd_to_producer won't have links generated.
t/media-jsonapi/40-prefetch-req.t ....... ok
t/release-pod-syntax.t .................. skipped: these tests are for release candidate testing
All tests successful.
Files=27, Tests=151, 33 wallclock secs ( 0.10 usr  0.15 sys + 27.68 cusr  4.25 csys = 32.18 CPU)
Result: PASS

------------------------------
PREREQUISITES
------------------------------

Prerequisite modules loaded:

requires:

    Module                      Need                 Have    
    --------------------------- -------------------- --------
  ! Alien::Web::HalBrowser      0                    n/a     
    Data::Dumper::Concise       0                    2.022   
    DBD::SQLite                 1.46                 1.54    
    DBIx::Class                 0.08250              0.082840
    HTTP::Headers::ActionPack   0                    0.09    
    HTTP::Throwable             0                    0.026   
    JSON::MaybeXS               0                    1.003008
    Lingua::EN::Inflect         1.894                1.901   
    Lingua::EN::Inflect::Number 1.11                 1.12    
    List::MoreUtils             0.408                0.416   
    List::Util                  0                    1.47    
    Module::Runtime             0                    0.014   
    Moo                         1.001000             2.003000
    MooX::StrictConstructor     0.006                0.008   
    namespace::clean            0.25                 0.27    
    parent                      0                    0.236   
    Path::Router                0.14                 0.15    
    perl                        5.010                5.025010
    Plack                       1.0033               1.0043  
    Plack::App::File            0                    0       
    Plack::App::Path::Router    0.08                 0.08    
    Safe::Isa                   0                    1.000006
    Scalar::Util                0                    1.47    
    SQL::Translator             0.11018              0.11021 
    String::CamelCase           0                    0.02    
    Sub::Exporter               0                    0.987   
    Sub::Quote                  0                    2.003001
    Sub::Util                   0                    1.47    
    Try::Tiny                   0                    0.28    
    URI                         0                    1.71    
    Web::Machine                0.15                 0.17    

build_requires:

    Module                      Need                 Have    
    --------------------------- -------------------- --------
    autodie                     0                    2.29    
    Cpanel::JSON::XS            >= 3.0110, != 3.0112 3.0227  
    Data::Printer               0                    0.38    
    DBIx::Class::Fixtures       1.001025             1.001036
    ExtUtils::MakeMaker         0                    7.24    
    Module::Pluggable           0                    5.2     
    Sort::Key                   0                    1.33    
    Test::Compile               v1.1.0               v1.3.0  
    Test::DBIx::Class           0.43                 0.52    
    Test::HTTP::Response        0                    0.06    
    Test::More                  0.98                 1.302075
    Test::Most                  0                    0.35    
    Test::Pod                   0                    1.51    
    ToolSet                     0                    1.02    

configure_requires:

    Module                      Need                 Have    
    --------------------------- -------------------- --------
    ExtUtils::MakeMaker         0                    7.24    


------------------------------
ENVIRONMENT AND OTHER CONTEXT
------------------------------

Environment variables:

    LANG = C
    LC_ALL = de_DE.UTF-8
    PATH = /usr/local/bin:/usr/bin:/bin:/usr/local/sbin:/usr/sbin:/sbin:/home/cpansand/bin/linux-gnu:/home/cpansand/bin/sh:/home/cpansand/bin:/usr/games:/home/cpansand/devel:/home/eserte/src/srezic-misc/scripts
    PERL5LIB = 
    PERL5OPT = 
    PERL5_CPANPLUS_IS_RUNNING = 10459
    PERL5_CPAN_IS_RUNNING = 10459
    PERL5_CPAN_IS_RUNNING_IN_RECURSION = 21307,10459
    PERLDOC = -MPod::Perldoc::ToTextOverstrike
    PERL_BATCH = yes
    PERL_CANARY_STABILITY_NOPROMPT = 1
    PERL_CPAN_REPORTER_CONFIG = /var/tmp/cpansmoker-1023/2017022403/cpanreporter_001_config.ini
    PERL_EXTUTILS_AUTOINSTALL = --defaultdeps
    PERL_PARALLEL_SMOKER = yes
    PERL_USE_UNSAFE_INC = 1
    SHELL = /bin/zsh
    TERM = screen
    TMPDIR = /var/tmp/cpansmoker-1023/2017022403

Perl special variables (and OS-specific diagnostics, for MSWin32):

    $^X = /bbbike/perl-5.25.10/bin/perl5.25.10
    $UID/$EUID = 1023 / 1023
    $GID = 1023 1023
    $EGID = 1023 1023

Perl module toolchain versions installed:

    Module              Have    
    ------------------- --------
    CPAN                2.16    
    CPAN::Meta          2.150010
    Cwd                 3.66    
    ExtUtils::CBuilder  0.280225
    ExtUtils::Command   7.24    
    ExtUtils::Install   2.04    
    ExtUtils::MakeMaker 7.24    
    ExtUtils::Manifest  1.70    
    ExtUtils::ParseXS   3.33    
    File::Spec          3.66    
    JSON                2.90    
    JSON::PP            2.27400 
    Module::Build       0.4220  
    Module::Signature   0.81    
    Parse::CPAN::Meta   2.150010
    Test::Harness       3.36_01 
    Test::More          1.302075
    YAML                1.23    
    YAML::Syck          1.29    
    version             0.9917  


--

Summary of my perl5 (revision 5 version 25 subversion 10) configuration:
   
  Platform:
    osname=linux
    osvers=3.16.0-4-amd64
    archname=x86_64-linux
    uname='linux eserte 3.16.0-4-amd64 #1 smp debian 3.16.39-1 (2016-12-30) x86_64 gnulinux '
    config_args='-ds -e -Dprefix=/opt/perl-5.25.10 -Dusedevel -Dusemallocwrap=no -Dcf_email=srezic@cpan.org'
    hint=recommended
    useposix=true
    d_sigaction=define
    useithreads=undef
    usemultiplicity=undef
    use64bitint=define
    use64bitall=define
    uselongdouble=undef
    usemymalloc=n
    bincompat5005=undef
  Compiler:
    cc='cc'
    ccflags ='-fwrapv -fno-strict-aliasing -pipe -fstack-protector-strong -I/usr/local/include -D_LARGEFILE_SOURCE -D_FILE_OFFSET_BITS=64 -D_FORTIFY_SOURCE=2'
    optimize='-O2'
    cppflags='-fwrapv -fno-strict-aliasing -pipe -fstack-protector-strong -I/usr/local/include'
    ccversion=''
    gccversion='4.9.2'
    gccosandvers=''
    intsize=4
    longsize=8
    ptrsize=8
    doublesize=8
    byteorder=12345678
    doublekind=3
    d_longlong=define
    longlongsize=8
    d_longdbl=define
    longdblsize=16
    longdblkind=3
    ivtype='long'
    ivsize=8
    nvtype='double'
    nvsize=8
    Off_t='off_t'
    lseeksize=8
    alignbytes=8
    prototype=define
  Linker and Libraries:
    ld='cc'
    ldflags =' -fstack-protector-strong -L/usr/local/lib'
    libpth=/usr/local/lib /usr/lib/gcc/x86_64-linux-gnu/4.9/include-fixed /usr/include/x86_64-linux-gnu /usr/lib /lib/x86_64-linux-gnu /lib/../lib /usr/lib/x86_64-linux-gnu /usr/lib/../lib /lib
    libs=-lpthread -lnsl -lgdbm -ldb -ldl -lm -lcrypt -lutil -lc -lgdbm_compat
    perllibs=-lpthread -lnsl -ldl -lm -lcrypt -lutil -lc
    libc=libc-2.19.so
    so=so
    useshrplib=false
    libperl=libperl.a
    gnulibc_version='2.19'
  Dynamic Linking:
    dlsrc=dl_dlopen.xs
    dlext=so
    d_dlsymun=undef
    ccdlflags='-Wl,-E'
    cccdlflags='-fPIC'
    lddlflags='-shared -O2 -L/usr/local/lib -fstack-protector-strong'


Characteristics of this binary (from libperl): 
  Compile-time options:
    HAS_TIMES
    PERLIO_LAYERS
    PERL_COPY_ON_WRITE
    PERL_DONT_CREATE_GVSV
    PERL_OP_PARENT
    PERL_PRESERVE_IVUV
    PERL_USE_DEVEL
    USE_64_BIT_ALL
    USE_64_BIT_INT
    USE_LARGE_FILES
    USE_LOCALE
    USE_LOCALE_COLLATE
    USE_LOCALE_CTYPE
    USE_LOCALE_NUMERIC
    USE_LOCALE_TIME
    USE_PERLIO
    USE_PERL_ATOF
  Built under linux
  Compiled at Feb 21 2017 21:02:42
  %ENV:
    PERL5LIB=""
    PERL5OPT=""
    PERL5_CPANPLUS_IS_RUNNING="10459"
    PERL5_CPAN_IS_RUNNING="10459"
    PERL5_CPAN_IS_RUNNING_IN_RECURSION="21307,10459"
    PERLDOC="-MPod::Perldoc::ToTextOverstrike"
    PERL_BATCH="yes"
    PERL_CANARY_STABILITY_NOPROMPT="1"
    PERL_CPAN_REPORTER_CONFIG="/var/tmp/cpansmoker-1023/2017022403/cpanreporter_001_config.ini"
    PERL_EXTUTILS_AUTOINSTALL="--defaultdeps"
    PERL_PARALLEL_SMOKER="yes"
    PERL_USE_UNSAFE_INC="1"
  @INC:
    /opt/perl-5.25.10/lib/site_perl/5.25.10/x86_64-linux
    /opt/perl-5.25.10/lib/site_perl/5.25.10
    /opt/perl-5.25.10/lib/5.25.10/x86_64-linux
    /opt/perl-5.25.10/lib/5.25.10
    .