Report for Catalyst-DispatchType-Regex-5.90032

Back
From: metabase:user:1eed3a18-483e-11e2-a87b-a3931c712682
Subject: PASS Catalyst-DispatchType-Regex-5.90032 v5.16.3 Mac OS X
Date: 2013-04-13T13:34:22Z

This distribution has been tested as part of the CPAN Testers
project, supporting the Perl programming language.  See
http://wiki.cpantesters.org/ for more information or email
questions to cpan-testers-discuss@perl.org


--
Catalyst-Runtime-5.90030 ... PASS

Perl           : v5.16.3
System         : darwin
Local Versions :
    Catalyst::DispatchType::Regex    : 
    MooseX::Emulate::Class::Accessor::Fast : 0.00903
    Sub::Exporter                    : 0.985
    ExtUtils::Install                : 1.58
    MooseX::Role::WithOverloading    : 0.13
    HTTP::Headers                    : 6.05
    Data::Dump                       : 1.21
    Module::Build                    : 0.4004
    List::MoreUtils                  : 0.33
    Plack::Test::ExternalServer      : 0.01
    Try::Tiny                        : 0.12
    Test::Exception                  : 0.31
    Data::Dumper                     : 2.145
    HTML::HeadParser                 : 3.69
    ExtUtils::MakeMaker              : 6.64
    HTTP::Body                       : 1.17
    Data::OptList                    : 0.107
    HTTP::Request::Common            : 6.04
    Test::More                       : 0.98
    HTTP::Response                   : 6.04
    CGI::Simple::Cookie              : 1.113
    Path::Class                      : 0.32
    HTTP::Request                    : 6.00
    Tree::Simple                     : 1.18
    Scalar::Util                     : 1.27
    Class::MOP                       : 2.0801
    String::RewritePrefix            : 0.006
    Safe::Isa                        : 1.000003
    Tree::Simple::Visitor::FindByPath : 0.03
    MooseX::Getopt                   : 0.56
    Text::Balanced                   : 2.02
    HTML::Entities                   : 3.69
    Class::Data::Inheritable         : 0.08
    MRO::Compat                      : 0.12
    Task::Weaken                     : 1.04
    Moose                            : 2.0801
    MooseX::MethodAttributes::Inheritable : 0.28
    Module::Pluggable                : 4.7
    HTTP::Request::AsCGI             : 1.2
    Class::C3::Adopt::NEXT           : 0.13
    URI                              : 1.60
    namespace::autoclean             : 0.13
    Plack                            : 1.0023
    Class::Load                      : 0.20
    Plack::Middleware::ReverseProxy  : 0.15
    Text::SimpleTable                : 2.03
    Time::HiRes                      : 1.9725
    Carp                             : 1.26
    namespace::clean                 : 0.24
    LWP::UserAgent                   : 6.05

Test Output    :

PERL_DL_NONLAZY=1 /Users/stas/perl5/perlbrew/perls/perl-5.16.2/bin/perl "-MExtUtils::Command::MM" "-e" "test_harness(0, 'inc', 'blib/lib', 'blib/arch')" t/*.t t/aggregate/*.t
t/01use.t ............................................................. ok
t/aggregate.t ......................................................... skipped: No test aggregation requested
t/aggregate/c3_appclass_bug.t ......................................... ok
t/aggregate/c3_mro.t .................................................. ok
t/aggregate/caf_backcompat.t .......................................... ok
t/aggregate/catalyst_test_utf8.t ...................................... ok
t/aggregate/custom_live_component_controller_action_auto_doublebug.t .. ok
t/aggregate/custom_live_path_bug.t .................................... ok
t/aggregate/deprecated_test_import.t .................................. ok
t/aggregate/deprecated_test_unimported.t .............................. ok
t/aggregate/error_page_dump.t ......................................... ok
t/aggregate/live_component_controller_action_action.t ................. ok
t/aggregate/live_component_controller_action_auto.t ................... ok
t/aggregate/live_component_controller_action_begin.t .................. ok
t/aggregate/live_component_controller_action_chained.t ................ ok
t/aggregate/live_component_controller_action_chained2.t ............... ok
t/aggregate/live_component_controller_action_default.t ................ ok
t/aggregate/live_component_controller_action_detach.t ................. ok
t/aggregate/live_component_controller_action_die_in_end.t ............. ok
t/aggregate/live_component_controller_action_end.t .................... ok
t/aggregate/live_component_controller_action_forward.t ................ ok
t/aggregate/live_component_controller_action_global.t ................. ok
t/aggregate/live_component_controller_action_go.t ..................... ok
t/aggregate/live_component_controller_action_index.t .................. ok
t/aggregate/live_component_controller_action_index_or_default.t ....... ok
t/aggregate/live_component_controller_action_inheritance.t ............ ok
t/aggregate/live_component_controller_action_local.t .................. ok
t/aggregate/live_component_controller_action_multipath.t .............. ok
t/aggregate/live_component_controller_action_path.t ................... ok
t/aggregate/live_component_controller_action_path_matchsingle.t ....... ok
t/aggregate/live_component_controller_action_private.t ................ ok
t/aggregate/live_component_controller_action_streaming.t .............. ok
t/aggregate/live_component_controller_action_visit.t .................. ok
t/aggregate/live_component_controller_actionroles.t ................... ok
t/aggregate/live_component_controller_anon.t .......................... ok
t/aggregate/live_component_controller_args.t .......................... ok
t/aggregate/live_component_controller_attributes.t .................... ok
t/aggregate/live_component_controller_httpmethods.t ................... ok
t/aggregate/live_component_controller_moose.t ......................... ok
t/aggregate/live_component_view_single.t .............................. ok
t/aggregate/live_engine_request_auth.t ................................ ok
t/aggregate/live_engine_request_body.t ................................ ok
t/aggregate/live_engine_request_body_demand.t ......................... ok
t/aggregate/live_engine_request_cookies.t ............................. ok
t/aggregate/live_engine_request_env.t ................................. ok
t/aggregate/live_engine_request_escaped_path.t ........................ ok
t/aggregate/live_engine_request_headers.t ............................. ok
t/aggregate/live_engine_request_parameters.t .......................... ok
t/aggregate/live_engine_request_prepare_parameters.t .................. ok
t/aggregate/live_engine_request_remote_user.t ......................... ok
t/aggregate/live_engine_request_uploads.t ............................. ok
t/aggregate/live_engine_request_uri.t ................................. ok
t/aggregate/live_engine_response_body.t ............................... ok
t/aggregate/live_engine_response_cookies.t ............................ ok
t/aggregate/live_engine_response_emptybody.t .......................... ok
t/aggregate/live_engine_response_errors.t ............................. ok
t/aggregate/live_engine_response_headers.t ............................ ok
t/aggregate/live_engine_response_large.t .............................. ok
t/aggregate/live_engine_response_print.t .............................. ok
t/aggregate/live_engine_response_redirect.t ........................... ok
t/aggregate/live_engine_response_status.t ............................. ok
t/aggregate/live_engine_setup_basics.t ................................ ok
t/aggregate/live_engine_setup_plugins.t ............................... ok
t/aggregate/live_loop.t ............................................... ok
t/aggregate/live_plugin_loaded.t ...................................... ok
t/aggregate/live_priorities.t ......................................... ok
t/aggregate/live_recursion.t .......................................... ok
t/aggregate/live_view_warnings.t ...................................... ok
t/aggregate/meta_method_unneeded.t .................................... ok
t/aggregate/psgi_file.t ............................................... ok
t/aggregate/unit_controller_actions.t ................................. ok
t/aggregate/unit_controller_config.t .................................. ok
t/aggregate/unit_controller_namespace.t ............................... ok
t/aggregate/unit_core_action.t ........................................ ok
t/aggregate/unit_core_action_for.t .................................... ok
t/aggregate/unit_core_appclass_roles_in_plugin_list.t ................. ok
t/aggregate/unit_core_classdata.t ..................................... ok
t/aggregate/unit_core_component.t ..................................... ok
t/aggregate/unit_core_component_generating.t .......................... ok
t/aggregate/unit_core_component_layers.t .............................. ok
t/aggregate/unit_core_component_loading.t ............................. ok
t/aggregate/unit_core_component_mro.t ................................. ok
t/aggregate/unit_core_controller_actions_config.t ..................... ok
t/aggregate/unit_core_ctx_attr.t ...................................... ok
t/aggregate/unit_core_engine-prepare_path.t ........................... ok
t/aggregate/unit_core_engine_fixenv-iis6.t ............................ ok
t/aggregate/unit_core_engine_fixenv-lighttpd.t ........................ ok
t/aggregate/unit_core_log.t ........................................... ok
t/aggregate/unit_core_merge_config_hashes.t ........................... ok
t/aggregate/unit_core_mvc.t ........................................... ok
t/aggregate/unit_core_path_to.t ....................................... ok
t/aggregate/unit_core_plugin.t ........................................ ok
t/aggregate/unit_core_script_cgi.t .................................... ok
t/aggregate/unit_core_script_create.t ................................. ok
t/aggregate/unit_core_script_fastcgi.t ................................ ok
t/aggregate/unit_core_script_help.t ................................... ok
t/aggregate/unit_core_script_run_options.t ............................ ok
t/aggregate/unit_core_script_server-without_modules.t ................. skipped: Need Test::Without::Module for this test
t/aggregate/unit_core_script_server.t ................................. ok
t/aggregate/unit_core_scriptrunner.t .................................. ok
t/aggregate/unit_core_setup.t ......................................... ok
t/aggregate/unit_core_setup_log.t ..................................... ok
t/aggregate/unit_core_setup_stats.t ................................... ok
t/aggregate/unit_core_uri_for.t ....................................... ok
t/aggregate/unit_core_uri_for_action.t ................................ ok
t/aggregate/unit_core_uri_for_multibytechar.t ......................... ok
t/aggregate/unit_core_uri_with.t ...................................... ok
t/aggregate/unit_dispatcher_requestargs_restore.t ..................... ok
t/aggregate/unit_engineloader.t ....................................... ok
t/aggregate/unit_load_catalyst_test.t ................................. ok
t/aggregate/unit_metaclass_compat_extend_non_moose_controller.t ....... ok
t/aggregate/unit_metaclass_compat_non_moose.t ......................... ok
t/aggregate/unit_metaclass_compat_non_moose_controller.t .............. ok
t/aggregate/unit_response.t ........................................... ok
t/aggregate/unit_utils_env_value.t .................................... ok
t/aggregate/unit_utils_home.t ......................................... ok
t/aggregate/unit_utils_prefix.t ....................................... ok
t/aggregate/unit_utils_request.t ...................................... ok
t/aggregate/utf8_content_length.t ..................................... ok
t/custom_exception_class_simple.t ..................................... ok
t/dead_load_bad_args.t ................................................ ok
t/dead_load_multiple_chained_attributes.t ............................. ok
t/dead_no_unknown_error.t ............................................. ok
t/dead_recursive_chained_attributes.t ................................. ok
t/deprecated.t ........................................................ ok
t/deprecated_appclass_action_warnings.t ............................... ok
t/live_catalyst_test.t ................................................ ok
t/live_component_controller_context_closure.t ......................... ok
t/live_fork.t ......................................................... ok
t/live_redirect_body.t ................................................ ok
t/live_show_internal_actions_warnings.t ............................... ok
t/live_stats.t ........................................................ ok
t/optional_http-server-restart.t ...................................... skipped: set TEST_HTTP to enable this test
t/optional_lighttpd-fastcgi-non-root.t ................................ skipped: set TEST_LIGHTTPD to enable this test
t/optional_lighttpd-fastcgi.t ......................................... skipped: set TEST_LIGHTTPD to enable this test
t/optional_memleak.t .................................................. skipped: set TEST_MEMLEAK to enable this test
t/optional_stress.t ................................................... skipped: set TEST_STRESS to enable this test
t/optional_threads.t .................................................. skipped: set TEST_THREADS to enable this test
t/plugin_new_method_backcompat.t ...................................... ok
t/psgi-log.t .......................................................... ok
t/psgi_file_testapp.t ................................................. ok
t/psgi_file_testapp_engine_plackup_compat.t ........................... skipped: Catalyst::Engine::PSGI required for this test
t/psgi_file_testapp_engine_psgi_compat.t .............................. ok
t/unit_core_methodattributes_method_metaclass_on_subclasses.t ......... ok
t/unit_core_script_test.t ............................................. ok
t/unit_stats.t ........................................................ ok
t/unit_utils_load_class.t ............................................. ok
t/unit_utils_subdir.t ................................................. ok
All tests successful.
Files=148, Tests=2948, 354 wallclock secs ( 1.26 usr  0.42 sys + 315.46 cusr 10.86 csys = 328.00 CPU)
Result: PASS


--

Summary of my perl5 (revision 5 version 16 subversion 3) configuration:
   
  Platform:
    osname=darwin, osvers=12.2.0, archname=darwin-2level
    uname='darwin stanislaws-macbook-pro.local 12.2.0 darwin kernel version 12.2.0: sat aug 25 00:48:52 pdt 2012; root:xnu-2050.18.24~1release_x86_64 x86_64 '
    config_args='-de -Dprefix=/Users/stas/perl5/perlbrew/perls/perl-5.16.2 -Aeval:scriptdir=/Users/stas/perl5/perlbrew/perls/perl-5.16.2/bin'
    hint=recommended, useposix=true, d_sigaction=define
    useithreads=undef, usemultiplicity=undef
    useperlio=define, d_sfio=undef, uselargefiles=define, usesocks=undef
    use64bitint=define, use64bitall=define, uselongdouble=undef
    usemymalloc=n, bincompat5005=undef
  Compiler:
    cc='cc', ccflags ='-fno-common -DPERL_DARWIN -fno-strict-aliasing -pipe -fstack-protector -I/opt/local/include',
    optimize='-O3',
    cppflags='-fno-common -DPERL_DARWIN -fno-strict-aliasing -pipe -fstack-protector -I/opt/local/include'
    ccversion='', gccversion='4.2.1 Compatible Apple Clang 4.0 ((tags/Apple/clang-421.0.60))', gccosandvers=''
    intsize=4, longsize=8, ptrsize=8, doublesize=8, byteorder=12345678
    d_longlong=define, longlongsize=8, d_longdbl=define, longdblsize=16
    ivtype='long', ivsize=8, nvtype='double', nvsize=8, Off_t='off_t', lseeksize=8
    alignbytes=8, prototype=define
  Linker and Libraries:
    ld='env MACOSX_DEPLOYMENT_TARGET=10.3 cc', ldflags =' -fstack-protector -L/opt/local/lib'
    libpth=/opt/local/lib /usr/lib
    libs=-lgdbm -ldbm -ldl -lm -lutil -lc
    perllibs=-ldl -lm -lutil -lc
    libc=, so=dylib, useshrplib=false, libperl=libperl.a
    gnulibc_version=''
  Dynamic Linking:
    dlsrc=dl_dlopen.xs, dlext=bundle, d_dlsymun=undef, ccdlflags=' '
    cccdlflags=' ', lddlflags=' -bundle -undefined dynamic_lookup -L/opt/local/lib -fstack-protector'


Characteristics of this binary (from libperl): 
  Compile-time options: HAS_TIMES PERLIO_LAYERS PERL_DONT_CREATE_GVSV
                        PERL_MALLOC_WRAP PERL_PRESERVE_IVUV USE_64_BIT_ALL
                        USE_64_BIT_INT USE_LARGE_FILES USE_LOCALE
                        USE_LOCALE_COLLATE USE_LOCALE_CTYPE
                        USE_LOCALE_NUMERIC USE_PERLIO USE_PERL_ATOF
  Built under darwin
  Compiled at Mar 12 2013 10:31:08
  %ENV:
    PERLBREW_BASHRC_VERSION="0.62"
    PERLBREW_HOME="/Users/stas/.perlbrew"
    PERLBREW_MANPATH="/Users/stas/perl5/perlbrew/perls/perl-5.16.2/man"
    PERLBREW_PATH="/Users/stas/perl5/perlbrew/bin:/Users/stas/perl5/perlbrew/perls/perl-5.16.2/bin"
    PERLBREW_PERL="perl-5.16.2"
    PERLBREW_ROOT="/Users/stas/perl5/perlbrew"
    PERLBREW_VERSION="0.62"
    PERL_MM_USE_DEFAULT="1"
  @INC:
    /Users/stas/perl5/perlbrew/perls/perl-5.16.2/lib/site_perl/5.16.3/darwin-2level
    /Users/stas/perl5/perlbrew/perls/perl-5.16.2/lib/site_perl/5.16.3
    /Users/stas/perl5/perlbrew/perls/perl-5.16.2/lib/5.16.3/darwin-2level
    /Users/stas/perl5/perlbrew/perls/perl-5.16.2/lib/5.16.3
    /Users/stas/perl5/perlbrew/perls/perl-5.16.2/lib/site_perl/5.16.2/darwin-2level
    /Users/stas/perl5/perlbrew/perls/perl-5.16.2/lib/site_perl/5.16.2
    /Users/stas/perl5/perlbrew/perls/perl-5.16.2/lib/site_perl
    .