Back
From: metabase:user:cd035d39-6d5b-1014-ab3a-39c0c09612a1
Subject: PASS Dependencies-Searcher-0.066_005 v5.24.1
Date: 2017-02-27T12:06:21Z
This distribution has been tested as part of the CPAN Testers
project, supporting the Perl programming language. See
http://wiki.cpantesters.org/ for more information or email
questions to cpan-testers-discuss@perl.org
--
Dear Sebastien Feugere,
This is a computer-generated report for Dependencies-Searcher-0.066_005
on perl 5.24.1, created by CPAN-Reporter-1.2018.
Thank you for uploading your work to CPAN. Congratulations!
All tests were successful.
Sections of this report:
* Tester comments
* Program output
* Prerequisites
* Environment and other context
------------------------------
TESTER COMMENTS
------------------------------
Additional comments from tester:
this report is from an automated smoke testing program
and was not reviewed by a human for accuracy
------------------------------
PROGRAM OUTPUT
------------------------------
Output from 'C:\strawberry\c\bin\dmake.EXE test':
"C:\Strawberry\perl\bin\perl.exe" "-MExtUtils::Command::MM" "-MTest::Harness" "-e" "undef *Test::Harness::Switches; test_harness(0, 'blib\lib', 'blib\arch')" t/*.t
# Testing Dependencies::Searcher 0.066_005, Perl 5.024001, C:\Strawberry\perl\bin\perl.exe
t/00-load.t ............... ok
t/01_corelist.t ........... ok
t/02_get_files.t .......... ok
[
[0] "use 5.010;",
[1] "use Data::Printer;",
[2] "use feature qw(say);",
[3] "use Module::CoreList;",
[4] "use Module::Version 'get_version';",
[5] "use autodie;",
[6] "use Moose;",
[7] "use IO::File; ",
[8] "use File::HomeDir;",
[9] "use Version::Compare;",
[10] "use Path::Class;",
[11] "use ExtUtils::Installed;",
[12] "use File::Next;",
[13] "use PPI;",
[14] "use Term::ANSIColor;",
[15] "use \s",
[16] "use 5.010;",
[17] "use strict;",
[18] "use warnings FATAL => 'all';",
[19] "use ExtUtils::MakeMaker;"
]
t/03-get_modules.t ........ ok
t/04-avoid-superfluous.t .. ok
t/05-regex-cleaner.t ...... ok
[
[0] "use 5.010;",
[1] "use Data::Printer;",
[2] "use feature qw(say);",
[3] "use Module::CoreList;",
[4] "use Module::Version 'get_version';",
[5] "use autodie;",
[6] "use Moose;",
[7] "use IO::File; ",
[8] "use File::HomeDir;",
[9] "use Version::Compare;",
[10] "use Path::Class;",
[11] "use ExtUtils::Installed;",
[12] "use File::Next;",
[13] "use PPI;",
[14] "use Term::ANSIColor;",
[15] "use \s",
[16] "use 5.010;",
[17] "use strict;",
[18] "use warnings FATAL => 'all';",
[19] "use ExtUtils::MakeMaker;"
]
[]
t/06-regex-pattern.t ...... ok
t/10-cpanfile.t ........... ok
t/manifest.t .............. skipped: Author tests not required for installation
t/pod-coverage.t .......... ok
t/pod.t ................... ok
All tests successful.
Files=11, Tests=372, 73 wallclock secs ( 0.27 usr + 0.02 sys = 0.28 CPU)
Result: PASS
------------------------------
PREREQUISITES
------------------------------
Prerequisite modules loaded:
requires:
Module Need Have
------------------- ---------- ----------
Data::Printer 0.35 0.38
File::HomeDir 1 1.00
File::Next 1.12 1.16
Module::CoreList 5.20160429 5.20170220
Module::Version 0.12 0.12
Moose 2.0602 2.2004
Path::Class 0.32 0.37
perl 5.010 5.024001
PPI 1.22 1.220
Version::Compare 0.14 0.14
build_requires:
Module Need Have
------------------- ---------- ----------
IO::File 0 1.16
Module::Version 0.12 0.12
Test::More 0 1.302075
Test::Pod 1.48 1.51
Test::Pod::Coverage 1.08 1.10
configure_requires:
Module Need Have
------------------- ---------- ----------
ExtUtils::MakeMaker 6.74 7.24
------------------------------
ENVIRONMENT AND OTHER CONTEXT
------------------------------
Environment variables:
AUTOMATED_TESTING = 1
COMSPEC = C:\WINDOWS.0\system32\cmd.exe
NONINTERACTIVE_TESTING = 1
NUMBER_OF_PROCESSORS = 1
PATH = C:\WINDOWS.0\system32;C:\strawberry\c\bin;C:\strawberry\perl\site\bin;C:\strawberry\perl\bin
PERL5LIB = C:\cpan\build\Version-Compare-0.14-0/blib/arch;C:\cpan\build\Version-Compare-0.14-0/blib/lib;C:\cpan\build\Module-Version-0.12-0/blib/arch;C:\cpan\build\Module-Version-0.12-0/blib/lib;C:\cpan\build\File-Next-1.16-0/blib/arch;C:\cpan\build\File-Next-1.16-0/blib/lib
PERL5OPT =
PERL5_CPANPLUS_IS_RUNNING = 3324
PERL5_CPAN_IS_RUNNING = 3324
PERL5_CPAN_IS_RUNNING_IN_RECURSION = 3140,3324
PERL_CR_SMOKER_CURRENT = Dependencies-Searcher-0.066_005
PERL_EXTUTILS_AUTOINSTALL = --defaultdeps
PERL_MM_USE_DEFAULT = 1
PROCESSOR_IDENTIFIER = x86 Family 6 Model 14 Stepping 8, GenuineIntel
TEMP = C:\DOKUME~1\smoker\LOKALE~1\Temp
TERM = dumb
Perl special variables (and OS-specific diagnostics, for MSWin32):
$^X = C:\Strawberry\perl\bin\perl.exe
$UID/$EUID = 0 / 0
$GID = 0
$EGID = 0
Win32::GetOSName = WinXP/.Net
Win32::GetOSVersion = Service Pack 3, 5, 1, 2600, 2, 3, 0, 256, 1
Win32::FsType = NTFS
Win32::IsAdminUser = 1
Perl module toolchain versions installed:
Module Have
------------------- --------
CPAN 2.16
CPAN::Meta 2.150010
Cwd 3.63_01
ExtUtils::CBuilder 0.280225
ExtUtils::Command 7.24
ExtUtils::Install 2.04
ExtUtils::MakeMaker 7.24
ExtUtils::Manifest 1.70
ExtUtils::ParseXS 3.31
File::Spec 3.63_01
JSON 2.90
JSON::PP 2.27400
Module::Build 0.4220
Module::Signature 0.81
Parse::CPAN::Meta 2.150010
Test::Harness 3.36_01
Test::More 1.302075
YAML 1.23
YAML::Syck n/a
version 0.9917
--
Summary of my perl5 (revision 5 version 24 subversion 1) configuration:
Platform:
osname=MSWin32, osvers=6.3, archname=MSWin32-x86-multi-thread-64int
uname='Win32 strawberry-perl 5.24.1.1 #1 Sun Jan 15 20:28:53 2017 i386'
config_args='undef'
hint=recommended, useposix=true, d_sigaction=undef
useithreads=define, usemultiplicity=define
use64bitint=define, use64bitall=undef, uselongdouble=undef
usemymalloc=n, bincompat5005=undef
Compiler:
cc='gcc', ccflags =' -s -O2 -DWIN32 -DPERL_TEXTMODE_SCRIPTS -DPERL_IMPLICIT_CONTEXT -DPERL_IMPLICIT_SYS -fwrapv -fno-strict-aliasing -mms-bitfields',
optimize='-s -O2',
cppflags='-DWIN32'
ccversion='', gccversion='4.9.2', gccosandvers=''
intsize=4, longsize=4, ptrsize=4, doublesize=8, byteorder=12345678, doublekind=3
d_longlong=define, longlongsize=8, d_longdbl=define, longdblsize=12, longdblkind=3
ivtype='long long', ivsize=8, nvtype='double', nvsize=8, Off_t='long long', lseeksize=8
alignbytes=8, prototype=define
Linker and Libraries:
ld='g++', ldflags ='-s -L"C:\STRAWB~1\perl\lib\CORE" -L"C:\STRAWB~1\c\lib"'
libpth=C:\STRAWB~1\c\lib C:\STRAWB~1\c\i686-w64-mingw32\lib C:\STRAWB~1\c\lib\gcc\i686-w64-mingw32\4.9.2
libs=-lmoldname -lkernel32 -luser32 -lgdi32 -lwinspool -lcomdlg32 -ladvapi32 -lshell32 -lole32 -loleaut32 -lnetapi32 -luuid -lws2_32 -lmpr -lwinmm -lversion -lodbc32 -lodbccp32 -lcomctl32
perllibs=-lmoldname -lkernel32 -luser32 -lgdi32 -lwinspool -lcomdlg32 -ladvapi32 -lshell32 -lole32 -loleaut32 -lnetapi32 -luuid -lws2_32 -lmpr -lwinmm -lversion -lodbc32 -lodbccp32 -lcomctl32
libc=, so=dll, useshrplib=true, libperl=libperl524.a
gnulibc_version=''
Dynamic Linking:
dlsrc=dl_win32.xs, dlext=xs.dll, d_dlsymun=undef, ccdlflags=' '
cccdlflags=' ', lddlflags='-mdll -s -L"C:\STRAWB~1\perl\lib\CORE" -L"C:\STRAWB~1\c\lib"'
Characteristics of this binary (from libperl):
Compile-time options: HAS_TIMES HAVE_INTERP_INTERN MULTIPLICITY
PERLIO_LAYERS PERL_COPY_ON_WRITE
PERL_DONT_CREATE_GVSV
PERL_HASH_FUNC_ONE_AT_A_TIME_HARD
PERL_IMPLICIT_CONTEXT PERL_IMPLICIT_SYS
PERL_MALLOC_WRAP PERL_PRESERVE_IVUV USE_64_BIT_INT
USE_ITHREADS USE_LARGE_FILES USE_LOCALE
USE_LOCALE_COLLATE USE_LOCALE_CTYPE
USE_LOCALE_NUMERIC USE_LOCALE_TIME USE_PERLIO
USE_PERL_ATOF
Built under MSWin32
Compiled at Jan 15 2017 20:39:08
%ENV:
PERL5LIB="C:\cpan\build\Version-Compare-0.14-0/blib/arch;C:\cpan\build\Version-Compare-0.14-0/blib/lib;C:\cpan\build\Module-Version-0.12-0/blib/arch;C:\cpan\build\Module-Version-0.12-0/blib/lib;C:\cpan\build\File-Next-1.16-0/blib/arch;C:\cpan\build\File-Next-1.16-0/blib/lib"
PERL5_CPANPLUS_IS_RUNNING="3324"
PERL5_CPAN_IS_RUNNING="3324"
PERL5_CPAN_IS_RUNNING_IN_RECURSION="3140,3324"
PERL_CR_SMOKER_CURRENT="Dependencies-Searcher-0.066_005"
PERL_EXTUTILS_AUTOINSTALL="--defaultdeps"
PERL_MM_USE_DEFAULT="1"
@INC:
C:\cpan\build\Version-Compare-0.14-0/blib/arch
C:\cpan\build\Version-Compare-0.14-0/blib/lib
C:\cpan\build\Module-Version-0.12-0/blib/arch
C:\cpan\build\Module-Version-0.12-0/blib/lib
C:\cpan\build\File-Next-1.16-0/blib/arch
C:\cpan\build\File-Next-1.16-0/blib/lib
C:/Strawberry/perl/site/lib/MSWin32-x86-multi-thread-64int
C:/Strawberry/perl/site/lib
C:/Strawberry/perl/vendor/lib
C:/Strawberry/perl/lib
.