Report for Data-Session-1.13

Back
From: metabase:user:3198cbe2-2aae-11df-837a-5e0a49663a4f
Subject: PASS Data-Session-1.13 v5.16.1 GNU/Linux
Date: 2012-12-06T06:47:50Z

This distribution has been tested as part of the CPAN Testers
project, supporting the Perl programming language.  See
http://wiki.cpantesters.org/ for more information or email
questions to cpan-testers-discuss@perl.org


--
Dear Ron Savage,

This is a computer-generated report for Data-Session-1.13
on perl 5.16.1, created by CPAN-Reporter-1.2006.

Thank you for uploading your work to CPAN.  Congratulations!
All tests were successful.

Sections of this report:

    * Tester comments
    * Program output
    * Prerequisites
    * Environment and other context

------------------------------
TESTER COMMENTS
------------------------------

Additional comments from tester:

this report is from an automated smoke testing program
and was not reviewed by a human for accuracy

------------------------------
PROGRAM OUTPUT
------------------------------

Output from './Build test':

# Test: File.1. DSN: dbi:File:. ID generator: AutoIncrement. Serializer: DataDumper
# type: driver:File;id:AutoIncrement;serialize:DataDumper
# id 1: 1002
# type: driver:File;id:AutoIncrement;serialize:DataDumper
# type: driver:File;id:AutoIncrement;serialize:DataDumper
# type: driver:File;id:AutoIncrement;serialize:DataDumper
# type: driver:File;id:AutoIncrement;serialize:DataDumper
# type: driver:File;id:AutoIncrement;serialize:DataDumper
# Test: File.1. DSN: dbi:File:. ID generator: AutoIncrement. Serializer: FreezeThaw
# type: driver:File;id:AutoIncrement;serialize:FreezeThaw
# id 1: 1008
# type: driver:File;id:AutoIncrement;serialize:FreezeThaw
# type: driver:File;id:AutoIncrement;serialize:FreezeThaw
# type: driver:File;id:AutoIncrement;serialize:FreezeThaw
# type: driver:File;id:AutoIncrement;serialize:FreezeThaw
# type: driver:File;id:AutoIncrement;serialize:FreezeThaw
# Test: File.1. DSN: dbi:File:. ID generator: AutoIncrement. Serializer: JSON
# type: driver:File;id:AutoIncrement;serialize:JSON
# id 1: 1014
# type: driver:File;id:AutoIncrement;serialize:JSON
# type: driver:File;id:AutoIncrement;serialize:JSON
# type: driver:File;id:AutoIncrement;serialize:JSON
# type: driver:File;id:AutoIncrement;serialize:JSON
# type: driver:File;id:AutoIncrement;serialize:JSON
# Test: File.1. DSN: dbi:File:. ID generator: AutoIncrement. Serializer: Storable
# type: driver:File;id:AutoIncrement;serialize:Storable
# id 1: 1020
# type: driver:File;id:AutoIncrement;serialize:Storable
# type: driver:File;id:AutoIncrement;serialize:Storable
# type: driver:File;id:AutoIncrement;serialize:Storable
# type: driver:File;id:AutoIncrement;serialize:Storable
# type: driver:File;id:AutoIncrement;serialize:Storable
# Test: File.1. DSN: dbi:File:. ID generator: AutoIncrement. Serializer: YAML
# type: driver:File;id:AutoIncrement;serialize:YAML
# id 1: 1026
# type: driver:File;id:AutoIncrement;serialize:YAML
# type: driver:File;id:AutoIncrement;serialize:YAML
# type: driver:File;id:AutoIncrement;serialize:YAML
# type: driver:File;id:AutoIncrement;serialize:YAML
# type: driver:File;id:AutoIncrement;serialize:YAML
# Test: File.1. DSN: dbi:File:. ID generator: MD5. Serializer: DataDumper
# type: driver:File;id:MD5;serialize:DataDumper
# id 1: 82f0e937f4dde8c9c600f69650ee7213
# type: driver:File;id:MD5;serialize:DataDumper
# type: driver:File;id:MD5;serialize:DataDumper
# type: driver:File;id:MD5;serialize:DataDumper
# type: driver:File;id:MD5;serialize:DataDumper
# type: driver:File;id:MD5;serialize:DataDumper
# Test: File.1. DSN: dbi:File:. ID generator: MD5. Serializer: FreezeThaw
# type: driver:File;id:MD5;serialize:FreezeThaw
# id 1: f029f8ad0c3afd480cf75e9f2b7f512a
# type: driver:File;id:MD5;serialize:FreezeThaw
# type: driver:File;id:MD5;serialize:FreezeThaw
# type: driver:File;id:MD5;serialize:FreezeThaw
# type: driver:File;id:MD5;serialize:FreezeThaw
# type: driver:File;id:MD5;serialize:FreezeThaw
# Test: File.1. DSN: dbi:File:. ID generator: MD5. Serializer: JSON
# type: driver:File;id:MD5;serialize:JSON
# id 1: 0d0f628124bd0a6b587c1c871482a5d3
# type: driver:File;id:MD5;serialize:JSON
# type: driver:File;id:MD5;serialize:JSON
# type: driver:File;id:MD5;serialize:JSON
# type: driver:File;id:MD5;serialize:JSON
# type: driver:File;id:MD5;serialize:JSON
# Test: File.1. DSN: dbi:File:. ID generator: MD5. Serializer: Storable
# type: driver:File;id:MD5;serialize:Storable
# id 1: 1f24415c0ffea545b83d7fce98ef3ebb
# type: driver:File;id:MD5;serialize:Storable
# type: driver:File;id:MD5;serialize:Storable
# type: driver:File;id:MD5;serialize:Storable
# type: driver:File;id:MD5;serialize:Storable
# type: driver:File;id:MD5;serialize:Storable
# Test: File.1. DSN: dbi:File:. ID generator: MD5. Serializer: YAML
# type: driver:File;id:MD5;serialize:YAML
# id 1: 3bb3424e85b632de7d9c03701ac175df
# type: driver:File;id:MD5;serialize:YAML
# type: driver:File;id:MD5;serialize:YAML
# type: driver:File;id:MD5;serialize:YAML
# type: driver:File;id:MD5;serialize:YAML
# type: driver:File;id:MD5;serialize:YAML
# Test: File.1. DSN: dbi:File:. ID generator: SHA1. Serializer: DataDumper
# type: driver:File;id:SHA1;serialize:DataDumper
# id 1: 79fc1963384f32b75901cad82fe9c538b4d22599
# type: driver:File;id:SHA1;serialize:DataDumper
# type: driver:File;id:SHA1;serialize:DataDumper
# type: driver:File;id:SHA1;serialize:DataDumper
# type: driver:File;id:SHA1;serialize:DataDumper
# type: driver:File;id:SHA1;serialize:DataDumper
# Test: File.1. DSN: dbi:File:. ID generator: SHA1. Serializer: FreezeThaw
# type: driver:File;id:SHA1;serialize:FreezeThaw
# id 1: 99dfebcb843275c428305aecd07c8712358cd9b1
# type: driver:File;id:SHA1;serialize:FreezeThaw
# type: driver:File;id:SHA1;serialize:FreezeThaw
# type: driver:File;id:SHA1;serialize:FreezeThaw
# type: driver:File;id:SHA1;serialize:FreezeThaw
# type: driver:File;id:SHA1;serialize:FreezeThaw
# Test: File.1. DSN: dbi:File:. ID generator: SHA1. Serializer: JSON
# type: driver:File;id:SHA1;serialize:JSON
# id 1: 6789503066775ad0d8a0b7928abab63bdfd5bb51
# type: driver:File;id:SHA1;serialize:JSON
# type: driver:File;id:SHA1;serialize:JSON
# type: driver:File;id:SHA1;serialize:JSON
# type: driver:File;id:SHA1;serialize:JSON
# type: driver:File;id:SHA1;serialize:JSON
# Test: File.1. DSN: dbi:File:. ID generator: SHA1. Serializer: Storable
# type: driver:File;id:SHA1;serialize:Storable
# id 1: bbc7682dd3feb97ec03846be617cad49ed8d7185
# type: driver:File;id:SHA1;serialize:Storable
# type: driver:File;id:SHA1;serialize:Storable
# type: driver:File;id:SHA1;serialize:Storable
# type: driver:File;id:SHA1;serialize:Storable
# type: driver:File;id:SHA1;serialize:Storable
# Test: File.1. DSN: dbi:File:. ID generator: SHA1. Serializer: YAML
# type: driver:File;id:SHA1;serialize:YAML
# id 1: 954fc9032bd477e25d0c7e9cb5a14bd133c32207
# type: driver:File;id:SHA1;serialize:YAML
# type: driver:File;id:SHA1;serialize:YAML
# type: driver:File;id:SHA1;serialize:YAML
# type: driver:File;id:SHA1;serialize:YAML
# type: driver:File;id:SHA1;serialize:YAML
# Test: File.1. DSN: dbi:File:. ID generator: SHA256. Serializer: DataDumper
# type: driver:File;id:SHA256;serialize:DataDumper
# id 1: 45cbdc42aa18c329f13d00dc2b200910677e8f6c13a17082b748cf22e2a1daa1
# type: driver:File;id:SHA256;serialize:DataDumper
# type: driver:File;id:SHA256;serialize:DataDumper
# type: driver:File;id:SHA256;serialize:DataDumper
# type: driver:File;id:SHA256;serialize:DataDumper
# type: driver:File;id:SHA256;serialize:DataDumper
# Test: File.1. DSN: dbi:File:. ID generator: SHA256. Serializer: FreezeThaw
# type: driver:File;id:SHA256;serialize:FreezeThaw
# id 1: fb4f9522d7d9c648be701afe51d4a2f30442d211f9509e1819335d5f95684aad
# type: driver:File;id:SHA256;serialize:FreezeThaw
# type: driver:File;id:SHA256;serialize:FreezeThaw
# type: driver:File;id:SHA256;serialize:FreezeThaw
# type: driver:File;id:SHA256;serialize:FreezeThaw
# type: driver:File;id:SHA256;serialize:FreezeThaw
# Test: File.1. DSN: dbi:File:. ID generator: SHA256. Serializer: JSON
# type: driver:File;id:SHA256;serialize:JSON
# id 1: 1de62deef409ddd781c8e948f0330376266d97b22f3f7a48b93609b52f027311
# type: driver:File;id:SHA256;serialize:JSON
# type: driver:File;id:SHA256;serialize:JSON
# type: driver:File;id:SHA256;serialize:JSON
# type: driver:File;id:SHA256;serialize:JSON
# type: driver:File;id:SHA256;serialize:JSON
# Test: File.1. DSN: dbi:File:. ID generator: SHA256. Serializer: Storable
# type: driver:File;id:SHA256;serialize:Storable
# id 1: fb43a951da0b2d3bf315dadc76abb08623a58039920754a22f2c576ff3be4712
# type: driver:File;id:SHA256;serialize:Storable
# type: driver:File;id:SHA256;serialize:Storable
# type: driver:File;id:SHA256;serialize:Storable
# type: driver:File;id:SHA256;serialize:Storable
# type: driver:File;id:SHA256;serialize:Storable
# Test: File.1. DSN: dbi:File:. ID generator: SHA256. Serializer: YAML
# type: driver:File;id:SHA256;serialize:YAML
# id 1: 2e304e28dd020b9bbb212a368b2a513fd7f91e3dc40fc00eb3f051813e27b787
# type: driver:File;id:SHA256;serialize:YAML
# type: driver:File;id:SHA256;serialize:YAML
# type: driver:File;id:SHA256;serialize:YAML
# type: driver:File;id:SHA256;serialize:YAML
# type: driver:File;id:SHA256;serialize:YAML
# Test: File.1. DSN: dbi:File:. ID generator: SHA512. Serializer: DataDumper
# type: driver:File;id:SHA512;serialize:DataDumper
# id 1: b68b15b44b4ea67c0038ecb3991dfb7028559440b2a3ab08f8a925371bd6d9e847337ac53888028bb252ba444edd441999cf21cefd450e913a9a1956e25053ae
# type: driver:File;id:SHA512;serialize:DataDumper
# type: driver:File;id:SHA512;serialize:DataDumper
# type: driver:File;id:SHA512;serialize:DataDumper
# type: driver:File;id:SHA512;serialize:DataDumper
# type: driver:File;id:SHA512;serialize:DataDumper
# Test: File.1. DSN: dbi:File:. ID generator: SHA512. Serializer: FreezeThaw
# type: driver:File;id:SHA512;serialize:FreezeThaw
# id 1: eae5fca3d8fd7e93e0301ee347c5383d63a5ae6888251581bd0fed3fa872b6034182c32c97e8d1a5c7a3d14ce2e54b78ee135303a1df4c9b8d05a02f6bff7472
# type: driver:File;id:SHA512;serialize:FreezeThaw
# type: driver:File;id:SHA512;serialize:FreezeThaw
# type: driver:File;id:SHA512;serialize:FreezeThaw
# type: driver:File;id:SHA512;serialize:FreezeThaw
# type: driver:File;id:SHA512;serialize:FreezeThaw
# Test: File.1. DSN: dbi:File:. ID generator: SHA512. Serializer: JSON
# type: driver:File;id:SHA512;serialize:JSON
# id 1: f856fe1066a22f6d0ab3c8ed10ad441576515e25bd92e64e903931e72ef2f13f5efe998893908b6f8726ed321570996f9517b97959aef12a4202dec7abbc2fec
# type: driver:File;id:SHA512;serialize:JSON
# type: driver:File;id:SHA512;serialize:JSON
# type: driver:File;id:SHA512;serialize:JSON
# type: driver:File;id:SHA512;serialize:JSON
# type: driver:File;id:SHA512;serialize:JSON
# Test: File.1. DSN: dbi:File:. ID generator: SHA512. Serializer: Storable
# type: driver:File;id:SHA512;serialize:Storable
# id 1: 08488b7281a3c5fbf8335a535f36eef611656a7f04f57e6bb8d6df3fc58e5d47516ec74795916d97d55e6ffcd03bbd34c7d5093a2d258ee7563590e03fbe0b76
# type: driver:File;id:SHA512;serialize:Storable
# type: driver:File;id:SHA512;serialize:Storable
# type: driver:File;id:SHA512;serialize:Storable
# type: driver:File;id:SHA512;serialize:Storable
# type: driver:File;id:SHA512;serialize:Storable
# Test: File.1. DSN: dbi:File:. ID generator: SHA512. Serializer: YAML
# type: driver:File;id:SHA512;serialize:YAML
# id 1: 250c21bf0daf8afff2df3cf6b3e9f8ab6a7b867b822ed1847205c58483aac7f38b6b71faa4df578d667d213871eb5e7f0e90c5aad04de1e483d2761bd63ede9e
# type: driver:File;id:SHA512;serialize:YAML
# type: driver:File;id:SHA512;serialize:YAML
# type: driver:File;id:SHA512;serialize:YAML
# type: driver:File;id:SHA512;serialize:YAML
# type: driver:File;id:SHA512;serialize:YAML
# Test: File.1. DSN: dbi:File:. ID generator: Static. Serializer: DataDumper
# type: driver:File;id:Static;serialize:DataDumper
# id 1: 1234
# type: driver:File;id:Static;serialize:DataDumper
# type: driver:File;id:Static;serialize:DataDumper
# type: driver:File;id:Static;serialize:DataDumper
# type: driver:File;id:Static;serialize:DataDumper
# type: driver:File;id:Static;serialize:DataDumper
# Test: File.1. DSN: dbi:File:. ID generator: Static. Serializer: FreezeThaw
# type: driver:File;id:Static;serialize:FreezeThaw
# id 1: 1234
# type: driver:File;id:Static;serialize:FreezeThaw
# type: driver:File;id:Static;serialize:FreezeThaw
# type: driver:File;id:Static;serialize:FreezeThaw
# type: driver:File;id:Static;serialize:FreezeThaw
# type: driver:File;id:Static;serialize:FreezeThaw
# Test: File.1. DSN: dbi:File:. ID generator: Static. Serializer: JSON
# type: driver:File;id:Static;serialize:JSON
# id 1: 1234
# type: driver:File;id:Static;serialize:JSON
# type: driver:File;id:Static;serialize:JSON
# type: driver:File;id:Static;serialize:JSON
# type: driver:File;id:Static;serialize:JSON
# type: driver:File;id:Static;serialize:JSON
# Test: File.1. DSN: dbi:File:. ID generator: Static. Serializer: Storable
# type: driver:File;id:Static;serialize:Storable
# id 1: 1234
# type: driver:File;id:Static;serialize:Storable
# type: driver:File;id:Static;serialize:Storable
# type: driver:File;id:Static;serialize:Storable
# type: driver:File;id:Static;serialize:Storable
# type: driver:File;id:Static;serialize:Storable
# Test: File.1. DSN: dbi:File:. ID generator: Static. Serializer: YAML
# type: driver:File;id:Static;serialize:YAML
# id 1: 1234
# type: driver:File;id:Static;serialize:YAML
# type: driver:File;id:Static;serialize:YAML
# type: driver:File;id:Static;serialize:YAML
# type: driver:File;id:Static;serialize:YAML
# type: driver:File;id:Static;serialize:YAML
# Test: File.1. DSN: dbi:File:. ID generator: UUID34. Serializer: DataDumper
# type: driver:File;id:UUID34;serialize:DataDumper
# id 1: 0xD55E6FB43F7011E297AC636F180585A5
# type: driver:File;id:UUID34;serialize:DataDumper
# type: driver:File;id:UUID34;serialize:DataDumper
# type: driver:File;id:UUID34;serialize:DataDumper
# type: driver:File;id:UUID34;serialize:DataDumper
# type: driver:File;id:UUID34;serialize:DataDumper
# Test: File.1. DSN: dbi:File:. ID generator: UUID34. Serializer: FreezeThaw
# type: driver:File;id:UUID34;serialize:FreezeThaw
# id 1: 0xD5612ACE3F7011E297AC636F180585A5
# type: driver:File;id:UUID34;serialize:FreezeThaw
# type: driver:File;id:UUID34;serialize:FreezeThaw
# type: driver:File;id:UUID34;serialize:FreezeThaw
# type: driver:File;id:UUID34;serialize:FreezeThaw
# type: driver:File;id:UUID34;serialize:FreezeThaw
# Test: File.1. DSN: dbi:File:. ID generator: UUID34. Serializer: JSON
# type: driver:File;id:UUID34;serialize:JSON
# id 1: 0xD56366403F7011E297AC636F180585A5
# type: driver:File;id:UUID34;serialize:JSON
# type: driver:File;id:UUID34;serialize:JSON
# type: driver:File;id:UUID34;serialize:JSON
# type: driver:File;id:UUID34;serialize:JSON
# type: driver:File;id:UUID34;serialize:JSON
# Test: File.1. DSN: dbi:File:. ID generator: UUID34. Serializer: Storable
# type: driver:File;id:UUID34;serialize:Storable
# id 1: 0xD5655C703F7011E297AC636F180585A5
# type: driver:File;id:UUID34;serialize:Storable
# type: driver:File;id:UUID34;serialize:Storable
# type: driver:File;id:UUID34;serialize:Storable
# type: driver:File;id:UUID34;serialize:Storable
# type: driver:File;id:UUID34;serialize:Storable
# Test: File.1. DSN: dbi:File:. ID generator: UUID34. Serializer: YAML
# type: driver:File;id:UUID34;serialize:YAML
# id 1: 0xD56784C83F7011E297AC636F180585A5
# type: driver:File;id:UUID34;serialize:YAML
# type: driver:File;id:UUID34;serialize:YAML
# type: driver:File;id:UUID34;serialize:YAML
# type: driver:File;id:UUID34;serialize:YAML
# type: driver:File;id:UUID34;serialize:YAML
# Test: File.1. DSN: dbi:File:. ID generator: UUID36. Serializer: DataDumper
# type: driver:File;id:UUID36;serialize:DataDumper
# id 1: D569D606-3F70-11E2-97AC-636F180585A5
# type: driver:File;id:UUID36;serialize:DataDumper
# type: driver:File;id:UUID36;serialize:DataDumper
# type: driver:File;id:UUID36;serialize:DataDumper
# type: driver:File;id:UUID36;serialize:DataDumper
# type: driver:File;id:UUID36;serialize:DataDumper
# Test: File.1. DSN: dbi:File:. ID generator: UUID36. Serializer: FreezeThaw
# type: driver:File;id:UUID36;serialize:FreezeThaw
# id 1: D56CAE76-3F70-11E2-97AC-636F180585A5
# type: driver:File;id:UUID36;serialize:FreezeThaw
# type: driver:File;id:UUID36;serialize:FreezeThaw
# type: driver:File;id:UUID36;serialize:FreezeThaw
# type: driver:File;id:UUID36;serialize:FreezeThaw
# type: driver:File;id:UUID36;serialize:FreezeThaw
# Test: File.1. DSN: dbi:File:. ID generator: UUID36. Serializer: JSON
# type: driver:File;id:UUID36;serialize:JSON
# id 1: D56ECF3A-3F70-11E2-97AC-636F180585A5
# type: driver:File;id:UUID36;serialize:JSON
# type: driver:File;id:UUID36;serialize:JSON
# type: driver:File;id:UUID36;serialize:JSON
# type: driver:File;id:UUID36;serialize:JSON
# type: driver:File;id:UUID36;serialize:JSON
# Test: File.1. DSN: dbi:File:. ID generator: UUID36. Serializer: Storable
# type: driver:File;id:UUID36;serialize:Storable
# id 1: D570F2D8-3F70-11E2-97AC-636F180585A5
# type: driver:File;id:UUID36;serialize:Storable
# type: driver:File;id:UUID36;serialize:Storable
# type: driver:File;id:UUID36;serialize:Storable
# type: driver:File;id:UUID36;serialize:Storable
# type: driver:File;id:UUID36;serialize:Storable
# Test: File.1. DSN: dbi:File:. ID generator: UUID36. Serializer: YAML
# type: driver:File;id:UUID36;serialize:YAML
# id 1: D572F240-3F70-11E2-97AC-636F180585A5
# type: driver:File;id:UUID36;serialize:YAML
# type: driver:File;id:UUID36;serialize:YAML
# type: driver:File;id:UUID36;serialize:YAML
# type: driver:File;id:UUID36;serialize:YAML
# type: driver:File;id:UUID36;serialize:YAML
# Skipping dsn 'dbi:SQLite:dbname=/tmp/sessions.sqlite' because the SQLite directory does not exist
# 
# Testing HTTP header generation
# type: driver:File;id:UUID36;serialize:YAML
# type: driver:File;id:UUID36;serialize:YAML
# type: driver:File;id:UUID36;serialize:YAML
# 
# Testing expire the session. Sleeping for 1 second ...
# type: driver:File;id:UUID36;serialize:YAML
# Expiring id: D57672A8-3F70-11E2-97AC-636F180585A5
# type: driver:File;id:UUID36;serialize:YAML
# 
# Testing expire a session parameter. Sleeping for 1 second ...
# type: driver:File;id:UUID36;serialize:YAML
t/basic.t ..... ok
t/pod.t ....... ok
# DSN name: File.1. DSN: dbi:File:. ID generator: MD5. Serializer: DataDumper
# type: driver:File;id:MD5;serialize:DataDumper
# id1: bc450780d62d19a771fcc6db8bcf4fc2
# type: driver:File;id:MD5;serialize:DataDumper
# type: driver:File;id:MD5;serialize:DataDumper
# type: driver:File;id:MD5;serialize:DataDumper
# type: driver:File;id:MD5;serialize:DataDumper
# 1: Recovered known id fcfa603169329fc48d2725a339413050 from traverse
# 2: Recovered known id 3f966a8500a82ff7b37fb75e80740a3d from traverse
# 3: Recovered known id 91810fd1bfa10ec2ca30d5984aa27551 from traverse
# 4: Recovered known id 49d81b4809bc122666449cfc2d3fae38 from traverse
# Skipping dsn 'dbi:SQLite:dbname=/tmp/sessions.sqlite' because the SQLite directory does not exist
t/traverse.t .. ok
All tests successful.
Files=3, Tests=80,  8 wallclock secs ( 0.13 usr  0.01 sys +  1.57 cusr  0.10 csys =  1.81 CPU)
Result: PASS

------------------------------
PREREQUISITES
------------------------------

Prerequisite modules loaded:

requires:

    Module                   Need    Have   
    ------------------------ ------- -------
    autovivification         0.06    0.10   
    CGI                      3.43    3.63   
    Class::Load              0.19    0.20   
    Data::Dumper             2.124   2.136  
    Data::UUID               1.217   1.218  
    DBD::SQLite              1.13    1.37   
    DBI                      1.615   1.622  
    Digest::MD5              2.39    2.52   
    Digest::SHA              5.47    5.74   
    Fcntl                    1.06    1.11   
    File::Basename           2.77    2.84   
    File::Path               2.07    2.08_01
    File::Slurp              9999.13 9999.19
    File::Spec               3.3     3.39_02
    File::Temp               0.22    0.22   
    FreezeThaw               0.5001  0.5001 
    Hash::FieldHash          0.1     0.12   
    JSON                     2.27    2.53   
    overload                 1.07    1.18   
    parent                   0.221   0.225  
    Safe                     2.18    2.31_01
    Scalar::Util             1.21    1.25   
    Storable                 2.2     2.39   
    strict                   1.04    1.07   
    Try::Tiny                0.07    0.11   
    vars                     1.01    1.02   
    warnings                 1.06    1.13   
    YAML::Tiny               1.44    1.51   

build_requires:

    Module                   Need    Have   
    ------------------------ ------- -------
    Config::Tiny             2.14    2.14   
    DBIx::Admin::CreateTable 2.07    2.07   
    Test::More               0.92    0.98_03
    Test::Pod                1.44    1.45   

configure_requires:

    Module                   Need    Have   
    ------------------------ ------- -------
    Module::Build            0.38    0.4003 


------------------------------
ENVIRONMENT AND OTHER CONTEXT
------------------------------

Environment variables:

    AUTOMATED_TESTING = 1
    LANG = C
    PATH = /home/graham/perls/perl-5.16.1-thread/bin:/usr/local/bin:/usr/bin:/bin:/usr/local/sbin:/usr/sbin:/sbin:/usr/bin/core_perl
    PERL5LIB = 
    PERL5OPT = 
    PERL5_CPANPLUS_IS_RUNNING = 29533
    PERL5_CPAN_IS_RUNNING = 29533
    PERL5_CPAN_IS_RUNNING_IN_RECURSION = 10741,29533
    PERL_CR_SMOKER_CURRENT = Business-Cart-Generic-0.85
    PERL_EXTUTILS_AUTOINSTALL = --defaultdeps
    PERL_MM_USE_DEFAULT = 1
    SHELL = /bin/bash
    TERM = xterm

Perl special variables (and OS-specific diagnostics, for MSWin32):

    $^X = /home/graham/perls/perl-5.16.1-thread/bin/perl
    $UID/$EUID = 1000 / 1000
    $GID = 100 100
    $EGID = 100 100

Perl module toolchain versions installed:

    Module              Have    
    ------------------- --------
    CPAN                1.99_51 
    CPAN::Meta          2.120921
    Cwd                 3.39_02 
    ExtUtils::CBuilder  0.280206
    ExtUtils::Command   1.17    
    ExtUtils::Install   1.58    
    ExtUtils::MakeMaker 6.63_04 
    ExtUtils::Manifest  1.61    
    ExtUtils::ParseXS   3.18    
    File::Spec          3.39_02 
    JSON                2.53    
    JSON::PP            2.27200 
    Module::Build       0.4003  
    Module::Signature   0.70    
    Parse::CPAN::Meta   1.4404  
    Test::Harness       3.23    
    Test::More          0.98_03 
    YAML                0.84    
    YAML::Syck          1.22    
    version             0.9901  


--

Summary of my perl5 (revision 5 version 16 subversion 1) configuration:
   
  Platform:
    osname=linux, osvers=3.5.6-1-arch, archname=x86_64-linux-thread-multi
    uname='linux grosics 3.5.6-1-arch #1 smp preempt sun oct 7 19:30:49 cest 2012 x86_64 gnulinux '
    config_args=''
    hint=recommended, useposix=true, d_sigaction=define
    useithreads=define, usemultiplicity=define
    useperlio=define, d_sfio=undef, uselargefiles=define, usesocks=undef
    use64bitint=define, use64bitall=define, uselongdouble=undef
    usemymalloc=n, bincompat5005=undef
  Compiler:
    cc='cc', ccflags ='-D_REENTRANT -D_GNU_SOURCE -fno-strict-aliasing -pipe -fstack-protector -I/usr/local/include -D_LARGEFILE_SOURCE -D_FILE_OFFSET_BITS=64',
    optimize='-O2',
    cppflags='-D_REENTRANT -D_GNU_SOURCE -fno-strict-aliasing -pipe -fstack-protector -I/usr/local/include'
    ccversion='', gccversion='4.7.2', gccosandvers=''
    intsize=4, longsize=8, ptrsize=8, doublesize=8, byteorder=12345678
    d_longlong=define, longlongsize=8, d_longdbl=define, longdblsize=16
    ivtype='long', ivsize=8, nvtype='double', nvsize=8, Off_t='off_t', lseeksize=8
    alignbytes=8, prototype=define
  Linker and Libraries:
    ld='cc', ldflags =' -fstack-protector -L/usr/local/lib'
    libpth=/usr/local/lib /lib/../lib /usr/lib/../lib /lib /usr/lib
    libs=-lnsl -lgdbm -ldb -ldl -lm -lcrypt -lutil -lpthread -lc -lgdbm_compat
    perllibs=-lnsl -ldl -lm -lcrypt -lutil -lpthread -lc
    libc=/lib/libc-2.16.so, so=so, useshrplib=false, libperl=libperl.a
    gnulibc_version='2.16'
  Dynamic Linking:
    dlsrc=dl_dlopen.xs, dlext=so, d_dlsymun=undef, ccdlflags='-Wl,-E'
    cccdlflags='-fPIC', lddlflags='-shared -O2 -L/usr/local/lib -fstack-protector'


Characteristics of this binary (from libperl): 
  Compile-time options: HAS_TIMES MULTIPLICITY PERLIO_LAYERS
                        PERL_DONT_CREATE_GVSV PERL_IMPLICIT_CONTEXT
                        PERL_MALLOC_WRAP PERL_PRESERVE_IVUV USE_64_BIT_ALL
                        USE_64_BIT_INT USE_ITHREADS USE_LARGE_FILES
                        USE_LOCALE USE_LOCALE_COLLATE USE_LOCALE_CTYPE
                        USE_LOCALE_NUMERIC USE_PERLIO USE_PERL_ATOF
                        USE_REENTRANT_API
  Built under linux
  Compiled at Oct 23 2012 11:54:06
  %ENV:
    PERL5LIB=""
    PERL5OPT=""
    PERL5_CPANPLUS_IS_RUNNING="29533"
    PERL5_CPAN_IS_RUNNING="29533"
    PERL5_CPAN_IS_RUNNING_IN_RECURSION="10741,29533"
    PERL_CR_SMOKER_CURRENT="Business-Cart-Generic-0.85"
    PERL_EXTUTILS_AUTOINSTALL="--defaultdeps"
    PERL_MM_USE_DEFAULT="1"
  @INC:
    /home/graham/perls/perl-5.16.1-thread/lib/site_perl/5.16.1/x86_64-linux-thread-multi
    /home/graham/perls/perl-5.16.1-thread/lib/site_perl/5.16.1
    /home/graham/perls/perl-5.16.1-thread/lib/5.16.1/x86_64-linux-thread-multi
    /home/graham/perls/perl-5.16.1-thread/lib/5.16.1
    .