Back
From: metabase:user:d2c9f356-b46f-11df-9a90-20a83c0b7757
Subject: PASS Dist-Zilla-Plugin-SpellingCommonMistakesTests-1.001000 v5.12.3 SunOS/Solaris
Date: 2011-04-01T19:04:22Z
This distribution has been tested as part of the CPAN Testers
project, supporting the Perl programming language. See
http://wiki.cpantesters.org/ for more information or email
questions to cpan-testers-discuss@perl.org
--
Dear Adam Lesperance,
This is a computer-generated report for Dist-Zilla-Plugin-SpellingCommonMistakesTests-1.001000
on perl 5.12.3, created by CPAN-Reporter-1.1902.
Thank you for uploading your work to CPAN. Congratulations!
All tests were successful.
Sections of this report:
* Tester comments
* Program output
* Prerequisites
* Environment and other context
------------------------------
TESTER COMMENTS
------------------------------
Additional comments from tester:
this report is from an automated smoke testing program
and was not reviewed by a human for accuracy
------------------------------
PROGRAM OUTPUT
------------------------------
Output from './Build test':
t/00-compile.t .................. ok
#
[Bootstrap::lib] lib added to @INC at (eval 4) line 1
#
# perl: v5.12.3 (wanted 5.008) on solaris from /export/home/cpant3/perl5/bin/perl5.12.3
#
# Dist::Zilla::Plugin::Bootstrap::lib => 0.01000003 (want any version)
# Dist::Zilla::Plugin::InlineFiles => 4.200004 (want any version)
# English => 1.04 (want any version)
# File::Find => 1.15 (want any version)
# File::Temp => 0.22 (want any version)
# Module::Build => 0.38 (want 0.3601)
# Moose => 1.24 (want any version)
# Pod::Spell::CommonMistakes => 1.000 (want any version)
# Test::More => 0.98 (want 0.88)
# Test::Pod::Spelling::CommonMistakes => 1.000 (want any version)
# utf8 => 1.08 (want any version)
#
# Thanks for using my code. I hope it works for you.
# If not, please try and include this output in the bug report.
# That will help me reproduce the issue and solve you problem.
#
t/000-report-versions-tiny.t .... ok
t/author-critic.t ............... skipped: these tests are for testing by the author
t/release-common_spelling.t ..... skipped: these tests are for release candidate testing
t/release-consistent-version.t .. skipped: these tests are for release candidate testing
t/release-cpan-changes.t ........ skipped: these tests are for release candidate testing
t/release-dist-manifest.t ....... skipped: these tests are for release candidate testing
t/release-distmeta.t ............ skipped: these tests are for release candidate testing
t/release-eol.t ................. skipped: these tests are for release candidate testing
t/release-has-version.t ......... skipped: these tests are for release candidate testing
t/release-kwalitee.t ............ skipped: these tests are for release candidate testing
t/release-minimum-version.t ..... skipped: these tests are for release candidate testing
t/release-no-tabs.t ............. skipped: these tests are for release candidate testing
t/release-pod-coverage.t ........ skipped: these tests are for release candidate testing
t/release-pod-syntax.t .......... skipped: these tests are for release candidate testing
t/release-portability.t ......... skipped: these tests are for release candidate testing
t/release-unused-vars.t ......... skipped: these tests are for release candidate testing
All tests successful.
Files=17, Tests=2, 1 wallclock secs ( 0.05 usr 0.03 sys + 0.82 cusr 0.08 csys = 0.98 CPU)
Result: PASS
------------------------------
PREREQUISITES
------------------------------
Prerequisite modules loaded:
requires:
Module Need Have
----------------------------------- ------ ----------
Dist::Zilla::Plugin::InlineFiles 0 4.200004
Moose 0 1.24
perl 5.008 5.012003
Pod::Spell::CommonMistakes 0 1.000
Test::Pod::Spelling::CommonMistakes 0 1.000
utf8 0 1.08
build_requires:
Module Need Have
----------------------------------- ------ ----------
Dist::Zilla::Plugin::Bootstrap::lib 0 0.01000003
English 0 1.04
File::Find 0 1.15
File::Temp 0 0.22
Module::Build 0.3601 0.3800
Test::More 0.88 0.98
configure_requires:
Module Need Have
----------------------------------- ------ ----------
Module::Build 0.3601 0.3800
------------------------------
ENVIRONMENT AND OTHER CONTEXT
------------------------------
Environment variables:
AUTOMATED_TESTING = 1
LANG = C
LD_LIBRARY_PATH = /usr/local/lib:
PATH = /export/home/cpant3/perl5/bin:/usr/local/bin:/usr/bin
PERL5LIB = /export/home/cpant3/.cpan/build/Test-Pod-Spelling-CommonMistakes-1.000-qKUHkC/blib/arch:/export/home/cpant3/.cpan/build/Test-Pod-Spelling-CommonMistakes-1.000-qKUHkC/blib/lib:/export/home/cpant3/.cpan/build/Pod-Spell-CommonMistakes-1.000-4c4u7y/blib/arch:/export/home/cpant3/.cpan/build/Pod-Spell-CommonMistakes-1.000-4c4u7y/blib/lib:/export/home/cpant3/.cpan/build/Dist-Zilla-Plugin-Bootstrap-lib-0.01000003-_77iyL/blib/arch:/export/home/cpant3/.cpan/build/Dist-Zilla-Plugin-Bootstrap-lib-0.01000003-_77iyL/blib/lib
PERL5OPT =
PERL5_CPANPLUS_IS_RUNNING = 6086
PERL5_CPAN_IS_RUNNING = 6086
PERL5_CPAN_IS_RUNNING_IN_RECURSION = 12082,6086
PERL_CR_SMOKER_CURRENT = Dist-Zilla-Plugin-SpellingCommonMistakesTests-1.001000
PERL_EXTUTILS_AUTOINSTALL = --defaultdeps
PERL_LWP_SSL_VERIFY_HOSTNAME = 0
PERL_MM_USE_DEFAULT = 1
SHELL = /usr/bin/bash
TERM = xterm
Perl special variables (and OS-specific diagnostics, for MSWin32):
$^X = /export/home/cpant3/perl5/bin/perl5.12.3
$UID/$EUID = 103 / 103
$GID = 1 1
$EGID = 1 1
Perl module toolchain versions installed:
Module Have
------------------- --------
CPAN 1.9600
Cwd 3.33
ExtUtils::CBuilder 0.280202
ExtUtils::Command 1.17
ExtUtils::Install 1.55
ExtUtils::MakeMaker 6.56
ExtUtils::Manifest 1.58
ExtUtils::ParseXS 2.2206
File::Spec 3.33
Module::Build 0.3800
Module::Signature n/a
Test::Harness 3.23
Test::More 0.98
YAML 0.72
YAML::Syck 1.17
version 0.88
--
Summary of my perl5 (revision 5 version 12 subversion 3) configuration:
Platform:
osname=solaris, osvers=2.10, archname=i86pc-solaris-64int
uname='sunos vmrz0046 5.10 generic_141445-09 i86pc i386 i86pc '
config_args='-Dcc=gcc -Dprefix=~/perl5 -Duse64bitint -Dusedevel -d'
hint=recommended, useposix=true, d_sigaction=define
useithreads=undef, usemultiplicity=undef
useperlio=define, d_sfio=undef, uselargefiles=define, usesocks=undef
use64bitint=define, use64bitall=undef, uselongdouble=undef
usemymalloc=n, bincompat5005=undef
Compiler:
cc='gcc', ccflags ='-DPTR_IS_LONG -fno-strict-aliasing -pipe -I/usr/local/include -D_LARGEFILE_SOURCE -D_FILE_OFFSET_BITS=64 -DPERL_USE_SAFE_PUTENV -DPERL_USE_SAFE_PUTENV',
optimize='-O',
cppflags='-DPTR_IS_LONG -fno-strict-aliasing -pipe -I/usr/local/include'
ccversion='', gccversion='3.4.6', gccosandvers='solaris2.10'
intsize=4, longsize=4, ptrsize=4, doublesize=8, byteorder=12345678
d_longlong=define, longlongsize=8, d_longdbl=define, longdblsize=12
ivtype='long long', ivsize=8, nvtype='double', nvsize=8, Off_t='off_t', lseeksize=8
alignbytes=4, prototype=define
Linker and Libraries:
ld='gcc', ldflags =' -L/usr/local/lib '
libpth=/usr/local/lib /usr/lib /usr/ccs/lib
libs=-lsocket -lnsl -ldl -lm -lc
perllibs=-lsocket -lnsl -ldl -lm -lc
libc=/lib/libc.so, so=so, useshrplib=false, libperl=libperl.a
gnulibc_version=''
Dynamic Linking:
dlsrc=dl_dlopen.xs, dlext=so, d_dlsymun=undef, ccdlflags=' '
cccdlflags='-fPIC', lddlflags='-G -L/usr/local/lib'
Characteristics of this binary (from libperl):
Compile-time options: PERL_DONT_CREATE_GVSV PERL_MALLOC_WRAP PERL_USE_DEVEL
PERL_USE_SAFE_PUTENV USE_64_BIT_INT USE_LARGE_FILES
USE_PERLIO USE_PERL_ATOF
Built under solaris
Compiled at Mar 1 2011 16:44:09
%ENV:
PERL5LIB="/export/home/cpant3/.cpan/build/Test-Pod-Spelling-CommonMistakes-1.000-qKUHkC/blib/arch:/export/home/cpant3/.cpan/build/Test-Pod-Spelling-CommonMistakes-1.000-qKUHkC/blib/lib:/export/home/cpant3/.cpan/build/Pod-Spell-CommonMistakes-1.000-4c4u7y/blib/arch:/export/home/cpant3/.cpan/build/Pod-Spell-CommonMistakes-1.000-4c4u7y/blib/lib:/export/home/cpant3/.cpan/build/Dist-Zilla-Plugin-Bootstrap-lib-0.01000003-_77iyL/blib/arch:/export/home/cpant3/.cpan/build/Dist-Zilla-Plugin-Bootstrap-lib-0.01000003-_77iyL/blib/lib"
PERL5OPT=""
PERL5_CPANPLUS_IS_RUNNING="6086"
PERL5_CPAN_IS_RUNNING="6086"
PERL5_CPAN_IS_RUNNING_IN_RECURSION="12082,6086"
PERL_CR_SMOKER_CURRENT="Dist-Zilla-Plugin-SpellingCommonMistakesTests-1.001000"
PERL_EXTUTILS_AUTOINSTALL="--defaultdeps"
PERL_LWP_SSL_VERIFY_HOSTNAME="0"
PERL_MM_USE_DEFAULT="1"
@INC:
/export/home/cpant3/.cpan/build/Test-Pod-Spelling-CommonMistakes-1.000-qKUHkC/blib/arch
/export/home/cpant3/.cpan/build/Test-Pod-Spelling-CommonMistakes-1.000-qKUHkC/blib/lib
/export/home/cpant3/.cpan/build/Pod-Spell-CommonMistakes-1.000-4c4u7y/blib/arch
/export/home/cpant3/.cpan/build/Pod-Spell-CommonMistakes-1.000-4c4u7y/blib/lib
/export/home/cpant3/.cpan/build/Dist-Zilla-Plugin-Bootstrap-lib-0.01000003-_77iyL/blib/arch
/export/home/cpant3/.cpan/build/Dist-Zilla-Plugin-Bootstrap-lib-0.01000003-_77iyL/blib/lib
/export/home/cpant3/perl5/lib/site_perl/5.12.3/i86pc-solaris-64int
/export/home/cpant3/perl5/lib/site_perl/5.12.3
/export/home/cpant3/perl5/lib/5.12.3/i86pc-solaris-64int
/export/home/cpant3/perl5/lib/5.12.3
/export/home/cpant3/perl5/lib/site_perl
.