Web-MREST v0.290 Perl 5 v5.26.2 x86_64-linux

Status
Pass
From
Andreas J. König (ANDK)
Dist
Web-MREST v0.290
Platform
Perl 5 v5.26.2 x86_64-linux
Date
2022-06-29 19:44:13
ID
da9cf38e-f7e3-11ec-8169-88f734d77217
This distribution has been tested as part of the CPAN Testers
project, supporting the Perl programming language.  See
http://wiki.cpantesters.org/ for more information or email
questions to cpan-testers-discuss@perl.org


--
Dear Nathan Cutler,

This is a computer-generated report for Web-MREST-0.290
on perl 5.26.2, created by CPAN-Reporter-1.2018.

Thank you for uploading your work to CPAN.  Congratulations!
All tests were successful.

Sections of this report:

    * Tester comments
    * Program output
    * Prerequisites
    * Environment and other context

------------------------------
TESTER COMMENTS
------------------------------

Additional comments from tester:

this report is from an automated smoke testing program
and was not reviewed by a human for accuracy

------------------------------
PROGRAM OUTPUT
------------------------------

Output from './Build test':

t/2xx/200-OK.t ........................ ok
t/2xx/201-Created.t ................... ok
t/4xx/400-Bad-Request.t ............... ok
t/4xx/401-Unauthorized.t .............. ok
t/4xx/403-Forbidden.t ................. ok
t/4xx/405-Method-Not-Allowed.t ........ ok
t/4xx/406-Not-Acceptable.t ............ ok
t/4xx/413-Request-Entity-Too-Large.t .. ok
t/4xx/414-Request-URI-Too-Long.t ...... ok
t/4xx/415-Unsupported-Media-Type.t .... ok
t/5xx/501-Not-Implemented.t ........... ok
t/5xx/503-Service-Unavailable.t ....... ok
t/config.t ............................ ok
t/dispatch/bugreport.t ................ ok
t/dispatch/docu.t ..................... ok
t/dispatch/echo.t ..................... ok
t/dispatch/noop.t ..................... ok
t/dispatch/param.t .................... ok
t/dispatch/root_resource.t ............ ok
t/dispatch/version.t .................. ok
t/mrest_declare_status.t .............. ok
t/request_body_read.t ................. ok
All tests successful.
Files=22, Tests=352, 37 wallclock secs ( 0.11 usr  0.34 sys + 12.27 cusr  7.13 csys = 19.85 CPU)
Result: PASS

------------------------------
PREREQUISITES
------------------------------

Prerequisite modules loaded:

requires:

    Module                        Need   Have    
    ----------------------------- ------ --------
    App::CELL                     0.209  0.231   
    Encode                        0      3.17    
    File::ShareDir                1.00   1.118   
    File::Spec                    0      3.75    
    Getopt::Long                  2.32   2.52    
    HTTP::Request                 0      6.36    
    HTTP::Request::Common         0      6.36    
    JSON                          0      4.05    
    LWP::Protocol::https          6.04   6.10    
    LWP::UserAgent                6.05   6.67    
    Module::Runtime               0      0.016   
    Params::Validate              1.06   1.30    
    Path::Router                  0.12   0.15    
    perl                          5.012  5.026002
    Plack::Middleware::LogErrors  0      0.003   
    Plack::Middleware::Session    0      0.33    
    Plack::Middleware::StackTrace 0      0       
    Plack::Runner                 0      0       
    Pod::Simple::HTML             0      3.43    
    Pod::Simple::Text             0      3.43    
    Pod::Usage                    0      2.03    
    Term::ReadLine                0      1.17    
    Test::Deep::NoTest            0      0       
    Try::Tiny                     0      0.31    
    URI::Escape                   0      5.10    
    Web::Machine                  0.15   0.17    
    Web::MREST::CLI               0.276  0.284   

build_requires:

    Module                        Need   Have    
    ----------------------------- ------ --------
    App::CELL                     0.209  0.231   
    Cwd                           0      3.75    
    Encode                        0      3.17    
    File::Basename                0      2.85    
    File::ShareDir                0      1.118   
    File::Spec                    0      3.75    
    HTTP::Request                 0      6.36    
    HTTP::Request::Common         0      6.36    
    JSON                          0      4.05    
    LWP::Protocol::https          6.04   6.10    
    LWP::UserAgent                6.05   6.67    
    Module::Runtime               0      0.016   
    Params::Validate              0      1.30    
    Path::Router                  0.12   0.15    
    Plack                         1.0031 1.0048  
    Plack::Test                   0      0       
    Pod::Simple::HTML             0      3.43    
    Pod::Simple::Text             0      3.43    
    Test::Deep                    0      1.130   
    Test::Fatal                   0      0.016   
    Test::JSON                    0      0.11    
    Test::More                    0      1.302190
    Test::Warnings                0      0.031   
    Try::Tiny                     0      0.31    
    URI::Escape                   0      5.10    
    Web::Machine                  0.15   0.17    

configure_requires:

    Module                        Need   Have    
    ----------------------------- ------ --------
    Module::Build                 0      0.4231  


------------------------------
ENVIRONMENT AND OTHER CONTEXT
------------------------------

Environment variables:

    AUTOMATED_TESTING = 1
    LANG = en_US.UTF-8
    LANGUAGE = en_US:en
    PATH = /home/sand/bin:/usr/local/bin:/usr/bin:/bin:/usr/games:/usr/local/perl/bin:/usr/X11/bin:/sbin:/usr/sbin
    PERL5LIB = 
    PERL5OPT = 
    PERL5_CPANPLUS_IS_RUNNING = 1604937
    PERL5_CPAN_IS_RUNNING = 1604937
    PERL_CANARY_STABILITY_NOPROMPT = 1
    PERL_MM_USE_DEFAULT = 1
    PERL_USE_UNSAFE_INC = 1
    SHELL = /usr/bin/zsh
    TERM = screen

Perl special variables (and OS-specific diagnostics, for MSWin32):

    $^X = /home/sand/src/perl/repoperls/installed-perls/host/k93msid/v5.26.2/da1c/bin/perl
    $UID/$EUID = 1005 / 1005
    $GID = 1005 1005
    $EGID = 1005 1005

Perl module toolchain versions installed:

    Module              Have    
    ------------------- --------
    CPAN                2.34    
    CPAN::Meta          2.150010
    Cwd                 3.75    
    ExtUtils::CBuilder  0.280236
    ExtUtils::Command   7.65_01 
    ExtUtils::Install   2.06    
    ExtUtils::MakeMaker 7.65_01 
    ExtUtils::Manifest  1.70    
    ExtUtils::ParseXS   3.44    
    File::Spec          3.75    
    JSON                4.05    
    JSON::PP            4.10    
    Module::Build       0.4231  
    Module::Signature   0.88    
    Parse::CPAN::Meta   2.150010
    Test::Harness       3.43_04 
    Test::More          1.302190
    YAML                1.30    
    YAML::Syck          1.34    
    version             0.9929  


--

Summary of my perl5 (revision 5 version 26 subversion 2) configuration:
  Derived from: c5b1997939178730653db9e80f90cd53d722fe8d
  Platform:
    osname=linux
    osvers=5.16.0-5-amd64
    archname=x86_64-linux
    uname='linux k93msid 5.16.0-5-amd64 #1 smp preempt debian 5.16.14-1 (2022-03-15) x86_64 gnulinux '
    config_args='-Dprefix=/home/sand/src/perl/repoperls/installed-perls/host/k93msid/v5.26.2/da1c -Dmyhostname=k93msid -Dinstallusrbinperl=n -Uversiononly -Dusedevel -des -Ui_db -Dlibswanted=cl pthread socket inet nsl gdbm dbm malloc dl ld sun m crypt sec util c cposix posix ucb BSD gdbm_compat -Uuseithreads -Uuselongdouble -DEBUGGING=-g'
    hint=recommended
    useposix=true
    d_sigaction=define
    useithreads=undef
    usemultiplicity=undef
    use64bitint=define
    use64bitall=define
    uselongdouble=undef
    usemymalloc=n
    default_inc_excludes_dot=define
    bincompat5005=undef
  Compiler:
    cc='cc'
    ccflags ='-fwrapv -fno-strict-aliasing -pipe -fstack-protector-strong -I/usr/local/include -D_LARGEFILE_SOURCE -D_FILE_OFFSET_BITS=64 -D_FORTIFY_SOURCE=2'
    optimize='-O2 -g'
    cppflags='-fwrapv -fno-strict-aliasing -pipe -fstack-protector-strong -I/usr/local/include'
    ccversion=''
    gccversion='11.2.0'
    gccosandvers=''
    intsize=4
    longsize=8
    ptrsize=8
    doublesize=8
    byteorder=12345678
    doublekind=3
    d_longlong=define
    longlongsize=8
    d_longdbl=define
    longdblsize=16
    longdblkind=3
    ivtype='long'
    ivsize=8
    nvtype='double'
    nvsize=8
    Off_t='off_t'
    lseeksize=8
    alignbytes=8
    prototype=define
  Linker and Libraries:
    ld='cc'
    ldflags =' -fstack-protector-strong -L/usr/local/lib'
    libpth=/usr/local/lib /usr/include/x86_64-linux-gnu /usr/lib /lib/x86_64-linux-gnu /lib/../lib /usr/lib/x86_64-linux-gnu /usr/lib/../lib /lib
    libs=-lpthread -lnsl -ldl -lm -lcrypt -lutil -lc
    perllibs=-lpthread -lnsl -ldl -lm -lcrypt -lutil -lc
    libc=libc-2.33.so
    so=so
    useshrplib=false
    libperl=libperl.a
    gnulibc_version='2.33'
  Dynamic Linking:
    dlsrc=dl_dlopen.xs
    dlext=so
    d_dlsymun=undef
    ccdlflags='-Wl,-E'
    cccdlflags='-fPIC'
    lddlflags='-shared -O2 -g -L/usr/local/lib -fstack-protector-strong'


Characteristics of this binary (from libperl): 
  Compile-time options:
    HAS_TIMES
    PERLIO_LAYERS
    PERL_COPY_ON_WRITE
    PERL_DONT_CREATE_GVSV
    PERL_MALLOC_WRAP
    PERL_OP_PARENT
    PERL_PRESERVE_IVUV
    PERL_USE_DEVEL
    USE_64_BIT_ALL
    USE_64_BIT_INT
    USE_LARGE_FILES
    USE_LOCALE
    USE_LOCALE_COLLATE
    USE_LOCALE_CTYPE
    USE_LOCALE_NUMERIC
    USE_LOCALE_TIME
    USE_PERLIO
    USE_PERL_ATOF
  Locally applied patches:
    uncommitted-changes
  Built under linux
  Compiled at Mar 26 2022 12:48:52
  %ENV:
    PERL5LIB=""
    PERL5OPT=""
    PERL5_CPANPLUS_IS_RUNNING="1604937"
    PERL5_CPAN_IS_RUNNING="1604937"
    PERL_CANARY_STABILITY_NOPROMPT="1"
    PERL_MM_USE_DEFAULT="1"
    PERL_USE_UNSAFE_INC="1"
  @INC:
    /home/sand/src/perl/repoperls/installed-perls/host/k93msid/v5.26.2/da1c/lib/site_perl/5.26.2/x86_64-linux
    /home/sand/src/perl/repoperls/installed-perls/host/k93msid/v5.26.2/da1c/lib/site_perl/5.26.2
    /home/sand/src/perl/repoperls/installed-perls/host/k93msid/v5.26.2/da1c/lib/5.26.2/x86_64-linux
    /home/sand/src/perl/repoperls/installed-perls/host/k93msid/v5.26.2/da1c/lib/5.26.2
    .