HTML-Scrubber v0.19 Perl 5 v5.18.4 x86_64-linux

Status
Pass
From
Slaven Rezić
Dist
HTML-Scrubber v0.19
Platform
Perl 5 v5.18.4 x86_64-linux
Date
2022-12-29 16:14:21
ID
daabbe42-8793-11ed-b012-1e076e8775ea
This distribution has been tested as part of the CPAN Testers
project, supporting the Perl programming language.  See
http://wiki.cpantesters.org/ for more information or email
questions to cpan-testers-discuss@perl.org


--
Dear Nigel Metheringham,

This is a computer-generated report for HTML-Scrubber-0.19
on perl 5.18.4, created by CPAN-Reporter-1.2018.

Thank you for uploading your work to CPAN.  Congratulations!
All tests were successful.

Sections of this report:

    * Tester comments
    * Program output
    * Prerequisites
    * Environment and other context

------------------------------
TESTER COMMENTS
------------------------------

Additional comments from tester:

none provided

------------------------------
PROGRAM OUTPUT
------------------------------

Output from '/usr/bin/make test':

PERL_DL_NONLAZY=1 "/opt/perl-5.18.4/bin/perl" "-MExtUtils::Command::MM" "-MTest::Harness" "-e" "undef *Test::Harness::Switches; test_harness(0, 'blib/lib', 'blib/arch')" t/*.t
# 
# Versions for all modules listed in MYMETA.json (including optional ones):
# 
# === Configure Requires ===
# 
#     Module              Want Have
#     ------------------- ---- ----
#     ExtUtils::MakeMaker  any 7.66
# 
# === Build Requires ===
# 
#     Module              Want Have
#     ------------------- ---- ----
#     ExtUtils::MakeMaker  any 7.66
# 
# === Test Requires ===
# 
#     Module              Want     Have
#     ------------------- ---- --------
#     ExtUtils::MakeMaker  any     7.66
#     File::Spec           any     3.75
#     File::Temp           any   0.2311
#     Test                 any     1.26
#     Test::Differences    any     0.69
#     Test::Memory::Cycle  any     1.06
#     Test::More          0.88 1.302191
#     utf8                 any     1.10
# 
# === Test Recommends ===
# 
#     Module         Want     Have
#     ---------- -------- --------
#     CPAN::Meta 2.120900 2.143240
# 
# === Runtime Requires ===
# 
#     Module         Want Have
#     -------------- ---- ----
#     HTML::Entities  any 3.80
#     HTML::Parser   3.47 3.80
#     List::Util     1.33 1.63
#     Scalar::Util    any 1.63
#     strict          any 1.07
#     warnings        any 1.18
# 
t/00-report-prereqs.t ........... ok
# Testing HTML::Scrubber 0.19, Perl 5.018004, /opt/perl-5.18.4/bin/perl
t/01_use.t ...................... ok
t/02_basic.t .................... ok
t/03_more.t ..................... ok
t/04_style_script.t ............. ok
t/05_pi_comment.t ............... ok
t/06_scrub_file.t ............... ok
t/07_booleans.t ................. ok
t/08_cb_attrs.t ................. ok
t/09_memory_cycle.t ............. ok
t/09_no_scrub_warnings.t ........ ok
t/jvn53973084.t ................. ok
t/rt120384_remove_false_tags.t .. ok
t/rt19063_xhtml.t ............... ok
t/rt25477_self_closing.t ........ ok
t/rt72659_utf8.t ................ ok
t/rt79044_multiple.t ............ ok
All tests successful.
Files=17, Tests=172,  1 wallclock secs ( 0.05 usr  0.02 sys +  0.69 cusr  0.19 csys =  0.95 CPU)
Result: PASS

------------------------------
PREREQUISITES
------------------------------

Prerequisite modules loaded:

requires:

    Module              Need  Have    
    ------------------- ----- --------
    HTML::Entities      0     3.80    
    HTML::Parser        3.47  3.80    
    List::Util          1.33  1.63    
    perl                5.008 5.018004
    Scalar::Util        0     1.63    
    strict              0     1.07    
    warnings            0     1.18    

build_requires:

    Module              Need  Have    
    ------------------- ----- --------
    ExtUtils::MakeMaker 0     7.66    
    File::Spec          0     3.75    
    File::Temp          0     0.2311  
    Test                0     1.26    
    Test::Differences   0     0.69    
    Test::Memory::Cycle 0     1.06    
    Test::More          0.88  1.302191
    utf8                0     1.10    

configure_requires:

    Module              Need  Have    
    ------------------- ----- --------
    ExtUtils::MakeMaker 0     7.66    


------------------------------
ENVIRONMENT AND OTHER CONTEXT
------------------------------

Environment variables:

    LANG = en_US.UTF-8
    PATH = /usr/local/bin:/usr/bin:/bin:/usr/local/sbin:/usr/sbin:/sbin:/home/cpansand/bin/linux-gnu:/home/cpansand/bin/sh:/home/cpansand/bin:/usr/games:/home/cpansand/devel:/home/eserte/src/srezic-misc/scripts
    PERL5LIB = /home/cpansand/.cpan/build/2022122916/DateTime-Format-Strptime-1.79-0/blib/arch:/home/cpansand/.cpan/build/2022122916/DateTime-Format-Strptime-1.79-0/blib/lib:/home/cpansand/.cpan/build/2022122916/Alien-Tidyp-v1.4.7-2/blib/arch:/home/cpansand/.cpan/build/2022122916/Alien-Tidyp-v1.4.7-2/blib/lib:/home/cpansand/.cpan/build/2022122916/Archive-Extract-0.88-0/blib/arch:/home/cpansand/.cpan/build/2022122916/Archive-Extract-0.88-0/blib/lib:/home/cpansand/.cpan/build/2022122916/Module-Load-Conditional-0.74-0/blib/arch:/home/cpansand/.cpan/build/2022122916/Module-Load-Conditional-0.74-0/blib/lib:/home/cpansand/.cpan/build/2022122916/Module-Load-0.36-0/blib/arch:/home/cpansand/.cpan/build/2022122916/Module-Load-0.36-0/blib/lib
    PERL5OPT = 
    PERL5_CPANPLUS_IS_RUNNING = 1930
    PERL5_CPAN_IS_RUNNING = 1930
    PERL5_CPAN_IS_RUNNING_IN_RECURSION = 15779,1930
    PERLDOC = -MPod::Perldoc::ToTextOverstrike
    PERL_BATCH = yes
    PERL_CANARY_STABILITY_NOPROMPT = 1
    PERL_CPAN_REPORTER_CONFIG = /var/tmp/cpansmoker-1023/2022122916/cpanreporter_000_config.ini
    PERL_EXTUTILS_AUTOINSTALL = --defaultdeps
    PERL_USE_UNSAFE_INC = 1
    SHELL = /usr/bin/zsh
    TERM = screen
    TMPDIR = /var/tmp/cpansmoker-1023/2022122916

Perl special variables (and OS-specific diagnostics, for MSWin32):

    $^X = /opt/perl-5.18.4/bin/perl
    $UID/$EUID = 1023 / 1023
    $GID = 1023 1023
    $EGID = 1023 1023

Perl module toolchain versions installed:

    Module              Have    
    ------------------- --------
    CPAN                2.34    
    CPAN::Meta          2.143240
    Cwd                 3.75    
    ExtUtils::CBuilder  0.280210
    ExtUtils::Command   7.66    
    ExtUtils::Install   2.06    
    ExtUtils::MakeMaker 7.66    
    ExtUtils::Manifest  1.70    
    ExtUtils::ParseXS   3.44    
    File::Spec          3.75    
    JSON                4.10    
    JSON::PP            4.15    
    Module::Build       0.4232  
    Module::Signature   n/a     
    Parse::CPAN::Meta   1.4414  
    Test::Harness       3.44    
    Test::More          1.302191
    YAML                1.30    
    YAML::Syck          1.34    
    version             0.9902  


--

Summary of my perl5 (revision 5 version 18 subversion 4) configuration:
   
  Platform:
    osname=linux, osvers=3.10.0-1160.81.1.el7.x86_64, archname=x86_64-linux
    uname='linux cloud3.bbbike.org 3.10.0-1160.81.1.el7.x86_64 #1 smp fri dec 16 17:29:43 utc 2022 x86_64 x86_64 x86_64 gnulinux '
    config_args='-ds -e -Dprefix=/opt/perl-5.18.4 -Dcf_email=srezic@cpan.org'
    hint=recommended, useposix=true, d_sigaction=define
    useithreads=undef, usemultiplicity=undef
    useperlio=define, d_sfio=undef, uselargefiles=define, usesocks=undef
    use64bitint=define, use64bitall=define, uselongdouble=undef
    usemymalloc=n, bincompat5005=undef
  Compiler:
    cc='cc', ccflags ='-fwrapv -fno-strict-aliasing -pipe -fstack-protector -I/usr/local/include -D_LARGEFILE_SOURCE -D_FILE_OFFSET_BITS=64',
    optimize='-O2',
    cppflags='-fwrapv -fno-strict-aliasing -pipe -fstack-protector -I/usr/local/include'
    ccversion='', gccversion='4.8.5 20150623 (Red Hat 4.8.5-44)', gccosandvers=''
    intsize=4, longsize=8, ptrsize=8, doublesize=8, byteorder=12345678
    d_longlong=define, longlongsize=8, d_longdbl=define, longdblsize=16
    ivtype='long', ivsize=8, nvtype='double', nvsize=8, Off_t='off_t', lseeksize=8
    alignbytes=8, prototype=define
  Linker and Libraries:
    ld='cc', ldflags =' -fstack-protector -L/usr/local/lib'
    libpth=/usr/local/lib /lib/../lib64 /usr/lib/../lib64 /lib /usr/lib /lib64 /usr/lib64 /usr/local/lib64
    libs=-lnsl -lgdbm -ldb -ldl -lm -lcrypt -lutil -lc -lgdbm_compat
    perllibs=-lnsl -ldl -lm -lcrypt -lutil -lc
    libc=libc-2.17.so, so=so, useshrplib=false, libperl=libperl.a
    gnulibc_version='2.17'
  Dynamic Linking:
    dlsrc=dl_dlopen.xs, dlext=so, d_dlsymun=undef, ccdlflags='-Wl,-E'
    cccdlflags='-fPIC', lddlflags='-shared -O2 -L/usr/local/lib -fstack-protector'


Characteristics of this binary (from libperl): 
  Compile-time options: HAS_TIMES PERLIO_LAYERS PERL_DONT_CREATE_GVSV
                        PERL_HASH_FUNC_ONE_AT_A_TIME_HARD PERL_MALLOC_WRAP
                        PERL_PRESERVE_IVUV PERL_SAWAMPERSAND USE_64_BIT_ALL
                        USE_64_BIT_INT USE_LARGE_FILES USE_LOCALE
                        USE_LOCALE_COLLATE USE_LOCALE_CTYPE
                        USE_LOCALE_NUMERIC USE_PERLIO USE_PERL_ATOF
  Locally applied patches:
	Devel::PatchPerl 2.08
  Built under linux
  Compiled at Dec 26 2022 19:19:09
  %ENV:
    PERL5LIB="/home/cpansand/.cpan/build/2022122916/DateTime-Format-Strptime-1.79-0/blib/arch:/home/cpansand/.cpan/build/2022122916/DateTime-Format-Strptime-1.79-0/blib/lib:/home/cpansand/.cpan/build/2022122916/Alien-Tidyp-v1.4.7-2/blib/arch:/home/cpansand/.cpan/build/2022122916/Alien-Tidyp-v1.4.7-2/blib/lib:/home/cpansand/.cpan/build/2022122916/Archive-Extract-0.88-0/blib/arch:/home/cpansand/.cpan/build/2022122916/Archive-Extract-0.88-0/blib/lib:/home/cpansand/.cpan/build/2022122916/Module-Load-Conditional-0.74-0/blib/arch:/home/cpansand/.cpan/build/2022122916/Module-Load-Conditional-0.74-0/blib/lib:/home/cpansand/.cpan/build/2022122916/Module-Load-0.36-0/blib/arch:/home/cpansand/.cpan/build/2022122916/Module-Load-0.36-0/blib/lib"
    PERL5OPT=""
    PERL5_CPANPLUS_IS_RUNNING="1930"
    PERL5_CPAN_IS_RUNNING="1930"
    PERL5_CPAN_IS_RUNNING_IN_RECURSION="15779,1930"
    PERLDOC="-MPod::Perldoc::ToTextOverstrike"
    PERL_BATCH="yes"
    PERL_CANARY_STABILITY_NOPROMPT="1"
    PERL_CPAN_REPORTER_CONFIG="/var/tmp/cpansmoker-1023/2022122916/cpanreporter_000_config.ini"
    PERL_EXTUTILS_AUTOINSTALL="--defaultdeps"
    PERL_USE_UNSAFE_INC="1"
  @INC:
    /home/cpansand/.cpan/build/2022122916/DateTime-Format-Strptime-1.79-0/blib/arch
    /home/cpansand/.cpan/build/2022122916/DateTime-Format-Strptime-1.79-0/blib/lib
    /home/cpansand/.cpan/build/2022122916/Alien-Tidyp-v1.4.7-2/blib/arch
    /home/cpansand/.cpan/build/2022122916/Alien-Tidyp-v1.4.7-2/blib/lib
    /home/cpansand/.cpan/build/2022122916/Archive-Extract-0.88-0/blib/arch
    /home/cpansand/.cpan/build/2022122916/Archive-Extract-0.88-0/blib/lib
    /home/cpansand/.cpan/build/2022122916/Module-Load-Conditional-0.74-0/blib/arch
    /home/cpansand/.cpan/build/2022122916/Module-Load-Conditional-0.74-0/blib/lib
    /home/cpansand/.cpan/build/2022122916/Module-Load-0.36-0/blib/arch
    /home/cpansand/.cpan/build/2022122916/Module-Load-0.36-0/blib/lib
    /opt/perl-5.18.4/lib/site_perl/5.18.4/x86_64-linux
    /opt/perl-5.18.4/lib/site_perl/5.18.4
    /opt/perl-5.18.4/lib/5.18.4/x86_64-linux
    /opt/perl-5.18.4/lib/5.18.4
    .