Report for MozRepl-RemoteObject-0.36

Back
From: metabase:user:314402c4-2aae-11df-837a-5e0a49663a4f
Subject: PASS MozRepl-RemoteObject-0.36 v5.16.0 RC0 FreeBSD
Date: 2013-04-03T21:17:14Z

This distribution has been tested as part of the CPAN Testers
project, supporting the Perl programming language.  See
http://wiki.cpantesters.org/ for more information or email
questions to cpan-testers-discuss@perl.org


--
Dear Max Maischein,

This is a computer-generated report for MozRepl-RemoteObject-0.36
on perl 5.16.0, created by CPAN-Reporter-1.2006.

Thank you for uploading your work to CPAN.  Congratulations!
All tests were successful.

Sections of this report:

    * Tester comments
    * Program output
    * Prerequisites
    * Environment and other context

------------------------------
TESTER COMMENTS
------------------------------

Additional comments from tester:

none provided

------------------------------
PROGRAM OUTPUT
------------------------------

Output from '/usr/bin/make test':

PERL_DL_NONLAZY=1 /home2/cpansand/var/ctps/5160RC0/install/perl-5.16.0-RC0/bin/perl5.16.0 "-MExtUtils::Command::MM" "-e" "test_harness(0, 'blib/lib', 'blib/arch')" t/*.t
# Testing MozRepl::RemoteObject 0.36, Perl 5.016000
# Carp 1.26
# Config <unknown>
# Encode 2.47
# Encode::Alias 2.16
# Encode::Config 2.05
# Encode::Encoding 2.05
# Exporter 5.66
# Exporter::Heavy 5.66
# JSON 2.53
# JSON::XS 2.33
# List::Util 1.25
# MozRepl::RemoteObject 0.36
# MozRepl::RemoteObject::Methods 0.36
# PerlIO 1.07
# Scalar::Util 1.25
# Test::Builder 0.98
# Test::Builder::Module 0.98
# Test::More 0.98
# XSLoader 0.16
# attributes 0.19
# base 2.18
# bytes 1.04
# common::sense 3.5
# constant 1.27
# overload 1.18
# overloading 0.02
# strict 1.07
# vars 1.02
# warnings 1.13
# warnings::register 1.02
t/00-load.t .................... ok
t/01-appversion.t .............. skipped: Couldn't connect to MozRepl: Failed to connect to , problem connecting to "localhost", port 4242: Connection refused at /home/cpansand/var/ctps/5160RC0/install/perl-5.16.0-RC0/lib/site_perl/5.16.0/MozRepl/Client.pm line 144
# --- Loading object functionality into repl
t/01-array.t ................... skipped: Couldn't connect to MozRepl: Failed to connect to , problem connecting to "localhost", port 4242: Connection refused at /home/cpansand/var/ctps/5160RC0/install/perl-5.16.0-RC0/lib/site_perl/5.16.0/MozRepl/Client.pm line 144
Too late to run CHECK block at /home/cpansand/var/ctps/5160RC0/install/perl-5.16.0-RC0/lib/site_perl/5.16.0/i386-freebsd/EV.pm line 123.
[error] Connection refused
t/01-backend-anyevent-timer.t .. skipped: Couldn't connect to Firefox: Failed to connect to , Connection refused at /var/tmp/CPAN-build/MozRepl-RemoteObject-0.36-g0DSjd/blib/lib/MozRepl/AnyEvent.pm line 187.
Too late to run CHECK block at /home/cpansand/var/ctps/5160RC0/install/perl-5.16.0-RC0/lib/site_perl/5.16.0/i386-freebsd/EV.pm line 123.
t/01-backend-anyevent.t ........ skipped: Couldn't connect to Firefox: Connection refused at /var/tmp/CPAN-build/MozRepl-RemoteObject-0.36-g0DSjd/blib/lib/MozRepl/AnyEvent.pm line 187.
t/01-callback-overhead.t ....... skipped: Couldn't connect to MozRepl: Failed to connect to , problem connecting to "localhost", port 4242: Connection refused at /home/cpansand/var/ctps/5160RC0/install/perl-5.16.0-RC0/lib/site_perl/5.16.0/MozRepl/Client.pm line 144
t/01-callback.t ................ skipped: Couldn't connect to MozRepl: Failed to connect to , problem connecting to "localhost", port 4242: Connection refused at /home/cpansand/var/ctps/5160RC0/install/perl-5.16.0-RC0/lib/site_perl/5.16.0/MozRepl/Client.pm line 144
t/01-constant.t ................ skipped: Couldn't connect to MozRepl: Failed to connect to , problem connecting to "localhost", port 4242: Connection refused at /home/cpansand/var/ctps/5160RC0/install/perl-5.16.0-RC0/lib/site_perl/5.16.0/MozRepl/Client.pm line 144
t/01-dive.t .................... skipped: Couldn't connect to MozRepl: Failed to connect to , problem connecting to "localhost", port 4242: Connection refused at /home/cpansand/var/ctps/5160RC0/install/perl-5.16.0-RC0/lib/site_perl/5.16.0/MozRepl/Client.pm line 144
Too late to run CHECK block at /home/cpansand/var/ctps/5160RC0/install/perl-5.16.0-RC0/lib/site_perl/5.16.0/i386-freebsd/EV.pm line 123.
t/01-expr-anyevent.t ........... skipped: Couldn't connect to Firefix: Connection refused at /var/tmp/CPAN-build/MozRepl-RemoteObject-0.36-g0DSjd/blib/lib/MozRepl/AnyEvent.pm line 187.
t/01-expr.t .................... skipped: Couldn't connect to MozRepl: Failed to connect to , problem connecting to "localhost", port 4242: Connection refused at /home/cpansand/var/ctps/5160RC0/install/perl-5.16.0-RC0/lib/site_perl/5.16.0/MozRepl/Client.pm line 144
t/01-hash.t .................... skipped: Couldn't connect to MozRepl: Failed to connect to , problem connecting to "localhost", port 4242: Connection refused at /home/cpansand/var/ctps/5160RC0/install/perl-5.16.0-RC0/lib/site_perl/5.16.0/MozRepl/Client.pm line 144
t/01-invoke.t .................. skipped: Couldn't connect to MozRepl: Failed to connect to , problem connecting to "localhost", port 4242: Connection refused at /home/cpansand/var/ctps/5160RC0/install/perl-5.16.0-RC0/lib/site_perl/5.16.0/MozRepl/Client.pm line 144
# --- Loading object functionality into repl
t/01-multiline-string.t ........ skipped: Couldn't connect to MozRepl: Failed to connect to , problem connecting to "localhost", port 4242: Connection refused at /home/cpansand/var/ctps/5160RC0/install/perl-5.16.0-RC0/lib/site_perl/5.16.0/MozRepl/Client.pm line 144
# --- Loading object functionality into repl
t/01-object.t .................. skipped: Couldn't connect to MozRepl: Failed to connect to , problem connecting to "localhost", port 4242: Connection refused at /home/cpansand/var/ctps/5160RC0/install/perl-5.16.0-RC0/lib/site_perl/5.16.0/MozRepl/Client.pm line 144
# --- Loading object functionality into repl
t/01-queue.t ................... skipped: Couldn't connect to MozRepl: Failed to connect to , problem connecting to "localhost", port 4242: Connection refused at /home/cpansand/var/ctps/5160RC0/install/perl-5.16.0-RC0/lib/site_perl/5.16.0/MozRepl/Client.pm line 144
t/01-release-action.t .......... skipped: Couldn't connect to MozRepl: Failed to connect to , problem connecting to "localhost", port 4242: Connection refused at /home/cpansand/var/ctps/5160RC0/install/perl-5.16.0-RC0/lib/site_perl/5.16.0/MozRepl/Client.pm line 144
t/02-multiple-instances.t ...... skipped: Couldn't connect to MozRepl: Failed to connect to , problem connecting to "localhost", port 4242: Connection refused at /home/cpansand/var/ctps/5160RC0/install/perl-5.16.0-RC0/lib/site_perl/5.16.0/MozRepl/Client.pm line 144
t/02-repl.t .................... skipped: Couldn't connect to MozRepl: Failed to connect to , problem connecting to "localhost", port 4242: Connection refused at /home/cpansand/var/ctps/5160RC0/install/perl-5.16.0-RC0/lib/site_perl/5.16.0/MozRepl/Client.pm line 144
t/02-synopsis.t ................ skipped: Couldn't connect to MozRepl: Failed to connect to , problem connecting to "localhost", port 4242: Connection refused at /home/cpansand/var/ctps/5160RC0/install/perl-5.16.0-RC0/lib/site_perl/5.16.0/MozRepl/Client.pm line 144
t/03-unicode.t ................. skipped: Couldn't connect to MozRepl: Failed to connect to , problem connecting to "localhost", port 4242: Connection refused at /home/cpansand/var/ctps/5160RC0/install/perl-5.16.0-RC0/lib/site_perl/5.16.0/MozRepl/Client.pm line 144
t/04-looong-input.t ............ skipped: Couldn't connect to MozRepl: Failed to connect to , problem connecting to "localhost", port 4242: Connection refused at /home/cpansand/var/ctps/5160RC0/install/perl-5.16.0-RC0/lib/site_perl/5.16.0/MozRepl/Client.pm line 144
t/05-callback-parameter.t ...... skipped: Couldn't connect to MozRepl: Failed to connect to , problem connecting to "localhost", port 4242: Connection refused at /home/cpansand/var/ctps/5160RC0/install/perl-5.16.0-RC0/lib/site_perl/5.16.0/MozRepl/Client.pm line 144
t/10-xul-hud.t ................. skipped: Couldn't connect to MozRepl: Failed to connect to , problem connecting to "localhost", port 4242: Connection refused at /home/cpansand/var/ctps/5160RC0/install/perl-5.16.0-RC0/lib/site_perl/5.16.0/MozRepl/Client.pm line 144
t/11-memleak-callback.t ........ skipped: Couldn't connect to MozRepl: Failed to connect to , problem connecting to "localhost", port 4242: Connection refused at /home/cpansand/var/ctps/5160RC0/install/perl-5.16.0-RC0/lib/site_perl/5.16.0/MozRepl/Client.pm line 144
t/11-memleak-constant.t ........ skipped: Couldn't connect to MozRepl: Failed to connect to , problem connecting to "localhost", port 4242: Connection refused at /home/cpansand/var/ctps/5160RC0/install/perl-5.16.0-RC0/lib/site_perl/5.16.0/MozRepl/Client.pm line 144
t/11-memleak-declare.t ......... skipped: Couldn't connect to MozRepl: Failed to connect to , problem connecting to "localhost", port 4242: Connection refused at /home/cpansand/var/ctps/5160RC0/install/perl-5.16.0-RC0/lib/site_perl/5.16.0/MozRepl/Client.pm line 144
t/11-memleak.t ................. skipped: Couldn't connect to MozRepl: Failed to connect to , problem connecting to "localhost", port 4242: Connection refused at /home/cpansand/var/ctps/5160RC0/install/perl-5.16.0-RC0/lib/site_perl/5.16.0/MozRepl/Client.pm line 144
# Checking for version 0.36
t/99-changes.t ................. ok
t/99-manifest.t ................ ok
t/99-pod.t ..................... ok
t/99-todo.t .................... ok
t/99-unix-text.t ............... ok
# Checking for $VERSION = '0.36';
t/99-versions.t ................ ok
All tests successful.
Files=34, Tests=31,  5 wallclock secs ( 0.09 usr  0.08 sys +  4.02 cusr  0.62 csys =  4.81 CPU)
Result: PASS

------------------------------
PREREQUISITES
------------------------------

Prerequisite modules loaded:

requires:

    Module              Need  Have    
    ------------------- ----- --------
    Encode              0     2.47    
    Exporter            0     5.66    
    File::Basename      0     2.84    
    IPC::Run            0     0.92    
    JSON                2     2.53    
    MozRepl             0.06  0.06    
    parent              0     0.225   
    perl                5.006 5.016000
    Scalar::Util        0     1.25    

build_requires:

    Module              Need  Have    
    ------------------- ----- --------
    Task::Weaken        0     1.04    

configure_requires:

    Module              Need  Have    
    ------------------- ----- --------
    ExtUtils::MakeMaker 0     6.64    


------------------------------
ENVIRONMENT AND OTHER CONTEXT
------------------------------

Environment variables:

    DBIC_NO_WARN_BAD_PERL = 1
    PATH = /usr/local/bin:/usr/X11R6/bin:/usr/X11/bin:/usr/perl5.8.0/bin:/usr/bin:/bin:/usr/local/sbin:/usr/sbin:/sbin:/usr/local/pilot/bin:/home/cpansand/bin/freebsd8.0:/home/cpansand/bin/sh:/home/cpansand/bin:/usr/X386/bin:/usr/games:/home/cpansand/devel:/usr/home/e/eserte/work/srezic-misc/scripts
    PERL5LIB = 
    PERL5OPT = 
    PERL5_CPANPLUS_IS_RUNNING = 18177
    PERL5_CPAN_IS_RUNNING = 18177
    PERL5_CPAN_IS_RUNNING_IN_RECURSION = 18156,18177
    PERL_BATCH = yes
    PERL_CPAN_REPORTER_CONFIG = /var/tmp/cpansmoker-1023/KS2PMbmCzP_config.ini
    PERL_CPAN_REPORTER_DIR = /home/cpansand/var/ctps/5160RC0/config/perl-5.16.0-RC0/cpanreporter
    PERL_EXTUTILS_AUTOINSTALL = --defaultdeps
    PERL_HTML_DISPLAY_CLASS = HTML::Display::Mozilla
    SHELL = /usr/local/bin/zsh
    TERM = screen
    TMPDIR = /var/tmp/cpansmoker-1023

Perl special variables (and OS-specific diagnostics, for MSWin32):

    $^X = /home2/cpansand/var/ctps/5160RC0/install/perl-5.16.0-RC0/bin/perl5.16.0
    $UID/$EUID = 1023 / 1023
    $GID = 1023 1023
    $EGID = 1023 1023

Perl module toolchain versions installed:

    Module              Have    
    ------------------- --------
    CPAN                1.9800  
    CPAN::Meta          2.130880
    Cwd                 3.40    
    ExtUtils::CBuilder  0.280206
    ExtUtils::Command   1.17    
    ExtUtils::Install   1.58    
    ExtUtils::MakeMaker 6.64    
    ExtUtils::Manifest  1.61    
    ExtUtils::ParseXS   3.16    
    File::Spec          3.40    
    JSON                2.53    
    JSON::PP            2.27200 
    Module::Build       0.4004  
    Module::Signature   0.70    
    Parse::CPAN::Meta   1.4404  
    Test::Harness       3.23    
    Test::More          0.98    
    YAML                0.84    
    YAML::Syck          1.22    
    version             0.9901  


--

Summary of my perl5 (revision 5 version 16 subversion 0) configuration:
   
  Platform:
    osname=freebsd, osvers=8.0-release-p4, archname=i386-freebsd
    uname='freebsd biokovo.herceg.de 8.0-release-p4 freebsd 8.0-release-p4 #0: mon jul 12 20:22:27 utc 2010 root@i386-builder.daemonology.net:usrobjusrsrcsysgeneric i386 '
    config_args='-ds -e -Uversiononly -Dinstallusrbinperl=n -Dusedevel -Dprefix=/home/cpansand/var/ctps/5160RC0/install/perl-5.16.0-RC0'
    hint=recommended, useposix=true, d_sigaction=define
    useithreads=undef, usemultiplicity=undef
    useperlio=define, d_sfio=undef, uselargefiles=define, usesocks=undef
    use64bitint=undef, use64bitall=undef, uselongdouble=undef
    usemymalloc=n, bincompat5005=undef
  Compiler:
    cc='cc', ccflags ='-DHAS_FPSETMASK -DHAS_FLOATINGPOINT_H -fno-strict-aliasing -pipe -fstack-protector -I/usr/local/include',
    optimize='-O',
    cppflags='-DHAS_FPSETMASK -DHAS_FLOATINGPOINT_H -fno-strict-aliasing -pipe -fstack-protector -I/usr/local/include'
    ccversion='', gccversion='4.2.1 20070719  [FreeBSD]', gccosandvers=''
    intsize=4, longsize=4, ptrsize=4, doublesize=8, byteorder=1234
    d_longlong=define, longlongsize=8, d_longdbl=define, longdblsize=12
    ivtype='long', ivsize=4, nvtype='double', nvsize=8, Off_t='off_t', lseeksize=8
    alignbytes=4, prototype=define
  Linker and Libraries:
    ld='cc', ldflags ='-Wl,-E  -fstack-protector -L/usr/local/lib'
    libpth=/usr/lib /usr/local/lib
    libs=-lgdbm -lm -lcrypt -lutil -lc
    perllibs=-lm -lcrypt -lutil -lc
    libc=, so=so, useshrplib=false, libperl=libperl.a
    gnulibc_version=''
  Dynamic Linking:
    dlsrc=dl_dlopen.xs, dlext=so, d_dlsymun=undef, ccdlflags=' '
    cccdlflags='-DPIC -fPIC', lddlflags='-shared  -L/usr/local/lib -fstack-protector'


Characteristics of this binary (from libperl): 
  Compile-time options: HAS_TIMES PERLIO_LAYERS PERL_DONT_CREATE_GVSV
                        PERL_MALLOC_WRAP PERL_PRESERVE_IVUV PERL_USE_DEVEL
                        USE_LARGE_FILES USE_LOCALE USE_LOCALE_COLLATE
                        USE_LOCALE_CTYPE USE_LOCALE_NUMERIC USE_PERLIO
                        USE_PERL_ATOF
  Locally applied patches:
	RC0
  Built under freebsd
  Compiled at May 11 2012 21:05:05
  %ENV:
    PERL5LIB=""
    PERL5OPT=""
    PERL5_CPANPLUS_IS_RUNNING="18177"
    PERL5_CPAN_IS_RUNNING="18177"
    PERL5_CPAN_IS_RUNNING_IN_RECURSION="18156,18177"
    PERL_BATCH="yes"
    PERL_CPAN_REPORTER_CONFIG="/var/tmp/cpansmoker-1023/KS2PMbmCzP_config.ini"
    PERL_CPAN_REPORTER_DIR="/home/cpansand/var/ctps/5160RC0/config/perl-5.16.0-RC0/cpanreporter"
    PERL_EXTUTILS_AUTOINSTALL="--defaultdeps"
    PERL_HTML_DISPLAY_CLASS="HTML::Display::Mozilla"
  @INC:
    /home/cpansand/var/ctps/5160RC0/install/perl-5.16.0-RC0/lib/site_perl/5.16.0/i386-freebsd
    /home/cpansand/var/ctps/5160RC0/install/perl-5.16.0-RC0/lib/site_perl/5.16.0
    /home/cpansand/var/ctps/5160RC0/install/perl-5.16.0-RC0/lib/5.16.0/i386-freebsd
    /home/cpansand/var/ctps/5160RC0/install/perl-5.16.0-RC0/lib/5.16.0
    .