Back
From: metabase:user:320bfe00-2aae-11df-837a-5e0a49663a4f
Subject: PASS Google-AJAX-Library-0.022 v5.23.8 GNU/Linux
Date: 2016-01-23T08:39:46Z
This distribution has been tested as part of the CPAN Testers
project, supporting the Perl programming language. See
http://wiki.cpantesters.org/ for more information or email
questions to cpan-testers-discuss@perl.org
--
Dear Robert Krimen,
This is a computer-generated report for Google-AJAX-Library-0.022
on perl 5.23.8, created by CPAN-Reporter-1.2015.
Thank you for uploading your work to CPAN. Congratulations!
All tests were successful.
Sections of this report:
* Tester comments
* Program output
* Prerequisites
* Environment and other context
------------------------------
TESTER COMMENTS
------------------------------
Additional comments from tester:
this report is from an automated smoke testing program
and was not reviewed by a human for accuracy
------------------------------
PROGRAM OUTPUT
------------------------------
Output from '/usr/bin/make test':
PERL_DL_NONLAZY=1 "/tmp/basesmoker-reloperl-mQk0/bin/perl" "-MExtUtils::Command::MM" "-MTest::Harness" "-e" "undef *Test::Harness::Switches; test_harness(0, 'blib/lib', 'blib/arch')" t/*.t
You are overwriting a locally defined function (file) with an accessor at /home/sand/src/perl/repoperls/installed-perls/perl/v5.23.7-12-g78e3ac8/8942/lib/site_perl/5.23.8/x86_64-linux-ld/Moose/Meta/Attribute.pm line 1048.
Moose::Meta::Attribute::_process_accessors(Moose::Meta::Attribute=HASH(0x275c868), "reader", "file", undef) called at /home/sand/src/perl/repoperls/installed-perls/perl/v5.23.7-12-g78e3ac8/8942/lib/site_perl/5.23.8/x86_64-linux-ld/Class/MOP/Attribute.pm line 450
Class::MOP::Attribute::install_accessors(Moose::Meta::Attribute=HASH(0x275c868)) called at /home/sand/src/perl/repoperls/installed-perls/perl/v5.23.7-12-g78e3ac8/8942/lib/site_perl/5.23.8/x86_64-linux-ld/Moose/Meta/Attribute.pm line 995
Moose::Meta::Attribute::install_accessors(Moose::Meta::Attribute=HASH(0x275c868)) called at /home/sand/src/perl/repoperls/installed-perls/perl/v5.23.7-12-g78e3ac8/8942/lib/site_perl/5.23.8/x86_64-linux-ld/Class/MOP/Class.pm line 899
Class::MOP::Class::try {...} () called at /home/sand/src/perl/repoperls/installed-perls/perl/v5.23.7-12-g78e3ac8/8942/lib/site_perl/5.23.8/Try/Tiny.pm line 92
eval {...} called at /home/sand/src/perl/repoperls/installed-perls/perl/v5.23.7-12-g78e3ac8/8942/lib/site_perl/5.23.8/Try/Tiny.pm line 83
Try::Tiny::try(CODE(0x1a1c548), Try::Tiny::Catch=REF(0x1a1c638)) called at /home/sand/src/perl/repoperls/installed-perls/perl/v5.23.7-12-g78e3ac8/8942/lib/site_perl/5.23.8/x86_64-linux-ld/Class/MOP/Class.pm line 904
Class::MOP::Class::_post_add_attribute(Moose::Meta::Class=HASH(0x2731218), Moose::Meta::Attribute=HASH(0x275c868)) called at /home/sand/src/perl/repoperls/installed-perls/perl/v5.23.7-12-g78e3ac8/8942/lib/site_perl/5.23.8/x86_64-linux-ld/Class/MOP/Mixin/HasAttributes.pm line 39
Class::MOP::Mixin::HasAttributes::add_attribute(Moose::Meta::Class=HASH(0x2731218), Moose::Meta::Attribute=HASH(0x275c868)) called at /home/sand/src/perl/repoperls/installed-perls/perl/v5.23.7-12-g78e3ac8/8942/lib/site_perl/5.23.8/x86_64-linux-ld/Moose/Meta/Class.pm line 573
Moose::Meta::Class::add_attribute(Moose::Meta::Class=HASH(0x2731218), "file", "definition_context", HASH(0x2f31378), "is", "ro") called at /home/sand/src/perl/repoperls/installed-perls/perl/v5.23.7-12-g78e3ac8/8942/lib/site_perl/5.23.8/x86_64-linux-ld/Moose.pm line 76
Moose::has(Moose::Meta::Class=HASH(0x2731218), "file", "is", "ro") called at /home/sand/src/perl/repoperls/installed-perls/perl/v5.23.7-12-g78e3ac8/8942/lib/site_perl/5.23.8/x86_64-linux-ld/Moose/Exporter.pm line 419
Moose::has("file", "is", "ro") called at /tmp/loop_over_bdir-24150-t4Esqz/Google-AJAX-Library-0.022-nhjf6g/blib/lib/Google/AJAX/Library.pm line 32
require Google/AJAX/Library.pm called at t/01-basic.t line 5
main::BEGIN() called at /tmp/loop_over_bdir-24150-t4Esqz/Google-AJAX-Library-0.022-nhjf6g/blib/lib/Google/AJAX/Library.pm line 0
eval {...} called at /tmp/loop_over_bdir-24150-t4Esqz/Google-AJAX-Library-0.022-nhjf6g/blib/lib/Google/AJAX/Library.pm line 0
t/01-basic.t .... ok
You are overwriting a locally defined function (file) with an accessor at /home/sand/src/perl/repoperls/installed-perls/perl/v5.23.7-12-g78e3ac8/8942/lib/site_perl/5.23.8/x86_64-linux-ld/Moose/Meta/Attribute.pm line 1048.
Moose::Meta::Attribute::_process_accessors(Moose::Meta::Attribute=HASH(0x2b19988), "reader", "file", undef) called at /home/sand/src/perl/repoperls/installed-perls/perl/v5.23.7-12-g78e3ac8/8942/lib/site_perl/5.23.8/x86_64-linux-ld/Class/MOP/Attribute.pm line 450
Class::MOP::Attribute::install_accessors(Moose::Meta::Attribute=HASH(0x2b19988)) called at /home/sand/src/perl/repoperls/installed-perls/perl/v5.23.7-12-g78e3ac8/8942/lib/site_perl/5.23.8/x86_64-linux-ld/Moose/Meta/Attribute.pm line 995
Moose::Meta::Attribute::install_accessors(Moose::Meta::Attribute=HASH(0x2b19988)) called at /home/sand/src/perl/repoperls/installed-perls/perl/v5.23.7-12-g78e3ac8/8942/lib/site_perl/5.23.8/x86_64-linux-ld/Class/MOP/Class.pm line 899
Class::MOP::Class::try {...} () called at /home/sand/src/perl/repoperls/installed-perls/perl/v5.23.7-12-g78e3ac8/8942/lib/site_perl/5.23.8/Try/Tiny.pm line 92
eval {...} called at /home/sand/src/perl/repoperls/installed-perls/perl/v5.23.7-12-g78e3ac8/8942/lib/site_perl/5.23.8/Try/Tiny.pm line 83
Try::Tiny::try(CODE(0x15da828), Try::Tiny::Catch=REF(0x15da948)) called at /home/sand/src/perl/repoperls/installed-perls/perl/v5.23.7-12-g78e3ac8/8942/lib/site_perl/5.23.8/x86_64-linux-ld/Class/MOP/Class.pm line 904
Class::MOP::Class::_post_add_attribute(Moose::Meta::Class=HASH(0x22ef748), Moose::Meta::Attribute=HASH(0x2b19988)) called at /home/sand/src/perl/repoperls/installed-perls/perl/v5.23.7-12-g78e3ac8/8942/lib/site_perl/5.23.8/x86_64-linux-ld/Class/MOP/Mixin/HasAttributes.pm line 39
Class::MOP::Mixin::HasAttributes::add_attribute(Moose::Meta::Class=HASH(0x22ef748), Moose::Meta::Attribute=HASH(0x2b19988)) called at /home/sand/src/perl/repoperls/installed-perls/perl/v5.23.7-12-g78e3ac8/8942/lib/site_perl/5.23.8/x86_64-linux-ld/Moose/Meta/Class.pm line 573
Moose::Meta::Class::add_attribute(Moose::Meta::Class=HASH(0x22ef748), "file", "definition_context", HASH(0x2aef6f8), "is", "ro") called at /home/sand/src/perl/repoperls/installed-perls/perl/v5.23.7-12-g78e3ac8/8942/lib/site_perl/5.23.8/x86_64-linux-ld/Moose.pm line 76
Moose::has(Moose::Meta::Class=HASH(0x22ef748), "file", "is", "ro") called at /home/sand/src/perl/repoperls/installed-perls/perl/v5.23.7-12-g78e3ac8/8942/lib/site_perl/5.23.8/x86_64-linux-ld/Moose/Exporter.pm line 419
Moose::has("file", "is", "ro") called at /tmp/loop_over_bdir-24150-t4Esqz/Google-AJAX-Library-0.022-nhjf6g/blib/lib/Google/AJAX/Library.pm line 32
require Google/AJAX/Library.pm called at t/02-library.t line 5
main::BEGIN() called at /tmp/loop_over_bdir-24150-t4Esqz/Google-AJAX-Library-0.022-nhjf6g/blib/lib/Google/AJAX/Library.pm line 0
eval {...} called at /tmp/loop_over_bdir-24150-t4Esqz/Google-AJAX-Library-0.022-nhjf6g/blib/lib/Google/AJAX/Library.pm line 0
t/02-library.t .. ok
You are overwriting a locally defined function (file) with an accessor at /home/sand/src/perl/repoperls/installed-perls/perl/v5.23.7-12-g78e3ac8/8942/lib/site_perl/5.23.8/x86_64-linux-ld/Moose/Meta/Attribute.pm line 1048.
Moose::Meta::Attribute::_process_accessors(Moose::Meta::Attribute=HASH(0x1fbfae8), "reader", "file", undef) called at /home/sand/src/perl/repoperls/installed-perls/perl/v5.23.7-12-g78e3ac8/8942/lib/site_perl/5.23.8/x86_64-linux-ld/Class/MOP/Attribute.pm line 450
Class::MOP::Attribute::install_accessors(Moose::Meta::Attribute=HASH(0x1fbfae8)) called at /home/sand/src/perl/repoperls/installed-perls/perl/v5.23.7-12-g78e3ac8/8942/lib/site_perl/5.23.8/x86_64-linux-ld/Moose/Meta/Attribute.pm line 995
Moose::Meta::Attribute::install_accessors(Moose::Meta::Attribute=HASH(0x1fbfae8)) called at /home/sand/src/perl/repoperls/installed-perls/perl/v5.23.7-12-g78e3ac8/8942/lib/site_perl/5.23.8/x86_64-linux-ld/Class/MOP/Class.pm line 899
Class::MOP::Class::try {...} () called at /home/sand/src/perl/repoperls/installed-perls/perl/v5.23.7-12-g78e3ac8/8942/lib/site_perl/5.23.8/Try/Tiny.pm line 92
eval {...} called at /home/sand/src/perl/repoperls/installed-perls/perl/v5.23.7-12-g78e3ac8/8942/lib/site_perl/5.23.8/Try/Tiny.pm line 83
Try::Tiny::try(CODE(0x1fbf368), Try::Tiny::Catch=REF(0x1fbf3f8)) called at /home/sand/src/perl/repoperls/installed-perls/perl/v5.23.7-12-g78e3ac8/8942/lib/site_perl/5.23.8/x86_64-linux-ld/Class/MOP/Class.pm line 904
Class::MOP::Class::_post_add_attribute(Moose::Meta::Class=HASH(0x2cd4198), Moose::Meta::Attribute=HASH(0x1fbfae8)) called at /home/sand/src/perl/repoperls/installed-perls/perl/v5.23.7-12-g78e3ac8/8942/lib/site_perl/5.23.8/x86_64-linux-ld/Class/MOP/Mixin/HasAttributes.pm line 39
Class::MOP::Mixin::HasAttributes::add_attribute(Moose::Meta::Class=HASH(0x2cd4198), Moose::Meta::Attribute=HASH(0x1fbfae8)) called at /home/sand/src/perl/repoperls/installed-perls/perl/v5.23.7-12-g78e3ac8/8942/lib/site_perl/5.23.8/x86_64-linux-ld/Moose/Meta/Class.pm line 573
Moose::Meta::Class::add_attribute(Moose::Meta::Class=HASH(0x2cd4198), "file", "definition_context", HASH(0x34d4768), "is", "ro") called at /home/sand/src/perl/repoperls/installed-perls/perl/v5.23.7-12-g78e3ac8/8942/lib/site_perl/5.23.8/x86_64-linux-ld/Moose.pm line 76
Moose::has(Moose::Meta::Class=HASH(0x2cd4198), "file", "is", "ro") called at /home/sand/src/perl/repoperls/installed-perls/perl/v5.23.7-12-g78e3ac8/8942/lib/site_perl/5.23.8/x86_64-linux-ld/Moose/Exporter.pm line 419
Moose::has("file", "is", "ro") called at /tmp/loop_over_bdir-24150-t4Esqz/Google-AJAX-Library-0.022-nhjf6g/blib/lib/Google/AJAX/Library.pm line 32
require Google/AJAX/Library.pm called at t/03-fetch.t line 5
main::BEGIN() called at /tmp/loop_over_bdir-24150-t4Esqz/Google-AJAX-Library-0.022-nhjf6g/blib/lib/Google/AJAX/Library.pm line 0
eval {...} called at /tmp/loop_over_bdir-24150-t4Esqz/Google-AJAX-Library-0.022-nhjf6g/blib/lib/Google/AJAX/Library.pm line 0
t/03-fetch.t .... skipped: Not going out to http://ajax.googleapis.com to test fetching/writing
All tests successful.
Files=3, Tests=61, 1 wallclock secs ( 0.04 usr 0.02 sys + 1.05 cusr 0.15 csys = 1.26 CPU)
Result: PASS
------------------------------
PREREQUISITES
------------------------------
Prerequisite modules loaded:
requires:
Module Need Have
------------------- ---- ------
Carp::Clan::Share 0 0.013
HTML::Declare 0 2.4
LWP::UserAgent 0 6.15
Moose 0 2.1604
Path::Class 0 0.35
URI 0 1.71
build_requires:
Module Need Have
------------------- ---- ------
File::Temp 0 0.2304
Test::Most 0 0.34
configure_requires:
Module Need Have
------------------- ---- ------
ExtUtils::MakeMaker 6.31 7.10
------------------------------
ENVIRONMENT AND OTHER CONTEXT
------------------------------
Environment variables:
AUTOMATED_TESTING = 1
LANG = en_US.UTF-8
LANGUAGE = en_US:en
PATH = /home/sand/bin:/usr/local/bin:/usr/bin:/bin:/usr/games:/usr/local/perl/bin:/usr/X11/bin:/sbin:/usr/sbin
PERL5LIB = /tmp/loop_over_bdir-24150-t4Esqz/FusionInventory-Agent-2.3.17-3S5oqb/blib/arch:/tmp/loop_over_bdir-24150-t4Esqz/FusionInventory-Agent-2.3.17-3S5oqb/blib/lib
PERL5OPT =
PERL5_CPANPLUS_IS_RUNNING = 25215
PERL5_CPAN_IS_RUNNING = 25215
PERL_MM_USE_DEFAULT = 1
SHELL = /usr/bin/zsh
TERM = screen
Perl special variables (and OS-specific diagnostics, for MSWin32):
$^X = /tmp/basesmoker-reloperl-mQk0/bin/perl
$UID/$EUID = 1005 / 1005
$GID = 1005 1005
$EGID = 1005 1005
Perl module toolchain versions installed:
Module Have
------------------- --------
CPAN 2.10
CPAN::Meta 2.150005
Cwd 3.62
ExtUtils::CBuilder 0.280224
ExtUtils::Command 7.10
ExtUtils::Install 2.04
ExtUtils::MakeMaker 7.10
ExtUtils::Manifest 1.70
ExtUtils::ParseXS 3.31
File::Spec 3.62
JSON 2.90
JSON::PP 2.27300
Module::Build 0.4216
Module::Signature 0.79
Parse::CPAN::Meta 1.4417
Test::Harness 3.36
Test::More 1.001014
YAML 1.15
YAML::Syck 1.29
version 0.9909
--
Summary of my perl5 (revision 5 version 23 subversion 8) configuration:
Derived from: 78e3ac85aa4b4e666e115b0d8e3d9ea9f512fbd4
Platform:
osname=linux, osvers=4.3.0-1-amd64, archname=x86_64-linux-ld
uname='linux k83 4.3.0-1-amd64 #1 smp debian 4.3.3-2 (2015-12-17) x86_64 gnulinux '
config_args='-Dprefix=/home/sand/src/perl/repoperls/installed-perls/perl/v5.23.7-12-g78e3ac8/8942 -Dmyhostname=k83 -Dinstallusrbinperl=n -Uversiononly -Dusedevel -des -Ui_db -Dlibswanted=cl pthread socket inet nsl gdbm dbm malloc dl ld sun m crypt sec util c cposix posix ucb BSD gdbm_compat -Uuseithreads -Duselongdouble -DDEBUGGING=-g'
hint=recommended, useposix=true, d_sigaction=define
useithreads=undef, usemultiplicity=undef
use64bitint=define, use64bitall=define, uselongdouble=define
usemymalloc=n, bincompat5005=undef
Compiler:
cc='cc', ccflags ='-fwrapv -fno-strict-aliasing -pipe -fstack-protector-strong -I/usr/local/include -D_LARGEFILE_SOURCE -D_FILE_OFFSET_BITS=64 -D_FORTIFY_SOURCE=2',
optimize='-O2 -g',
cppflags='-fwrapv -fno-strict-aliasing -pipe -fstack-protector-strong -I/usr/local/include'
ccversion='', gccversion='5.3.1 20160101', gccosandvers=''
intsize=4, longsize=8, ptrsize=8, doublesize=8, byteorder=12345678, doublekind=3
d_longlong=define, longlongsize=8, d_longdbl=define, longdblsize=16, longdblkind=3
ivtype='long', ivsize=8, nvtype='long double', nvsize=16, Off_t='off_t', lseeksize=8
alignbytes=16, prototype=define
Linker and Libraries:
ld='cc', ldflags =' -fstack-protector-strong -L/usr/local/lib'
libpth=/usr/local/lib /usr/lib/gcc/x86_64-linux-gnu/5/include-fixed /usr/include/x86_64-linux-gnu /usr/lib /lib/x86_64-linux-gnu /lib/../lib /usr/lib/x86_64-linux-gnu /usr/lib/../lib /lib
libs=-lpthread -lnsl -lgdbm -ldl -lm -lcrypt -lutil -lc -lgdbm_compat
perllibs=-lpthread -lnsl -ldl -lm -lcrypt -lutil -lc
libc=libc-2.21.so, so=so, useshrplib=false, libperl=libperl.a
gnulibc_version='2.21'
Dynamic Linking:
dlsrc=dl_dlopen.xs, dlext=so, d_dlsymun=undef, ccdlflags='-Wl,-E'
cccdlflags='-fPIC', lddlflags='-shared -O2 -g -L/usr/local/lib -fstack-protector-strong'
Characteristics of this binary (from libperl):
Compile-time options: HAS_TIMES PERLIO_LAYERS PERL_COPY_ON_WRITE
PERL_DONT_CREATE_GVSV
PERL_HASH_FUNC_ONE_AT_A_TIME_HARD PERL_MALLOC_WRAP
PERL_PRESERVE_IVUV PERL_USE_DEVEL USE_64_BIT_ALL
USE_64_BIT_INT USE_LARGE_FILES USE_LOCALE
USE_LOCALE_COLLATE USE_LOCALE_CTYPE
USE_LOCALE_NUMERIC USE_LOCALE_TIME USE_LONG_DOUBLE
USE_PERLIO USE_PERL_ATOF
Locally applied patches:
uncommitted-changes
Devel::PatchPerl 1.38
Built under linux
Compiled at Jan 21 2016 19:21:40
%ENV:
PERL5LIB="/tmp/loop_over_bdir-24150-t4Esqz/FusionInventory-Agent-2.3.17-3S5oqb/blib/arch:/tmp/loop_over_bdir-24150-t4Esqz/FusionInventory-Agent-2.3.17-3S5oqb/blib/lib"
PERL5OPT=""
PERL5_CPANPLUS_IS_RUNNING="25215"
PERL5_CPAN_IS_RUNNING="25215"
PERL_MM_USE_DEFAULT="1"
@INC:
/tmp/loop_over_bdir-24150-t4Esqz/FusionInventory-Agent-2.3.17-3S5oqb/blib/arch
/tmp/loop_over_bdir-24150-t4Esqz/FusionInventory-Agent-2.3.17-3S5oqb/blib/lib
/home/sand/src/perl/repoperls/installed-perls/perl/v5.23.7-12-g78e3ac8/8942/lib/site_perl/5.23.8/x86_64-linux-ld
/home/sand/src/perl/repoperls/installed-perls/perl/v5.23.7-12-g78e3ac8/8942/lib/site_perl/5.23.8
/home/sand/src/perl/repoperls/installed-perls/perl/v5.23.7-12-g78e3ac8/8942/lib/5.23.8/x86_64-linux-ld
/home/sand/src/perl/repoperls/installed-perls/perl/v5.23.7-12-g78e3ac8/8942/lib/5.23.8
.