Report for Test-ConsistentVersion-v0.2.2

Back
From: metabase:user:31e80ebe-2aae-11df-837a-5e0a49663a4f
Subject: PASS Test-ConsistentVersion-v0.2.2 v5.12.1 Mac OS X
Date: 2010-10-19T08:57:09Z

This distribution has been tested as part of the CPAN Testers
project, supporting the Perl programming language.  See
http://wiki.cpantesters.org/ for more information or email
questions to cpan-testers-discuss@perl.org


--
Dear Glenn Fowler,

This is a computer-generated report for Test-ConsistentVersion-v0.2.2
on perl 5.12.1, created by CPAN-Reporter-1.1803.

Thank you for uploading your work to CPAN.  Congratulations!
All tests were successful.

Sections of this report:

    * Tester comments
    * Program output
    * Prerequisites
    * Environment and other context

------------------------------
TESTER COMMENTS
------------------------------

Additional comments from tester:

none provided

------------------------------
PROGRAM OUTPUT
------------------------------

Output from './Build test':

# Testing Test::ConsistentVersion 0.2.2
t/00.load.t ....... ok
t/01.good.t ....... ok
t/02.bad.t ........ ok
t/perlcritic.t .... skipped: Author test. Set $ENV{TEST_AUTHOR} to a true value to run.
t/pod-coverage.t .. skipped: Author test. Set $ENV{TEST_AUTHOR} to a true value to run.
t/pod.t ........... skipped: Author test. Set $ENV{TEST_AUTHOR} to a true value to run.
t/version.t ....... skipped: Author test. Set $ENV{TEST_AUTHOR} to a true value to run.
All tests successful.
Files=7, Tests=5,  0 wallclock secs ( 0.03 usr  0.02 sys +  0.23 cusr  0.05 csys =  0.33 CPU)
Result: PASS

------------------------------
PREREQUISITES
------------------------------

Prerequisite modules loaded:

requires:

    Module        Need Have  
    ------------- ---- ------
    autodie       0    2.10  
    Test::Builder 0.94 0.96  
    version       0    0.83  

configure_requires:

    Module        Need Have  
    ------------- ---- ------
    Module::Build 0.35 0.3607


------------------------------
ENVIRONMENT AND OTHER CONTEXT
------------------------------

Environment variables:

    LANG = en_AU.UTF-8
    PATH = /opt/local/bin:/opt/local/sbin:/opt/subversion/bin:/usr/bin:/bin:/usr/sbin:/sbin:/usr/local/bin:/usr/X11/bin
    PERL5LIB = 
    PERL5OPT = 
    PERL5_CPANPLUS_IS_RUNNING = 7697
    PERL5_CPAN_IS_RUNNING = 7697
    SHELL = /bin/bash
    TERM = xterm-color
    TMPDIR = /var/folders/sQ/sQjq3O3DE4e14bXnxjp90E+++TI/-Tmp-/

Perl special variables (and OS-specific diagnostics, for MSWin32):

    $^X = /opt/local/bin/perl
    $UID/$EUID = 501 / 501
    $GID = 20 20 401 204 100 98 81 80 79 61 12 402
    $EGID = 20 20 401 204 100 98 81 80 79 61 12 402

Perl module toolchain versions installed:

    Module              Have   
    ------------------- -------
    CPAN                1.94_56
    Cwd                 3.33   
    ExtUtils::CBuilder  0.2703 
    ExtUtils::Command   1.16   
    ExtUtils::Install   1.55   
    ExtUtils::MakeMaker 6.56   
    ExtUtils::Manifest  1.58   
    ExtUtils::ParseXS   2.2205 
    File::Spec          3.33   
    Module::Build       0.3607 
    Module::Signature   n/a    
    Test::Harness       3.22   
    Test::More          0.96   
    YAML                0.72   
    YAML::Syck          n/a    
    version             0.83   


--

Summary of my perl5 (revision 5 version 12 subversion 1) configuration:
   
  Platform:
    osname=darwin, osvers=10.4.0, archname=darwin-multi-2level
    uname='darwin mediacentre.local.internetrix.com.au 10.4.0 darwin kernel version 10.4.0: fri apr 23 18:28:53 pdt 2010; root:xnu-1504.7.4~1release_i386 i386 '
    config_args='-des -Dprefix=/opt/local -Dscriptdir=/opt/local/bin -Dcppflags=-I/opt/local/include -Dccflags=-pipe -O2 -arch x86_64 -Dldflags=-L/opt/local/lib -arch x86_64 -Dvendorprefix=/opt/local -Dusemultiplicity=y -D cc=/usr/bin/gcc-4.2 -D ld=/usr/bin/gcc-4.2 -D man1ext=1pm -D man3ext=3pm -D man1dir=/opt/local/share/man/man1p -D man3dir=/opt/local/share/man/man3p -D siteman1dir=/opt/local/share/man/man1 -D siteman3dir=/opt/local/share/man/man3 -D vendorman1dir=/opt/local/share/man/man1 -D vendorman3dir=/opt/local/share/man/man3 -D pager=/usr/bin/less -sR'
    hint=recommended, useposix=true, d_sigaction=define
    useithreads=undef, usemultiplicity=define
    useperlio=define, d_sfio=undef, uselargefiles=define, usesocks=undef
    use64bitint=define, use64bitall=define, uselongdouble=undef
    usemymalloc=n, bincompat5005=undef
  Compiler:
    cc='/usr/bin/gcc-4.2', ccflags ='-pipe -O2 -arch x86_64 -fno-common -DPERL_DARWIN -I/opt/local/include -no-cpp-precomp -fno-strict-aliasing -fstack-protector -I/opt/local/include',
    optimize='-O3',
    cppflags='-I/opt/local/include -no-cpp-precomp -pipe -O2 -arch x86_64 -fno-common -DPERL_DARWIN -I/opt/local/include -no-cpp-precomp -fno-strict-aliasing -fstack-protector -I/opt/local/include'
    ccversion='', gccversion='4.2.1 (Apple Inc. build 5646)', gccosandvers=''
    intsize=4, longsize=8, ptrsize=8, doublesize=8, byteorder=12345678
    d_longlong=define, longlongsize=8, d_longdbl=define, longdblsize=16
    ivtype='long', ivsize=8, nvtype='double', nvsize=8, Off_t='off_t', lseeksize=8
    alignbytes=8, prototype=define
  Linker and Libraries:
    ld='env MACOSX_DEPLOYMENT_TARGET=10.6 /usr/bin/gcc-4.2', ldflags ='-L/opt/local/lib -arch x86_64 -fstack-protector'
    libpth=/opt/local/lib /usr/lib
    libs=-ldbm -ldl -lm -lutil -lc
    perllibs=-ldl -lm -lutil -lc
    libc=/usr/lib/libc.dylib, so=dylib, useshrplib=false, libperl=libperl.a
    gnulibc_version=''
  Dynamic Linking:
    dlsrc=dl_dlopen.xs, dlext=bundle, d_dlsymun=undef, ccdlflags=' '
    cccdlflags=' ', lddlflags='-L/opt/local/lib -arch x86_64 -bundle -undefined dynamic_lookup -fstack-protector'


Characteristics of this binary (from libperl): 
  Compile-time options: MULTIPLICITY PERL_DONT_CREATE_GVSV
                        PERL_IMPLICIT_CONTEXT PERL_MALLOC_WRAP USE_64_BIT_ALL
                        USE_64_BIT_INT USE_LARGE_FILES USE_PERLIO
                        USE_PERL_ATOF
  Built under darwin
  Compiled at Sep  7 2010 18:52:06
  %ENV:
    PERL5LIB=""
    PERL5OPT=""
    PERL5_CPANPLUS_IS_RUNNING="7697"
    PERL5_CPAN_IS_RUNNING="7697"
  @INC:
    /opt/local/lib/perl5/site_perl/5.12.1/darwin-multi-2level
    /opt/local/lib/perl5/site_perl/5.12.1
    /opt/local/lib/perl5/vendor_perl/5.12.1/darwin-multi-2level
    /opt/local/lib/perl5/vendor_perl/5.12.1
    /opt/local/lib/perl5/5.12.1/darwin-multi-2level
    /opt/local/lib/perl5/5.12.1
    .