SemanticWeb-Schema vv23.0.0 Perl 5 v5.22.2 x86_64-linux
- Status
- Pass
- From
- Slaven Rezić
- Dist
-
SemanticWeb-Schema vv23.0.0
- Platform
- Perl 5 v5.22.2 x86_64-linux
- Date
- 2023-10-27 17:40:02
- ID
- db68ac06-74ef-11ee-861c-fffa6d8775ea
This distribution has been tested as part of the CPAN Testers
project, supporting the Perl programming language. See
http://wiki.cpantesters.org/ for more information or email
questions to cpan-testers-discuss@perl.org
--
Dear Robert Rothenberg,
This is a computer-generated report for SemanticWeb-Schema-v23.0.0
on perl 5.22.2, created by CPAN-Reporter-1.2018.
Thank you for uploading your work to CPAN. Congratulations!
All tests were successful.
Sections of this report:
* Tester comments
* Program output
* Prerequisites
* Environment and other context
------------------------------
TESTER COMMENTS
------------------------------
Additional comments from tester:
none provided
------------------------------
PROGRAM OUTPUT
------------------------------
Output from '/usr/bin/make test':
PERL_DL_NONLAZY=1 "/opt/perl-5.22.2/bin/perl" "-MExtUtils::Command::MM" "-MTest::Harness" "-e" "undef *Test::Harness::Switches; test_harness(0, 'blib/lib', 'blib/arch')" t/*.t
#
# Versions for all modules listed in MYMETA.json (including optional ones):
#
# === Configure Requires ===
#
# Module Want Have
# ------------------- ---- ----
# ExtUtils::MakeMaker any 7.24
#
# === Build Requires ===
#
# Module Want Have
# ------------------- ---- ----
# ExtUtils::MakeMaker any 7.24
#
# === Test Requires ===
#
# Module Want Have
# ---------------- ---- --------
# File::Spec any 3.62
# Module::Metadata any 1.000033
# Test::JSON::More any 0.02
# Test::More any 1.302052
# Test::Most any 0.34
# aliased any 0.34
# strict any 1.09
# warnings any 1.34
#
# === Test Recommends ===
#
# Module Want Have
# ---------- -------- --------
# CPAN::Meta 2.120900 2.150010
#
# === Runtime Requires ===
#
# Module Want Have
# -------------------- ------- --------
# List::Util 1.33 1.45
# Moo any 2.002004
# MooX::JSON_LD any 1.0.1
# MooX::Role::JSON_LD v0.0.16 1.0.1
# Ref::Util any 0.101
# Types::Standard any 1.000005
# namespace::autoclean any 0.28
# utf8 any 1.17
#
# === Runtime Recommends ===
#
# Module Want Have
# ----------------- ---- -------
# Class::XSAccessor 1.18 1.19
# Ref::Util::XS any missing
# Type::Tiny::XS any 0.012
# aliased any 0.34
#
t/00-report-prereqs.t ......... ok
t/01-simple.t ................. ok
t/02-conflicting-attribute.t .. ok
t/03-c3-merge.t ............... ok
t/author-clean-namespaces.t ... skipped: these tests are for testing by the author
t/author-compile.t ............ skipped: these tests are for testing by the author
t/author-eof.t ................ skipped: these tests are for testing by the author
t/author-minimum-version.t .... skipped: these tests are for testing by the author
t/author-pod-syntax.t ......... skipped: these tests are for testing by the author
t/author-portability.t ........ skipped: these tests are for testing by the author
t/release-check-manifest.t .... skipped: these tests are for release candidate testing
t/release-fixme.t ............. skipped: these tests are for release candidate testing
All tests successful.
Files=12, Tests=10, 0 wallclock secs ( 0.02 usr 0.00 sys + 0.42 cusr 0.04 csys = 0.48 CPU)
Result: PASS
------------------------------
PREREQUISITES
------------------------------
Prerequisite modules loaded:
requires:
Module Need Have
-------------------- -------- --------
List::Util 1.33 1.45
Moo 0 2.002004
MooX::JSON_LD 0 1.0.1
MooX::Role::JSON_LD v0.0.16 1.0.1
namespace::autoclean 0 0.28
perl 5.014000 5.022002
Ref::Util 0 0.101
Types::Standard 0 1.000005
utf8 0 1.17
build_requires:
Module Need Have
-------------------- -------- --------
aliased 0 0.34
ExtUtils::MakeMaker 0 7.24
File::Spec 0 3.62
Module::Metadata 0 1.000033
strict 0 1.09
Test::JSON::More 0 0.02
Test::More 0 1.302052
Test::Most 0 0.34
warnings 0 1.34
configure_requires:
Module Need Have
-------------------- -------- --------
ExtUtils::MakeMaker 0 7.24
------------------------------
ENVIRONMENT AND OTHER CONTEXT
------------------------------
Environment variables:
LANG = en_US.UTF-8
LANGUAGE = en_US:en
LC_ALL = en_US.UTF-8
PATH = /usr/local/bin:/usr/bin:/bin:/usr/local/sbin:/usr/sbin:/sbin:/home/cpansand/bin/linux-gnu:/home/cpansand/bin/sh:/home/cpansand/bin:/usr/games:/home/cpansand/devel:/home/eserte/src/srezic-misc/scripts
PERL5LIB = /home/cpansand/.cpan/build/2023102714/Test-JSON-More-0.02-1/blib/arch:/home/cpansand/.cpan/build/2023102714/Test-JSON-More-0.02-1/blib/lib:/home/cpansand/.cpan/build/2023102714/JSV-0.08-1/blib/arch:/home/cpansand/.cpan/build/2023102714/JSV-0.08-1/blib/lib:/home/cpansand/.cpan/build/2023102714/Email-Valid-Loose-0.05-1/blib/arch:/home/cpansand/.cpan/build/2023102714/Email-Valid-Loose-0.05-1/blib/lib:/home/cpansand/.cpan/build/2023102714/Data-Validate-URI-0.07-0/blib/arch:/home/cpansand/.cpan/build/2023102714/Data-Validate-URI-0.07-0/blib/lib:/home/cpansand/.cpan/build/2023102714/MooX-Role-JSON_LD-1.0.1-1/blib/arch:/home/cpansand/.cpan/build/2023102714/MooX-Role-JSON_LD-1.0.1-1/blib/lib
PERL5OPT =
PERL5_CPANPLUS_IS_RUNNING = 32040
PERL5_CPAN_IS_RUNNING = 32040
PERL5_CPAN_IS_RUNNING_IN_RECURSION = 31259,32040
PERLDOC = -MPod::Perldoc::ToTextOverstrike
PERL_BATCH = yes
PERL_CANARY_STABILITY_NOPROMPT = 1
PERL_CPAN_REPORTER_CONFIG = /var/tmp/cpansmoker-1023/2023102714/cpanreporter_000_config.ini
PERL_EXTUTILS_AUTOINSTALL = --defaultdeps
PERL_USE_UNSAFE_INC = 1
SHELL = /bin/zsh
TERM = screen
TMPDIR = /var/tmp/cpansmoker-1023/2023102714
Perl special variables (and OS-specific diagnostics, for MSWin32):
$^X = /opt/perl-5.22.2/bin/perl
$UID/$EUID = 1023 / 1023
$GID = 1023 1023
$EGID = 1023 1023
Perl module toolchain versions installed:
Module Have
------------------- --------
CPAN 2.16
CPAN::Meta 2.150010
Cwd 3.62
ExtUtils::CBuilder 0.280221
ExtUtils::Command 7.24
ExtUtils::Install 2.04
ExtUtils::MakeMaker 7.24
ExtUtils::Manifest 1.70
ExtUtils::ParseXS 3.28
File::Spec 3.62
JSON 2.90
JSON::PP 2.27300
Module::Build 0.4220
Module::Signature 0.81
Parse::CPAN::Meta 2.150010
Test::Harness 3.35
Test::More 1.302052
YAML 1.17
YAML::Syck 1.29
version 0.9917
--
Summary of my perl5 (revision 5 version 22 subversion 2) configuration:
Platform:
osname=linux, osvers=3.2.0-4-amd64, archname=x86_64-linux
uname='linux cvrsnica-wheezy 3.2.0-4-amd64 #1 smp debian 3.2.54-2 x86_64 gnulinux '
config_args='-ds -e -Dprefix=/opt/perl-5.22.2 -Dcf_email=srezic@cpan.org'
hint=recommended, useposix=true, d_sigaction=define
useithreads=undef, usemultiplicity=undef
use64bitint=define, use64bitall=define, uselongdouble=undef
usemymalloc=n, bincompat5005=undef
Compiler:
cc='cc', ccflags ='-fwrapv -fno-strict-aliasing -pipe -fstack-protector -I/usr/local/include -D_LARGEFILE_SOURCE -D_FILE_OFFSET_BITS=64 -D_FORTIFY_SOURCE=2',
optimize='-O2',
cppflags='-fwrapv -fno-strict-aliasing -pipe -fstack-protector -I/usr/local/include'
ccversion='', gccversion='4.7.2', gccosandvers=''
intsize=4, longsize=8, ptrsize=8, doublesize=8, byteorder=12345678, doublekind=3
d_longlong=define, longlongsize=8, d_longdbl=define, longdblsize=16, longdblkind=3
ivtype='long', ivsize=8, nvtype='double', nvsize=8, Off_t='off_t', lseeksize=8
alignbytes=8, prototype=define
Linker and Libraries:
ld='cc', ldflags =' -fstack-protector -L/usr/local/lib'
libpth=/usr/local/lib /usr/lib/gcc/x86_64-linux-gnu/4.7/include-fixed /usr/include/x86_64-linux-gnu /usr/lib /lib/x86_64-linux-gnu /lib/../lib /usr/lib/x86_64-linux-gnu /usr/lib/../lib /lib
libs=-lpthread -lnsl -ldb -ldl -lm -lcrypt -lutil -lc
perllibs=-lpthread -lnsl -ldl -lm -lcrypt -lutil -lc
libc=libc-2.13.so, so=so, useshrplib=false, libperl=libperl.a
gnulibc_version='2.13'
Dynamic Linking:
dlsrc=dl_dlopen.xs, dlext=so, d_dlsymun=undef, ccdlflags='-Wl,-E'
cccdlflags='-fPIC', lddlflags='-shared -O2 -L/usr/local/lib -fstack-protector'
Characteristics of this binary (from libperl):
Compile-time options: HAS_TIMES PERLIO_LAYERS PERL_DONT_CREATE_GVSV
PERL_HASH_FUNC_ONE_AT_A_TIME_HARD PERL_MALLOC_WRAP
PERL_NEW_COPY_ON_WRITE PERL_PRESERVE_IVUV
USE_64_BIT_ALL USE_64_BIT_INT USE_LARGE_FILES
USE_LOCALE USE_LOCALE_COLLATE USE_LOCALE_CTYPE
USE_LOCALE_NUMERIC USE_LOCALE_TIME USE_PERLIO
USE_PERL_ATOF
Built under linux
Compiled at May 29 2016 23:41:57
%ENV:
PERL5LIB="/home/cpansand/.cpan/build/2023102714/Test-JSON-More-0.02-1/blib/arch:/home/cpansand/.cpan/build/2023102714/Test-JSON-More-0.02-1/blib/lib:/home/cpansand/.cpan/build/2023102714/JSV-0.08-1/blib/arch:/home/cpansand/.cpan/build/2023102714/JSV-0.08-1/blib/lib:/home/cpansand/.cpan/build/2023102714/Email-Valid-Loose-0.05-1/blib/arch:/home/cpansand/.cpan/build/2023102714/Email-Valid-Loose-0.05-1/blib/lib:/home/cpansand/.cpan/build/2023102714/Data-Validate-URI-0.07-0/blib/arch:/home/cpansand/.cpan/build/2023102714/Data-Validate-URI-0.07-0/blib/lib:/home/cpansand/.cpan/build/2023102714/MooX-Role-JSON_LD-1.0.1-1/blib/arch:/home/cpansand/.cpan/build/2023102714/MooX-Role-JSON_LD-1.0.1-1/blib/lib"
PERL5OPT=""
PERL5_CPANPLUS_IS_RUNNING="32040"
PERL5_CPAN_IS_RUNNING="32040"
PERL5_CPAN_IS_RUNNING_IN_RECURSION="31259,32040"
PERLDOC="-MPod::Perldoc::ToTextOverstrike"
PERL_BATCH="yes"
PERL_CANARY_STABILITY_NOPROMPT="1"
PERL_CPAN_REPORTER_CONFIG="/var/tmp/cpansmoker-1023/2023102714/cpanreporter_000_config.ini"
PERL_EXTUTILS_AUTOINSTALL="--defaultdeps"
PERL_USE_UNSAFE_INC="1"
@INC:
/home/cpansand/.cpan/build/2023102714/Test-JSON-More-0.02-1/blib/arch
/home/cpansand/.cpan/build/2023102714/Test-JSON-More-0.02-1/blib/lib
/home/cpansand/.cpan/build/2023102714/JSV-0.08-1/blib/arch
/home/cpansand/.cpan/build/2023102714/JSV-0.08-1/blib/lib
/home/cpansand/.cpan/build/2023102714/Email-Valid-Loose-0.05-1/blib/arch
/home/cpansand/.cpan/build/2023102714/Email-Valid-Loose-0.05-1/blib/lib
/home/cpansand/.cpan/build/2023102714/Data-Validate-URI-0.07-0/blib/arch
/home/cpansand/.cpan/build/2023102714/Data-Validate-URI-0.07-0/blib/lib
/home/cpansand/.cpan/build/2023102714/MooX-Role-JSON_LD-1.0.1-1/blib/arch
/home/cpansand/.cpan/build/2023102714/MooX-Role-JSON_LD-1.0.1-1/blib/lib
/opt/perl-5.22.2/lib/site_perl/5.22.2/x86_64-linux
/opt/perl-5.22.2/lib/site_perl/5.22.2
/opt/perl-5.22.2/lib/5.22.2/x86_64-linux
/opt/perl-5.22.2/lib/5.22.2
.