HTML-Mason v1.60 Perl 5 v5.40.0 x86_64-linux

Status
Pass
From
Len Jaffe
Dist
HTML-Mason v1.60
Platform
Perl 5 v5.40.0 x86_64-linux
Date
2024-06-17 00:30:54
ID
db7b876e-2c40-11ef-bb40-a2a79f9fb11c
This distribution has been tested as part of the CPAN Testers
project, supporting the Perl programming language.  See
http://wiki.cpantesters.org/ for more information or email
questions to cpan-testers-discuss@perl.org


--
Dear DROLSKY,

This is a computer-generated report for HTML-Mason-1.60
on perl 5.40.0, created by App::cpanminus::reporter 0.21 (1.7042).

Thank you for uploading your work to CPAN.  Congratulations!
All tests were successful.

Sections of this report:

    * Tester comments
    * Program output
    * Prerequisites
    * Environment and other context

------------------------------
TESTER COMMENTS
------------------------------

Additional comments from tester:

none provided

------------------------------
PROGRAM OUTPUT
------------------------------

Output from '':

Building and testing HTML-Mason-1.60
cp lib/HTML/Mason/Devel.pod blib/lib/HTML/Mason/Devel.pod
cp lib/HTML/Mason/Parser.pm blib/lib/HTML/Mason/Parser.pm
cp lib/HTML/Mason/Subclassing.pod blib/lib/HTML/Mason/Subclassing.pod
cp lib/HTML/Mason/Exceptions.pm blib/lib/HTML/Mason/Exceptions.pm
cp lib/HTML/Mason/Plugin.pm blib/lib/HTML/Mason/Plugin.pm
cp lib/HTML/Mason/Escapes.pm blib/lib/HTML/Mason/Escapes.pm
cp lib/HTML/Mason/Tests.pm blib/lib/HTML/Mason/Tests.pm
cp lib/HTML/Mason/CGIHandler.pm blib/lib/HTML/Mason/CGIHandler.pm
cp lib/HTML/Mason/Compiler/ToObject.pm blib/lib/HTML/Mason/Compiler/ToObject.pm
cp lib/HTML/Mason/Plugin/Context.pm blib/lib/HTML/Mason/Plugin/Context.pm
cp lib/HTML/Mason/Resolver/Null.pm blib/lib/HTML/Mason/Resolver/Null.pm
cp lib/HTML/Mason/Compiler.pm blib/lib/HTML/Mason/Compiler.pm
cp lib/HTML/Mason/Handler.pm blib/lib/HTML/Mason/Handler.pm
cp lib/HTML/Mason/Params.pod blib/lib/HTML/Mason/Params.pod
cp lib/HTML/Mason/Request.pm blib/lib/HTML/Mason/Request.pm
cp lib/HTML/Mason/Interp.pm blib/lib/HTML/Mason/Interp.pm
cp lib/HTML/Mason/FAQ.pod blib/lib/HTML/Mason/FAQ.pod
cp lib/HTML/Mason/Resolver.pm blib/lib/HTML/Mason/Resolver.pm
cp lib/HTML/Mason/Lexer.pm blib/lib/HTML/Mason/Lexer.pm
cp lib/HTML/Mason/Cache/BaseCache.pm blib/lib/HTML/Mason/Cache/BaseCache.pm
cp lib/HTML/Mason/Apache/Request.pm blib/lib/HTML/Mason/Apache/Request.pm
cp lib/HTML/Mason/Component/FileBased.pm blib/lib/HTML/Mason/Component/FileBased.pm
cp lib/HTML/Mason/Utils.pm blib/lib/HTML/Mason/Utils.pm
cp lib/HTML/Mason/MethodMaker.pm blib/lib/HTML/Mason/MethodMaker.pm
cp lib/HTML/Mason/Resolver/File.pm blib/lib/HTML/Mason/Resolver/File.pm
cp lib/HTML/Mason/Tools.pm blib/lib/HTML/Mason/Tools.pm
cp lib/HTML/Mason/Admin.pod blib/lib/HTML/Mason/Admin.pod
cp lib/HTML/Mason.pm blib/lib/HTML/Mason.pm
cp lib/HTML/Mason/Component.pm blib/lib/HTML/Mason/Component.pm
cp lib/HTML/Mason/Component/Subcomponent.pm blib/lib/HTML/Mason/Component/Subcomponent.pm
cp lib/HTML/Mason/FakeApache.pm blib/lib/HTML/Mason/FakeApache.pm
cp lib/HTML/Mason/ComponentSource.pm blib/lib/HTML/Mason/ComponentSource.pm
cp lib/HTML/Mason/ApacheHandler.pm blib/lib/HTML/Mason/ApacheHandler.pm
cp bin/convert0.6.README blib/script/convert0.6.README
"/home/len/perl5/perlbrew/perls/perl-5.40.0/bin/perl" -MExtUtils::MY -e 'MY->fixin(shift)' -- blib/script/convert0.6.README
cp bin/convert0.6.pl blib/script/convert0.6.pl
"/home/len/perl5/perlbrew/perls/perl-5.40.0/bin/perl" -MExtUtils::MY -e 'MY->fixin(shift)' -- blib/script/convert0.6.pl
cp bin/convert0.8.README blib/script/convert0.8.README
"/home/len/perl5/perlbrew/perls/perl-5.40.0/bin/perl" -MExtUtils::MY -e 'MY->fixin(shift)' -- blib/script/convert0.8.README
cp bin/convert0.8.pl blib/script/convert0.8.pl
"/home/len/perl5/perlbrew/perls/perl-5.40.0/bin/perl" -MExtUtils::MY -e 'MY->fixin(shift)' -- blib/script/convert0.8.pl
cp bin/mason.pl blib/script/mason.pl
"/home/len/perl5/perlbrew/perls/perl-5.40.0/bin/perl" -MExtUtils::MY -e 'MY->fixin(shift)' -- blib/script/mason.pl
Manifying 31 pod documents
PERL_DL_NONLAZY=1 "/home/len/perl5/perlbrew/perls/perl-5.40.0/bin/perl" "-MExtUtils::Command::MM" "-MTest::Harness" "-e" "undef *Test::Harness::Switches; test_harness(0, 'blib/lib', 'blib/arch')" t/*.t
# 
# Versions for all modules listed in MYMETA.json (including optional ones):
# 
# === Configure Requires ===
# 
#     Module              Want Have
#     ------------------- ---- ----
#     ExtUtils::MakeMaker  any 7.70
# 
# === Configure Suggests ===
# 
#     Module      Want Have
#     -------- ------- ----
#     JSON::PP 2.27300 4.16
# 
# === Build Requires ===
# 
#     Module              Want Have
#     ------------------- ---- ----
#     ExtUtils::MakeMaker  any 7.70
# 
# === Test Requires ===
# 
#     Module              Want     Have
#     ------------------- ---- --------
#     ExtUtils::MakeMaker  any     7.70
#     File::Spec           0.8     3.90
#     Test::More          0.96 1.302199
# 
# === Test Recommends ===
# 
#     Module         Want     Have
#     ---------- -------- --------
#     CPAN::Meta 2.120900 2.150010
# 
# === Runtime Requires ===
# 
#     Module           Want  Have
#     ---------------- ---- -----
#     CGI              2.46  4.65
#     Cache::Cache     1.00  1.08
#     Class::Container 0.07  0.13
#     Exception::Class 1.15  1.45
#     File::Spec        0.8  3.90
#     HTML::Entities    any  3.82
#     Log::Any         0.08 1.717
#     Params::Validate 0.70  1.31
#     Scalar::Util     1.01  1.63
# 
t/00-report-prereqs.t ......... ok
t/01-syntax.t ................. ok
t/01a-comp-calls.t ............ ok
t/02-sections.t ............... ok
t/02a-filter.t ................ ok
t/04-misc.t ................... ok
t/05-request.t ................ ok
t/05a-stack-corruption.t ...... ok
t/06-compiler.t ............... ok
t/06a-compiler_obj.t .......... ok
t/06b-compiler-named-subs.t ... ok
t/06c-compiler-spaces-path.t .. ok
t/07-interp.t ................. ok
t/07a-interp-mcr.t ............ ok
t/07b-interp-static-source.t .. ok
t/09-component.t .............. ok
t/09a-comp_content.t .......... ok
t/10-cache.t .................. ok
t/10a-cache-1.0x.t ............ ok
t/10b-cache-chi.t ............. skipped: CHI 0.21+ is not installed
t/11-inherit.t ................ ok
t/12-taint.t .................. ok
t/13-errors.t ................. ok
t/14-cgi.t .................... ok
t/14a-fake_apache.t ........... ok
t/15-subclass.t ............... ok
t/17-print.t .................. ok
t/18-leak.t ................... ok
t/19-subrequest.t ............. ok
t/20-plugins.t ................ ok
t/21-escapes.t ................ ok
t/22-path-security.t .......... ok
t/23-leak2.t .................. skipped: These tests require Test::Memory::Cycle to run.
t/24-tools.t .................. ok
t/25-flush-in-content.t ....... ok
t/25-log.t .................... ok
All tests successful.
Files=36, Tests=515, 25 wallclock secs ( 0.19 usr  0.03 sys +  6.61 cusr  0.47 csys =  7.30 CPU)
Result: PASS

------------------------------
PREREQUISITES
------------------------------

Prerequisite modules loaded:

runtime:

    Module              Need Have 
    ------------------- ---- -----
    Cache::Cache        1.00 1.08 
    CGI                 2.46 4.65 
    Class::Container    0.07 0.13 
    Exception::Class    1.15 1.45 
    File::Spec          0.8  3.90 
    HTML::Entities      0    3.82 
    Log::Any            0.08 1.717
    Params::Validate    0.70 1.31 
    Scalar::Util        1.01 1.63 

build:

    Module              Need Have 
    ------------------- ---- -----
    ExtUtils::MakeMaker 0    7.70 

configure:

    Module              Need Have 
    ------------------- ---- -----
    ExtUtils::MakeMaker 0    7.70 


------------------------------
ENVIRONMENT AND OTHER CONTEXT
------------------------------

Environment variables:

    LANG = en_US.UTF-8
    LANGUAGE = en_US
    PATH = /home/len/perl5/perlbrew/bin:/home/len/perl5/perlbrew/perls/perl-5.40.0/bin:/home/len/bin:/usr/local/lib/nodejs/node-v18.7.0-linux-x64/bin:/home/len/.rvm/gems/ruby-2.5.1/bin:/home/len/.rvm/gems/ruby-2.5.1@global/bin:/home/len/.rvm/rubies/ruby-2.5.1/bin:/usr/local/lib/nodejs/node-v18.7.0-linux-x64/bin:/usr/local/sbin:/usr/local/bin:/usr/sbin:/usr/bin:/sbin:/bin:/usr/games:/usr/local/games:/home/len/.rvm/bin:/home/len/.rvm/bin:/usr/local/heroku/bin:/home/len/.rvm/bin:/usr/local/bin:/usr/bin:/usr/local/go/bin:/home/len/go/bin
    PERL5LIB = /home/len/perl5/lib/perl5
    PERLBREW_HOME = /home/len/.perlbrew
    PERLBREW_MANPATH = /home/len/perl5/perlbrew/perls/perl-5.40.0/man
    PERLBREW_PATH = /home/len/perl5/perlbrew/bin:/home/len/perl5/perlbrew/perls/perl-5.40.0/bin
    PERLBREW_PERL = perl-5.40.0
    PERLBREW_ROOT = /home/len/perl5/perlbrew
    PERLBREW_SHELLRC_VERSION = 0.98
    PERLBREW_VERSION = 0.98
    SHELL = /bin/bash
    TERM = xterm

Perl special variables (and OS-specific diagnostics, for MSWin32):

    EGID = 1000 4 24 27 30 46 108 124 125 130 1000 1001
    EUID = 1000
    EXECUTABLE_NAME = /home/len/perl5/perlbrew/perls/perl-5.40.0/bin/perl
    GID = 1000 4 24 27 30 46 108 124 125 130 1000 1001
    UID = 1000

Perl module toolchain versions installed:

    Module              Have    
    ------------------- --------
    CPAN                2.36    
    CPAN::Meta          2.150010
    Cwd                 3.90    
    ExtUtils::CBuilder  0.280240
    ExtUtils::Command   7.70    
    ExtUtils::Install   2.22    
    ExtUtils::MakeMaker 7.70    
    ExtUtils::Manifest  1.75    
    ExtUtils::ParseXS   3.51    
    File::Spec          3.90    
    JSON                n/a     
    JSON::PP            4.16    
    Module::Build       0.4234  
    Module::Signature   n/a     
    Parse::CPAN::Meta   2.150010
    Test::Harness       3.48    
    Test::More          1.302199
    YAML                1.31    
    YAML::Syck          n/a     
    version             0.9932  


--

Summary of my perl5 (revision 5 version 40 subversion 0) configuration:
   
  Platform:
    osname=linux
    osvers=4.4.0-51-generic
    archname=x86_64-linux
    uname='linux echoes 4.4.0-51-generic #72~14.04.1-ubuntu smp thu nov 24 19:22:30 utc 2016 x86_64 x86_64 x86_64 gnulinux '
    config_args='-de -Dprefix=/home/len/perl5/perlbrew/perls/perl-5.40.0 -Aeval:scriptdir=/home/len/perl5/perlbrew/perls/perl-5.40.0/bin'
    hint=recommended
    useposix=true
    d_sigaction=define
    useithreads=undef
    usemultiplicity=undef
    use64bitint=define
    use64bitall=define
    uselongdouble=undef
    usemymalloc=n
    default_inc_excludes_dot=define
  Compiler:
    cc='cc'
    ccflags ='-std=gnu99 -fwrapv -fno-strict-aliasing -pipe -fstack-protector -I/usr/local/include -D_LARGEFILE_SOURCE -D_FILE_OFFSET_BITS=64'
    optimize='-O2'
    cppflags='-std=gnu99 -fwrapv -fno-strict-aliasing -pipe -fstack-protector -I/usr/local/include'
    ccversion=''
    gccversion='4.8.4'
    gccosandvers=''
    intsize=4
    longsize=8
    ptrsize=8
    doublesize=8
    byteorder=12345678
    doublekind=3
    d_longlong=define
    longlongsize=8
    d_longdbl=define
    longdblsize=16
    longdblkind=3
    ivtype='long'
    ivsize=8
    nvtype='double'
    nvsize=8
    Off_t='off_t'
    lseeksize=8
    alignbytes=8
    prototype=define
  Linker and Libraries:
    ld='cc'
    ldflags =' -fstack-protector -L/usr/local/lib'
    libpth=/usr/local/lib /usr/lib/x86_64-linux-gnu /usr/lib /lib/x86_64-linux-gnu /lib/../lib /usr/lib/../lib /lib /lib64 /usr/lib64
    libs=-lpthread -lgdbm -ldl -lm -lcrypt -lutil -lc -lgdbm_compat
    perllibs=-lpthread -ldl -lm -lcrypt -lutil -lc
    libc=libc-2.19.so
    so=so
    useshrplib=false
    libperl=libperl.a
    gnulibc_version='2.19'
  Dynamic Linking:
    dlsrc=dl_dlopen.xs
    dlext=so
    d_dlsymun=undef
    ccdlflags='-Wl,-E'
    cccdlflags='-fPIC'
    lddlflags='-shared -O2 -L/usr/local/lib -fstack-protector'


Characteristics of this binary (from libperl): 
  Compile-time options:
    HAS_LONG_DOUBLE
    HAS_STRTOLD
    HAS_TIMES
    PERLIO_LAYERS
    PERL_COPY_ON_WRITE
    PERL_DONT_CREATE_GVSV
    PERL_HASH_FUNC_SIPHASH13
    PERL_HASH_USE_SBOX32
    PERL_MALLOC_WRAP
    PERL_OP_PARENT
    PERL_PRESERVE_IVUV
    PERL_USE_SAFE_PUTENV
    USE_64_BIT_ALL
    USE_64_BIT_INT
    USE_LARGE_FILES
    USE_LOCALE
    USE_LOCALE_COLLATE
    USE_LOCALE_CTYPE
    USE_LOCALE_NUMERIC
    USE_LOCALE_TIME
    USE_PERLIO
    USE_PERL_ATOF
  Built under linux
  Compiled at Jun 16 2024 19:26:40
  %ENV:
    PERL5LIB="/home/len/perl5/lib/perl5"
    PERLBREW_HOME="/home/len/.perlbrew"
    PERLBREW_MANPATH="/home/len/perl5/perlbrew/perls/perl-5.40.0/man"
    PERLBREW_PATH="/home/len/perl5/perlbrew/bin:/home/len/perl5/perlbrew/perls/perl-5.40.0/bin"
    PERLBREW_PERL="perl-5.40.0"
    PERLBREW_ROOT="/home/len/perl5/perlbrew"
    PERLBREW_SHELLRC_VERSION="0.98"
    PERLBREW_VERSION="0.98"
  @INC:
    /home/len/perl5/lib/perl5
    /home/len/perl5/perlbrew/perls/perl-5.40.0/lib/site_perl/5.40.0/x86_64-linux
    /home/len/perl5/perlbrew/perls/perl-5.40.0/lib/site_perl/5.40.0
    /home/len/perl5/perlbrew/perls/perl-5.40.0/lib/5.40.0/x86_64-linux
    /home/len/perl5/perlbrew/perls/perl-5.40.0/lib/5.40.0