Back
From: metabase:user:30977d10-2aae-11df-837a-5e0a49663a4f
Subject: PASS AnyEvent-Subprocess-1.102912 v5.20.2 GNU/Linux
Date: 2015-12-07T23:33:02Z
This distribution has been tested as part of the CPAN Testers
project, supporting the Perl programming language. See
http://wiki.cpantesters.org/ for more information or email
questions to cpan-testers-discuss@perl.org
--
Dear Jonathan Rockway,
This is a computer-generated report for AnyEvent-Subprocess-1.102912
on perl 5.20.2, created by CPAN-Reporter-1.2015.
Thank you for uploading your work to CPAN. Congratulations!
All tests were successful.
Sections of this report:
* Tester comments
* Program output
* Prerequisites
* Environment and other context
------------------------------
TESTER COMMENTS
------------------------------
Additional comments from tester:
this report is from an automated smoke testing program
and was not reviewed by a human for accuracy
------------------------------
PROGRAM OUTPUT
------------------------------
Output from '/usr/bin/make test':
PERL_DL_NONLAZY=1 "/home/stro/perl/5.20.2t/bin/perl" "-MExtUtils::Command::MM" "-MTest::Harness" "-e" "undef *Test::Harness::Switches; test_harness(0, 'blib/lib', 'blib/arch')" t/*.t
# Using AnyEvent::Impl::EV
Passing a list of values to enum is deprecated. Enum values should be wrapped in an arrayref. at /home/stro/cpan/build/5.20.2t/build/AnyEvent-Subprocess-1.102912-GEl1iv/blib/lib/AnyEvent/Subprocess/Types.pm line 42.
require AnyEvent/Subprocess/Types.pm called at /home/stro/cpan/build/5.20.2t/build/AnyEvent-Subprocess-1.102912-GEl1iv/blib/lib/AnyEvent/Subprocess/Job/Delegate/Handle.pm line 12
AnyEvent::Subprocess::Job::Delegate::Handle::BEGIN() called at /home/stro/cpan/build/5.20.2t/build/AnyEvent-Subprocess-1.102912-GEl1iv/blib/lib/AnyEvent/Subprocess/Types.pm line 0
eval {...} called at /home/stro/cpan/build/5.20.2t/build/AnyEvent-Subprocess-1.102912-GEl1iv/blib/lib/AnyEvent/Subprocess/Types.pm line 0
require AnyEvent/Subprocess/Job/Delegate/Handle.pm called at /home/stro/cpan/build/5.20.2t/build/AnyEvent-Subprocess-1.102912-GEl1iv/blib/lib/AnyEvent/Subprocess/DefaultDelegates.pm line 16
AnyEvent::Subprocess::DefaultDelegates::BEGIN() called at /home/stro/cpan/build/5.20.2t/build/AnyEvent-Subprocess-1.102912-GEl1iv/blib/lib/AnyEvent/Subprocess/Types.pm line 0
eval {...} called at /home/stro/cpan/build/5.20.2t/build/AnyEvent-Subprocess-1.102912-GEl1iv/blib/lib/AnyEvent/Subprocess/Types.pm line 0
require AnyEvent/Subprocess/DefaultDelegates.pm called at /home/stro/cpan/build/5.20.2t/build/AnyEvent-Subprocess-1.102912-GEl1iv/blib/lib/AnyEvent/Subprocess.pm line 11
AnyEvent::Subprocess::BEGIN() called at /home/stro/cpan/build/5.20.2t/build/AnyEvent-Subprocess-1.102912-GEl1iv/blib/lib/AnyEvent/Subprocess/Types.pm line 0
eval {...} called at /home/stro/cpan/build/5.20.2t/build/AnyEvent-Subprocess-1.102912-GEl1iv/blib/lib/AnyEvent/Subprocess/Types.pm line 0
require AnyEvent/Subprocess.pm called at t/00-info.t line 9
main::BEGIN() called at /home/stro/cpan/build/5.20.2t/build/AnyEvent-Subprocess-1.102912-GEl1iv/blib/lib/AnyEvent/Subprocess/Types.pm line 0
eval {...} called at /home/stro/cpan/build/5.20.2t/build/AnyEvent-Subprocess-1.102912-GEl1iv/blib/lib/AnyEvent/Subprocess/Types.pm line 0
eval 'package main;
#line 9 t/00-info.t
use AnyEvent::Subprocess @{$args[0]};
1;
' called at /home/stro/perl/5.20.2t/lib/site_perl/5.20.2/Test/More.pm line 993
Test::More::_eval("package main;\x{a}\x{a}#line 9 t/00-info.t\x{a}use AnyEvent::Subprocess \@"..., ARRAY(0xc1b460)) called at /home/stro/perl/5.20.2t/lib/site_perl/5.20.2/Test/More.pm line 968
Test::More::use_ok("AnyEvent::Subprocess") called at t/00-info.t line 9
main::BEGIN() called at /home/stro/cpan/build/5.20.2t/build/AnyEvent-Subprocess-1.102912-GEl1iv/blib/lib/AnyEvent/Subprocess/Types.pm line 0
eval {...} called at /home/stro/cpan/build/5.20.2t/build/AnyEvent-Subprocess-1.102912-GEl1iv/blib/lib/AnyEvent/Subprocess/Types.pm line 0
t/00-info.t ................. ok
Passing a list of values to enum is deprecated. Enum values should be wrapped in an arrayref. at /home/stro/cpan/build/5.20.2t/build/AnyEvent-Subprocess-1.102912-GEl1iv/blib/lib/AnyEvent/Subprocess/Types.pm line 42.
require AnyEvent/Subprocess/Types.pm called at /home/stro/cpan/build/5.20.2t/build/AnyEvent-Subprocess-1.102912-GEl1iv/blib/lib/AnyEvent/Subprocess/Job/Delegate/Handle.pm line 12
AnyEvent::Subprocess::Job::Delegate::Handle::BEGIN() called at /home/stro/cpan/build/5.20.2t/build/AnyEvent-Subprocess-1.102912-GEl1iv/blib/lib/AnyEvent/Subprocess/Types.pm line 0
eval {...} called at /home/stro/cpan/build/5.20.2t/build/AnyEvent-Subprocess-1.102912-GEl1iv/blib/lib/AnyEvent/Subprocess/Types.pm line 0
require AnyEvent/Subprocess/Job/Delegate/Handle.pm called at /home/stro/cpan/build/5.20.2t/build/AnyEvent-Subprocess-1.102912-GEl1iv/blib/lib/AnyEvent/Subprocess/DefaultDelegates.pm line 16
AnyEvent::Subprocess::DefaultDelegates::BEGIN() called at /home/stro/cpan/build/5.20.2t/build/AnyEvent-Subprocess-1.102912-GEl1iv/blib/lib/AnyEvent/Subprocess/Types.pm line 0
eval {...} called at /home/stro/cpan/build/5.20.2t/build/AnyEvent-Subprocess-1.102912-GEl1iv/blib/lib/AnyEvent/Subprocess/Types.pm line 0
require AnyEvent/Subprocess/DefaultDelegates.pm called at /home/stro/cpan/build/5.20.2t/build/AnyEvent-Subprocess-1.102912-GEl1iv/blib/lib/AnyEvent/Subprocess.pm line 11
AnyEvent::Subprocess::BEGIN() called at /home/stro/cpan/build/5.20.2t/build/AnyEvent-Subprocess-1.102912-GEl1iv/blib/lib/AnyEvent/Subprocess/Types.pm line 0
eval {...} called at /home/stro/cpan/build/5.20.2t/build/AnyEvent-Subprocess-1.102912-GEl1iv/blib/lib/AnyEvent/Subprocess/Types.pm line 0
require AnyEvent/Subprocess.pm called at t/basic.t line 5
main::BEGIN() called at /home/stro/cpan/build/5.20.2t/build/AnyEvent-Subprocess-1.102912-GEl1iv/blib/lib/AnyEvent/Subprocess/Types.pm line 0
eval {...} called at /home/stro/cpan/build/5.20.2t/build/AnyEvent-Subprocess-1.102912-GEl1iv/blib/lib/AnyEvent/Subprocess/Types.pm line 0
eval 'package main;
#line 5 t/basic.t
use AnyEvent::Subprocess @{$args[0]};
1;
' called at /home/stro/perl/5.20.2t/lib/site_perl/5.20.2/Test/More.pm line 993
Test::More::_eval("package main;\x{a}\x{a}#line 5 t/basic.t\x{a}use AnyEvent::Subprocess \@{\$"..., ARRAY(0x21db860)) called at /home/stro/perl/5.20.2t/lib/site_perl/5.20.2/Test/More.pm line 968
Test::More::use_ok("ok", "AnyEvent::Subprocess") called at t/basic.t line 5
main::BEGIN() called at /home/stro/cpan/build/5.20.2t/build/AnyEvent-Subprocess-1.102912-GEl1iv/blib/lib/AnyEvent/Subprocess/Types.pm line 0
eval {...} called at /home/stro/cpan/build/5.20.2t/build/AnyEvent-Subprocess-1.102912-GEl1iv/blib/lib/AnyEvent/Subprocess/Types.pm line 0
t/basic.t ................... ok
Passing a list of values to enum is deprecated. Enum values should be wrapped in an arrayref. at /home/stro/cpan/build/5.20.2t/build/AnyEvent-Subprocess-1.102912-GEl1iv/blib/lib/AnyEvent/Subprocess/Types.pm line 42.
require AnyEvent/Subprocess/Types.pm called at /home/stro/cpan/build/5.20.2t/build/AnyEvent-Subprocess-1.102912-GEl1iv/blib/lib/AnyEvent/Subprocess/Job/Delegate/Handle.pm line 12
AnyEvent::Subprocess::Job::Delegate::Handle::BEGIN() called at /home/stro/cpan/build/5.20.2t/build/AnyEvent-Subprocess-1.102912-GEl1iv/blib/lib/AnyEvent/Subprocess/Types.pm line 0
eval {...} called at /home/stro/cpan/build/5.20.2t/build/AnyEvent-Subprocess-1.102912-GEl1iv/blib/lib/AnyEvent/Subprocess/Types.pm line 0
require AnyEvent/Subprocess/Job/Delegate/Handle.pm called at /home/stro/cpan/build/5.20.2t/build/AnyEvent-Subprocess-1.102912-GEl1iv/blib/lib/AnyEvent/Subprocess/DefaultDelegates.pm line 16
AnyEvent::Subprocess::DefaultDelegates::BEGIN() called at /home/stro/cpan/build/5.20.2t/build/AnyEvent-Subprocess-1.102912-GEl1iv/blib/lib/AnyEvent/Subprocess/Types.pm line 0
eval {...} called at /home/stro/cpan/build/5.20.2t/build/AnyEvent-Subprocess-1.102912-GEl1iv/blib/lib/AnyEvent/Subprocess/Types.pm line 0
require AnyEvent/Subprocess/DefaultDelegates.pm called at /home/stro/cpan/build/5.20.2t/build/AnyEvent-Subprocess-1.102912-GEl1iv/blib/lib/AnyEvent/Subprocess.pm line 11
AnyEvent::Subprocess::BEGIN() called at /home/stro/cpan/build/5.20.2t/build/AnyEvent-Subprocess-1.102912-GEl1iv/blib/lib/AnyEvent/Subprocess/Types.pm line 0
eval {...} called at /home/stro/cpan/build/5.20.2t/build/AnyEvent-Subprocess-1.102912-GEl1iv/blib/lib/AnyEvent/Subprocess/Types.pm line 0
require AnyEvent/Subprocess.pm called at t/capture-basic.t line 5
main::BEGIN() called at /home/stro/cpan/build/5.20.2t/build/AnyEvent-Subprocess-1.102912-GEl1iv/blib/lib/AnyEvent/Subprocess/Types.pm line 0
eval {...} called at /home/stro/cpan/build/5.20.2t/build/AnyEvent-Subprocess-1.102912-GEl1iv/blib/lib/AnyEvent/Subprocess/Types.pm line 0
t/capture-basic.t ........... ok
Passing a list of values to enum is deprecated. Enum values should be wrapped in an arrayref. at /home/stro/cpan/build/5.20.2t/build/AnyEvent-Subprocess-1.102912-GEl1iv/blib/lib/AnyEvent/Subprocess/Types.pm line 42.
require AnyEvent/Subprocess/Types.pm called at /home/stro/cpan/build/5.20.2t/build/AnyEvent-Subprocess-1.102912-GEl1iv/blib/lib/AnyEvent/Subprocess/Job/Delegate/Handle.pm line 12
AnyEvent::Subprocess::Job::Delegate::Handle::BEGIN() called at /home/stro/cpan/build/5.20.2t/build/AnyEvent-Subprocess-1.102912-GEl1iv/blib/lib/AnyEvent/Subprocess/Types.pm line 0
eval {...} called at /home/stro/cpan/build/5.20.2t/build/AnyEvent-Subprocess-1.102912-GEl1iv/blib/lib/AnyEvent/Subprocess/Types.pm line 0
require AnyEvent/Subprocess/Job/Delegate/Handle.pm called at /home/stro/cpan/build/5.20.2t/build/AnyEvent-Subprocess-1.102912-GEl1iv/blib/lib/AnyEvent/Subprocess/DefaultDelegates.pm line 16
AnyEvent::Subprocess::DefaultDelegates::BEGIN() called at /home/stro/cpan/build/5.20.2t/build/AnyEvent-Subprocess-1.102912-GEl1iv/blib/lib/AnyEvent/Subprocess/Types.pm line 0
eval {...} called at /home/stro/cpan/build/5.20.2t/build/AnyEvent-Subprocess-1.102912-GEl1iv/blib/lib/AnyEvent/Subprocess/Types.pm line 0
require AnyEvent/Subprocess/DefaultDelegates.pm called at /home/stro/cpan/build/5.20.2t/build/AnyEvent-Subprocess-1.102912-GEl1iv/blib/lib/AnyEvent/Subprocess.pm line 11
AnyEvent::Subprocess::BEGIN() called at /home/stro/cpan/build/5.20.2t/build/AnyEvent-Subprocess-1.102912-GEl1iv/blib/lib/AnyEvent/Subprocess/Types.pm line 0
eval {...} called at /home/stro/cpan/build/5.20.2t/build/AnyEvent-Subprocess-1.102912-GEl1iv/blib/lib/AnyEvent/Subprocess/Types.pm line 0
require AnyEvent/Subprocess.pm called at t/clone.t line 5
main::BEGIN() called at /home/stro/cpan/build/5.20.2t/build/AnyEvent-Subprocess-1.102912-GEl1iv/blib/lib/AnyEvent/Subprocess/Types.pm line 0
eval {...} called at /home/stro/cpan/build/5.20.2t/build/AnyEvent-Subprocess-1.102912-GEl1iv/blib/lib/AnyEvent/Subprocess/Types.pm line 0
t/clone.t ................... ok
Passing a list of values to enum is deprecated. Enum values should be wrapped in an arrayref. at /home/stro/cpan/build/5.20.2t/build/AnyEvent-Subprocess-1.102912-GEl1iv/blib/lib/AnyEvent/Subprocess/Types.pm line 42.
require AnyEvent/Subprocess/Types.pm called at /home/stro/cpan/build/5.20.2t/build/AnyEvent-Subprocess-1.102912-GEl1iv/blib/lib/AnyEvent/Subprocess/Job/Delegate/Handle.pm line 12
AnyEvent::Subprocess::Job::Delegate::Handle::BEGIN() called at /home/stro/cpan/build/5.20.2t/build/AnyEvent-Subprocess-1.102912-GEl1iv/blib/lib/AnyEvent/Subprocess/Types.pm line 0
eval {...} called at /home/stro/cpan/build/5.20.2t/build/AnyEvent-Subprocess-1.102912-GEl1iv/blib/lib/AnyEvent/Subprocess/Types.pm line 0
require AnyEvent/Subprocess/Job/Delegate/Handle.pm called at /home/stro/cpan/build/5.20.2t/build/AnyEvent-Subprocess-1.102912-GEl1iv/blib/lib/AnyEvent/Subprocess/DefaultDelegates.pm line 16
AnyEvent::Subprocess::DefaultDelegates::BEGIN() called at /home/stro/cpan/build/5.20.2t/build/AnyEvent-Subprocess-1.102912-GEl1iv/blib/lib/AnyEvent/Subprocess/Types.pm line 0
eval {...} called at /home/stro/cpan/build/5.20.2t/build/AnyEvent-Subprocess-1.102912-GEl1iv/blib/lib/AnyEvent/Subprocess/Types.pm line 0
require AnyEvent/Subprocess/DefaultDelegates.pm called at /home/stro/cpan/build/5.20.2t/build/AnyEvent-Subprocess-1.102912-GEl1iv/blib/lib/AnyEvent/Subprocess.pm line 11
AnyEvent::Subprocess::BEGIN() called at /home/stro/cpan/build/5.20.2t/build/AnyEvent-Subprocess-1.102912-GEl1iv/blib/lib/AnyEvent/Subprocess/Types.pm line 0
eval {...} called at /home/stro/cpan/build/5.20.2t/build/AnyEvent-Subprocess-1.102912-GEl1iv/blib/lib/AnyEvent/Subprocess/Types.pm line 0
require AnyEvent/Subprocess.pm called at t/death-by-stdin.t line 5
main::BEGIN() called at /home/stro/cpan/build/5.20.2t/build/AnyEvent-Subprocess-1.102912-GEl1iv/blib/lib/AnyEvent/Subprocess/Types.pm line 0
eval {...} called at /home/stro/cpan/build/5.20.2t/build/AnyEvent-Subprocess-1.102912-GEl1iv/blib/lib/AnyEvent/Subprocess/Types.pm line 0
t/death-by-stdin.t .......... ok
Passing a list of values to enum is deprecated. Enum values should be wrapped in an arrayref. at /home/stro/cpan/build/5.20.2t/build/AnyEvent-Subprocess-1.102912-GEl1iv/blib/lib/AnyEvent/Subprocess/Types.pm line 42.
require AnyEvent/Subprocess/Types.pm called at /home/stro/cpan/build/5.20.2t/build/AnyEvent-Subprocess-1.102912-GEl1iv/blib/lib/AnyEvent/Subprocess/Job/Delegate/Handle.pm line 12
AnyEvent::Subprocess::Job::Delegate::Handle::BEGIN() called at /home/stro/cpan/build/5.20.2t/build/AnyEvent-Subprocess-1.102912-GEl1iv/blib/lib/AnyEvent/Subprocess/Types.pm line 0
eval {...} called at /home/stro/cpan/build/5.20.2t/build/AnyEvent-Subprocess-1.102912-GEl1iv/blib/lib/AnyEvent/Subprocess/Types.pm line 0
require AnyEvent/Subprocess/Job/Delegate/Handle.pm called at /home/stro/cpan/build/5.20.2t/build/AnyEvent-Subprocess-1.102912-GEl1iv/blib/lib/AnyEvent/Subprocess/DefaultDelegates.pm line 16
AnyEvent::Subprocess::DefaultDelegates::BEGIN() called at /home/stro/cpan/build/5.20.2t/build/AnyEvent-Subprocess-1.102912-GEl1iv/blib/lib/AnyEvent/Subprocess/Types.pm line 0
eval {...} called at /home/stro/cpan/build/5.20.2t/build/AnyEvent-Subprocess-1.102912-GEl1iv/blib/lib/AnyEvent/Subprocess/Types.pm line 0
require AnyEvent/Subprocess/DefaultDelegates.pm called at /home/stro/cpan/build/5.20.2t/build/AnyEvent-Subprocess-1.102912-GEl1iv/blib/lib/AnyEvent/Subprocess.pm line 11
AnyEvent::Subprocess::BEGIN() called at /home/stro/cpan/build/5.20.2t/build/AnyEvent-Subprocess-1.102912-GEl1iv/blib/lib/AnyEvent/Subprocess/Types.pm line 0
eval {...} called at /home/stro/cpan/build/5.20.2t/build/AnyEvent-Subprocess-1.102912-GEl1iv/blib/lib/AnyEvent/Subprocess/Types.pm line 0
require AnyEvent/Subprocess.pm called at /home/stro/cpan/build/5.20.2t/build/AnyEvent-Subprocess-1.102912-GEl1iv/blib/lib/AnyEvent/Subprocess/Easy.pm line 10
AnyEvent::Subprocess::Easy::BEGIN() called at /home/stro/cpan/build/5.20.2t/build/AnyEvent-Subprocess-1.102912-GEl1iv/blib/lib/AnyEvent/Subprocess/Types.pm line 0
eval {...} called at /home/stro/cpan/build/5.20.2t/build/AnyEvent-Subprocess-1.102912-GEl1iv/blib/lib/AnyEvent/Subprocess/Types.pm line 0
require AnyEvent/Subprocess/Easy.pm called at t/easy-qx.t line 6
main::BEGIN() called at /home/stro/cpan/build/5.20.2t/build/AnyEvent-Subprocess-1.102912-GEl1iv/blib/lib/AnyEvent/Subprocess/Types.pm line 0
eval {...} called at /home/stro/cpan/build/5.20.2t/build/AnyEvent-Subprocess-1.102912-GEl1iv/blib/lib/AnyEvent/Subprocess/Types.pm line 0
# Mon Dec 7 15:04:46 PST 2015
# The 'failed' message you are about to see is good.
Failed to exec 'I CAN HAZ CHEZBURGER?': No such file or directory at /home/stro/cpan/build/5.20.2t/build/AnyEvent-Subprocess-1.102912-GEl1iv/blib/lib/AnyEvent/Subprocess/Types.pm line 36.
t/easy-qx.t ................. ok
Passing a list of values to enum is deprecated. Enum values should be wrapped in an arrayref. at /home/stro/cpan/build/5.20.2t/build/AnyEvent-Subprocess-1.102912-GEl1iv/blib/lib/AnyEvent/Subprocess/Types.pm line 42.
require AnyEvent/Subprocess/Types.pm called at /home/stro/cpan/build/5.20.2t/build/AnyEvent-Subprocess-1.102912-GEl1iv/blib/lib/AnyEvent/Subprocess/Job/Delegate/Handle.pm line 12
AnyEvent::Subprocess::Job::Delegate::Handle::BEGIN() called at /home/stro/cpan/build/5.20.2t/build/AnyEvent-Subprocess-1.102912-GEl1iv/blib/lib/AnyEvent/Subprocess/Types.pm line 0
eval {...} called at /home/stro/cpan/build/5.20.2t/build/AnyEvent-Subprocess-1.102912-GEl1iv/blib/lib/AnyEvent/Subprocess/Types.pm line 0
require AnyEvent/Subprocess/Job/Delegate/Handle.pm called at /home/stro/cpan/build/5.20.2t/build/AnyEvent-Subprocess-1.102912-GEl1iv/blib/lib/AnyEvent/Subprocess/DefaultDelegates.pm line 16
AnyEvent::Subprocess::DefaultDelegates::BEGIN() called at /home/stro/cpan/build/5.20.2t/build/AnyEvent-Subprocess-1.102912-GEl1iv/blib/lib/AnyEvent/Subprocess/Types.pm line 0
eval {...} called at /home/stro/cpan/build/5.20.2t/build/AnyEvent-Subprocess-1.102912-GEl1iv/blib/lib/AnyEvent/Subprocess/Types.pm line 0
require AnyEvent/Subprocess/DefaultDelegates.pm called at /home/stro/cpan/build/5.20.2t/build/AnyEvent-Subprocess-1.102912-GEl1iv/blib/lib/AnyEvent/Subprocess.pm line 11
AnyEvent::Subprocess::BEGIN() called at /home/stro/cpan/build/5.20.2t/build/AnyEvent-Subprocess-1.102912-GEl1iv/blib/lib/AnyEvent/Subprocess/Types.pm line 0
eval {...} called at /home/stro/cpan/build/5.20.2t/build/AnyEvent-Subprocess-1.102912-GEl1iv/blib/lib/AnyEvent/Subprocess/Types.pm line 0
require AnyEvent/Subprocess.pm called at t/exit-code.t line 5
main::BEGIN() called at /home/stro/cpan/build/5.20.2t/build/AnyEvent-Subprocess-1.102912-GEl1iv/blib/lib/AnyEvent/Subprocess/Types.pm line 0
eval {...} called at /home/stro/cpan/build/5.20.2t/build/AnyEvent-Subprocess-1.102912-GEl1iv/blib/lib/AnyEvent/Subprocess/Types.pm line 0
t/exit-code.t ............... ok
Passing a list of values to enum is deprecated. Enum values should be wrapped in an arrayref. at /home/stro/cpan/build/5.20.2t/build/AnyEvent-Subprocess-1.102912-GEl1iv/blib/lib/AnyEvent/Subprocess/Types.pm line 42.
require AnyEvent/Subprocess/Types.pm called at /home/stro/cpan/build/5.20.2t/build/AnyEvent-Subprocess-1.102912-GEl1iv/blib/lib/AnyEvent/Subprocess/Job/Delegate/Handle.pm line 12
AnyEvent::Subprocess::Job::Delegate::Handle::BEGIN() called at /home/stro/cpan/build/5.20.2t/build/AnyEvent-Subprocess-1.102912-GEl1iv/blib/lib/AnyEvent/Subprocess/Types.pm line 0
eval {...} called at /home/stro/cpan/build/5.20.2t/build/AnyEvent-Subprocess-1.102912-GEl1iv/blib/lib/AnyEvent/Subprocess/Types.pm line 0
require AnyEvent/Subprocess/Job/Delegate/Handle.pm called at /home/stro/cpan/build/5.20.2t/build/AnyEvent-Subprocess-1.102912-GEl1iv/blib/lib/AnyEvent/Subprocess/DefaultDelegates.pm line 16
AnyEvent::Subprocess::DefaultDelegates::BEGIN() called at /home/stro/cpan/build/5.20.2t/build/AnyEvent-Subprocess-1.102912-GEl1iv/blib/lib/AnyEvent/Subprocess/Types.pm line 0
eval {...} called at /home/stro/cpan/build/5.20.2t/build/AnyEvent-Subprocess-1.102912-GEl1iv/blib/lib/AnyEvent/Subprocess/Types.pm line 0
require AnyEvent/Subprocess/DefaultDelegates.pm called at /home/stro/cpan/build/5.20.2t/build/AnyEvent-Subprocess-1.102912-GEl1iv/blib/lib/AnyEvent/Subprocess.pm line 11
AnyEvent::Subprocess::BEGIN() called at /home/stro/cpan/build/5.20.2t/build/AnyEvent-Subprocess-1.102912-GEl1iv/blib/lib/AnyEvent/Subprocess/Types.pm line 0
eval {...} called at /home/stro/cpan/build/5.20.2t/build/AnyEvent-Subprocess-1.102912-GEl1iv/blib/lib/AnyEvent/Subprocess/Types.pm line 0
require AnyEvent/Subprocess.pm called at t/external-process.t line 5
main::BEGIN() called at /home/stro/cpan/build/5.20.2t/build/AnyEvent-Subprocess-1.102912-GEl1iv/blib/lib/AnyEvent/Subprocess/Types.pm line 0
eval {...} called at /home/stro/cpan/build/5.20.2t/build/AnyEvent-Subprocess-1.102912-GEl1iv/blib/lib/AnyEvent/Subprocess/Types.pm line 0
t/external-process.t ........ ok
Passing a list of values to enum is deprecated. Enum values should be wrapped in an arrayref. at /home/stro/cpan/build/5.20.2t/build/AnyEvent-Subprocess-1.102912-GEl1iv/blib/lib/AnyEvent/Subprocess/Types.pm line 42.
require AnyEvent/Subprocess/Types.pm called at /home/stro/cpan/build/5.20.2t/build/AnyEvent-Subprocess-1.102912-GEl1iv/blib/lib/AnyEvent/Subprocess/Job/Delegate/Handle.pm line 12
AnyEvent::Subprocess::Job::Delegate::Handle::BEGIN() called at /home/stro/cpan/build/5.20.2t/build/AnyEvent-Subprocess-1.102912-GEl1iv/blib/lib/AnyEvent/Subprocess/Types.pm line 0
eval {...} called at /home/stro/cpan/build/5.20.2t/build/AnyEvent-Subprocess-1.102912-GEl1iv/blib/lib/AnyEvent/Subprocess/Types.pm line 0
require AnyEvent/Subprocess/Job/Delegate/Handle.pm called at /home/stro/cpan/build/5.20.2t/build/AnyEvent-Subprocess-1.102912-GEl1iv/blib/lib/AnyEvent/Subprocess/DefaultDelegates.pm line 16
AnyEvent::Subprocess::DefaultDelegates::BEGIN() called at /home/stro/cpan/build/5.20.2t/build/AnyEvent-Subprocess-1.102912-GEl1iv/blib/lib/AnyEvent/Subprocess/Types.pm line 0
eval {...} called at /home/stro/cpan/build/5.20.2t/build/AnyEvent-Subprocess-1.102912-GEl1iv/blib/lib/AnyEvent/Subprocess/Types.pm line 0
require AnyEvent/Subprocess/DefaultDelegates.pm called at /home/stro/cpan/build/5.20.2t/build/AnyEvent-Subprocess-1.102912-GEl1iv/blib/lib/AnyEvent/Subprocess.pm line 11
AnyEvent::Subprocess::BEGIN() called at /home/stro/cpan/build/5.20.2t/build/AnyEvent-Subprocess-1.102912-GEl1iv/blib/lib/AnyEvent/Subprocess/Types.pm line 0
eval {...} called at /home/stro/cpan/build/5.20.2t/build/AnyEvent-Subprocess-1.102912-GEl1iv/blib/lib/AnyEvent/Subprocess/Types.pm line 0
require AnyEvent/Subprocess.pm called at t/handle-leftovers.t line 5
main::BEGIN() called at /home/stro/cpan/build/5.20.2t/build/AnyEvent-Subprocess-1.102912-GEl1iv/blib/lib/AnyEvent/Subprocess/Types.pm line 0
eval {...} called at /home/stro/cpan/build/5.20.2t/build/AnyEvent-Subprocess-1.102912-GEl1iv/blib/lib/AnyEvent/Subprocess/Types.pm line 0
t/handle-leftovers.t ........ ok
Passing a list of values to enum is deprecated. Enum values should be wrapped in an arrayref. at /home/stro/cpan/build/5.20.2t/build/AnyEvent-Subprocess-1.102912-GEl1iv/blib/lib/AnyEvent/Subprocess/Types.pm line 42.
require AnyEvent/Subprocess/Types.pm called at /home/stro/cpan/build/5.20.2t/build/AnyEvent-Subprocess-1.102912-GEl1iv/blib/lib/AnyEvent/Subprocess/Job/Delegate/Handle.pm line 12
AnyEvent::Subprocess::Job::Delegate::Handle::BEGIN() called at /home/stro/cpan/build/5.20.2t/build/AnyEvent-Subprocess-1.102912-GEl1iv/blib/lib/AnyEvent/Subprocess/Types.pm line 0
eval {...} called at /home/stro/cpan/build/5.20.2t/build/AnyEvent-Subprocess-1.102912-GEl1iv/blib/lib/AnyEvent/Subprocess/Types.pm line 0
require AnyEvent/Subprocess/Job/Delegate/Handle.pm called at /home/stro/cpan/build/5.20.2t/build/AnyEvent-Subprocess-1.102912-GEl1iv/blib/lib/AnyEvent/Subprocess/DefaultDelegates.pm line 16
AnyEvent::Subprocess::DefaultDelegates::BEGIN() called at /home/stro/cpan/build/5.20.2t/build/AnyEvent-Subprocess-1.102912-GEl1iv/blib/lib/AnyEvent/Subprocess/Types.pm line 0
eval {...} called at /home/stro/cpan/build/5.20.2t/build/AnyEvent-Subprocess-1.102912-GEl1iv/blib/lib/AnyEvent/Subprocess/Types.pm line 0
require AnyEvent/Subprocess/DefaultDelegates.pm called at /home/stro/cpan/build/5.20.2t/build/AnyEvent-Subprocess-1.102912-GEl1iv/blib/lib/AnyEvent/Subprocess.pm line 11
AnyEvent::Subprocess::BEGIN() called at /home/stro/cpan/build/5.20.2t/build/AnyEvent-Subprocess-1.102912-GEl1iv/blib/lib/AnyEvent/Subprocess/Types.pm line 0
eval {...} called at /home/stro/cpan/build/5.20.2t/build/AnyEvent-Subprocess-1.102912-GEl1iv/blib/lib/AnyEvent/Subprocess/Types.pm line 0
require AnyEvent/Subprocess.pm called at t/kill.t line 5
main::BEGIN() called at /home/stro/cpan/build/5.20.2t/build/AnyEvent-Subprocess-1.102912-GEl1iv/blib/lib/AnyEvent/Subprocess/Types.pm line 0
eval {...} called at /home/stro/cpan/build/5.20.2t/build/AnyEvent-Subprocess-1.102912-GEl1iv/blib/lib/AnyEvent/Subprocess/Types.pm line 0
t/kill.t .................... ok
Passing a list of values to enum is deprecated. Enum values should be wrapped in an arrayref. at /home/stro/cpan/build/5.20.2t/build/AnyEvent-Subprocess-1.102912-GEl1iv/blib/lib/AnyEvent/Subprocess/Types.pm line 42.
require AnyEvent/Subprocess/Types.pm called at /home/stro/cpan/build/5.20.2t/build/AnyEvent-Subprocess-1.102912-GEl1iv/blib/lib/AnyEvent/Subprocess/Job/Delegate/Handle.pm line 12
AnyEvent::Subprocess::Job::Delegate::Handle::BEGIN() called at /home/stro/cpan/build/5.20.2t/build/AnyEvent-Subprocess-1.102912-GEl1iv/blib/lib/AnyEvent/Subprocess/Types.pm line 0
eval {...} called at /home/stro/cpan/build/5.20.2t/build/AnyEvent-Subprocess-1.102912-GEl1iv/blib/lib/AnyEvent/Subprocess/Types.pm line 0
require AnyEvent/Subprocess/Job/Delegate/Handle.pm called at /home/stro/cpan/build/5.20.2t/build/AnyEvent-Subprocess-1.102912-GEl1iv/blib/lib/AnyEvent/Subprocess/DefaultDelegates.pm line 16
AnyEvent::Subprocess::DefaultDelegates::BEGIN() called at /home/stro/cpan/build/5.20.2t/build/AnyEvent-Subprocess-1.102912-GEl1iv/blib/lib/AnyEvent/Subprocess/Types.pm line 0
eval {...} called at /home/stro/cpan/build/5.20.2t/build/AnyEvent-Subprocess-1.102912-GEl1iv/blib/lib/AnyEvent/Subprocess/Types.pm line 0
require AnyEvent/Subprocess/DefaultDelegates.pm called at /home/stro/cpan/build/5.20.2t/build/AnyEvent-Subprocess-1.102912-GEl1iv/blib/lib/AnyEvent/Subprocess.pm line 11
AnyEvent::Subprocess::BEGIN() called at /home/stro/cpan/build/5.20.2t/build/AnyEvent-Subprocess-1.102912-GEl1iv/blib/lib/AnyEvent/Subprocess/Types.pm line 0
eval {...} called at /home/stro/cpan/build/5.20.2t/build/AnyEvent-Subprocess-1.102912-GEl1iv/blib/lib/AnyEvent/Subprocess/Types.pm line 0
require AnyEvent/Subprocess.pm called at t/monitorhandle.t line 5
main::BEGIN() called at /home/stro/cpan/build/5.20.2t/build/AnyEvent-Subprocess-1.102912-GEl1iv/blib/lib/AnyEvent/Subprocess/Types.pm line 0
eval {...} called at /home/stro/cpan/build/5.20.2t/build/AnyEvent-Subprocess-1.102912-GEl1iv/blib/lib/AnyEvent/Subprocess/Types.pm line 0
t/monitorhandle.t ........... ok
Passing a list of values to enum is deprecated. Enum values should be wrapped in an arrayref. at /home/stro/cpan/build/5.20.2t/build/AnyEvent-Subprocess-1.102912-GEl1iv/blib/lib/AnyEvent/Subprocess/Types.pm line 42.
require AnyEvent/Subprocess/Types.pm called at /home/stro/cpan/build/5.20.2t/build/AnyEvent-Subprocess-1.102912-GEl1iv/blib/lib/AnyEvent/Subprocess/Done.pm line 9
AnyEvent::Subprocess::Done::BEGIN() called at /home/stro/cpan/build/5.20.2t/build/AnyEvent-Subprocess-1.102912-GEl1iv/blib/lib/AnyEvent/Subprocess/Types.pm line 0
eval {...} called at /home/stro/cpan/build/5.20.2t/build/AnyEvent-Subprocess-1.102912-GEl1iv/blib/lib/AnyEvent/Subprocess/Types.pm line 0
require AnyEvent/Subprocess/Done.pm called at t/negative-one.t line 4
main::BEGIN() called at /home/stro/cpan/build/5.20.2t/build/AnyEvent-Subprocess-1.102912-GEl1iv/blib/lib/AnyEvent/Subprocess/Types.pm line 0
eval {...} called at /home/stro/cpan/build/5.20.2t/build/AnyEvent-Subprocess-1.102912-GEl1iv/blib/lib/AnyEvent/Subprocess/Types.pm line 0
t/negative-one.t ............ ok
Passing a list of values to enum is deprecated. Enum values should be wrapped in an arrayref. at /home/stro/cpan/build/5.20.2t/build/AnyEvent-Subprocess-1.102912-GEl1iv/blib/lib/AnyEvent/Subprocess/Types.pm line 42.
require AnyEvent/Subprocess/Types.pm called at /home/stro/cpan/build/5.20.2t/build/AnyEvent-Subprocess-1.102912-GEl1iv/blib/lib/AnyEvent/Subprocess/Job/Delegate/Handle.pm line 12
AnyEvent::Subprocess::Job::Delegate::Handle::BEGIN() called at /home/stro/cpan/build/5.20.2t/build/AnyEvent-Subprocess-1.102912-GEl1iv/blib/lib/AnyEvent/Subprocess/Types.pm line 0
eval {...} called at /home/stro/cpan/build/5.20.2t/build/AnyEvent-Subprocess-1.102912-GEl1iv/blib/lib/AnyEvent/Subprocess/Types.pm line 0
require AnyEvent/Subprocess/Job/Delegate/Handle.pm called at /home/stro/cpan/build/5.20.2t/build/AnyEvent-Subprocess-1.102912-GEl1iv/blib/lib/AnyEvent/Subprocess/DefaultDelegates.pm line 16
AnyEvent::Subprocess::DefaultDelegates::BEGIN() called at /home/stro/cpan/build/5.20.2t/build/AnyEvent-Subprocess-1.102912-GEl1iv/blib/lib/AnyEvent/Subprocess/Types.pm line 0
eval {...} called at /home/stro/cpan/build/5.20.2t/build/AnyEvent-Subprocess-1.102912-GEl1iv/blib/lib/AnyEvent/Subprocess/Types.pm line 0
require AnyEvent/Subprocess/DefaultDelegates.pm called at /home/stro/cpan/build/5.20.2t/build/AnyEvent-Subprocess-1.102912-GEl1iv/blib/lib/AnyEvent/Subprocess.pm line 11
AnyEvent::Subprocess::BEGIN() called at /home/stro/cpan/build/5.20.2t/build/AnyEvent-Subprocess-1.102912-GEl1iv/blib/lib/AnyEvent/Subprocess/Types.pm line 0
eval {...} called at /home/stro/cpan/build/5.20.2t/build/AnyEvent-Subprocess-1.102912-GEl1iv/blib/lib/AnyEvent/Subprocess/Types.pm line 0
require AnyEvent/Subprocess.pm called at t/open-to-fd.t line 5
main::BEGIN() called at /home/stro/cpan/build/5.20.2t/build/AnyEvent-Subprocess-1.102912-GEl1iv/blib/lib/AnyEvent/Subprocess/Types.pm line 0
eval {...} called at /home/stro/cpan/build/5.20.2t/build/AnyEvent-Subprocess-1.102912-GEl1iv/blib/lib/AnyEvent/Subprocess/Types.pm line 0
t/open-to-fd.t .............. ok
Passing a list of values to enum is deprecated. Enum values should be wrapped in an arrayref. at /home/stro/cpan/build/5.20.2t/build/AnyEvent-Subprocess-1.102912-GEl1iv/blib/lib/AnyEvent/Subprocess/Types.pm line 42.
require AnyEvent/Subprocess/Types.pm called at /home/stro/cpan/build/5.20.2t/build/AnyEvent-Subprocess-1.102912-GEl1iv/blib/lib/AnyEvent/Subprocess/Job/Delegate/Handle.pm line 12
AnyEvent::Subprocess::Job::Delegate::Handle::BEGIN() called at /home/stro/cpan/build/5.20.2t/build/AnyEvent-Subprocess-1.102912-GEl1iv/blib/lib/AnyEvent/Subprocess/Types.pm line 0
eval {...} called at /home/stro/cpan/build/5.20.2t/build/AnyEvent-Subprocess-1.102912-GEl1iv/blib/lib/AnyEvent/Subprocess/Types.pm line 0
require AnyEvent/Subprocess/Job/Delegate/Handle.pm called at /home/stro/cpan/build/5.20.2t/build/AnyEvent-Subprocess-1.102912-GEl1iv/blib/lib/AnyEvent/Subprocess/DefaultDelegates.pm line 16
AnyEvent::Subprocess::DefaultDelegates::BEGIN() called at /home/stro/cpan/build/5.20.2t/build/AnyEvent-Subprocess-1.102912-GEl1iv/blib/lib/AnyEvent/Subprocess/Types.pm line 0
eval {...} called at /home/stro/cpan/build/5.20.2t/build/AnyEvent-Subprocess-1.102912-GEl1iv/blib/lib/AnyEvent/Subprocess/Types.pm line 0
require AnyEvent/Subprocess/DefaultDelegates.pm called at /home/stro/cpan/build/5.20.2t/build/AnyEvent-Subprocess-1.102912-GEl1iv/blib/lib/AnyEvent/Subprocess.pm line 11
AnyEvent::Subprocess::BEGIN() called at /home/stro/cpan/build/5.20.2t/build/AnyEvent-Subprocess-1.102912-GEl1iv/blib/lib/AnyEvent/Subprocess/Types.pm line 0
eval {...} called at /home/stro/cpan/build/5.20.2t/build/AnyEvent-Subprocess-1.102912-GEl1iv/blib/lib/AnyEvent/Subprocess/Types.pm line 0
require AnyEvent/Subprocess.pm called at t/pty-basic.t line 5
main::BEGIN() called at /home/stro/cpan/build/5.20.2t/build/AnyEvent-Subprocess-1.102912-GEl1iv/blib/lib/AnyEvent/Subprocess/Types.pm line 0
eval {...} called at /home/stro/cpan/build/5.20.2t/build/AnyEvent-Subprocess-1.102912-GEl1iv/blib/lib/AnyEvent/Subprocess/Types.pm line 0
t/pty-basic.t ............... ok
Passing a list of values to enum is deprecated. Enum values should be wrapped in an arrayref. at /home/stro/cpan/build/5.20.2t/build/AnyEvent-Subprocess-1.102912-GEl1iv/blib/lib/AnyEvent/Subprocess/Types.pm line 42.
require AnyEvent/Subprocess/Types.pm called at /home/stro/cpan/build/5.20.2t/build/AnyEvent-Subprocess-1.102912-GEl1iv/blib/lib/AnyEvent/Subprocess/Job/Delegate/Handle.pm line 12
AnyEvent::Subprocess::Job::Delegate::Handle::BEGIN() called at /home/stro/cpan/build/5.20.2t/build/AnyEvent-Subprocess-1.102912-GEl1iv/blib/lib/AnyEvent/Subprocess/Types.pm line 0
eval {...} called at /home/stro/cpan/build/5.20.2t/build/AnyEvent-Subprocess-1.102912-GEl1iv/blib/lib/AnyEvent/Subprocess/Types.pm line 0
require AnyEvent/Subprocess/Job/Delegate/Handle.pm called at /home/stro/cpan/build/5.20.2t/build/AnyEvent-Subprocess-1.102912-GEl1iv/blib/lib/AnyEvent/Subprocess/DefaultDelegates.pm line 16
AnyEvent::Subprocess::DefaultDelegates::BEGIN() called at /home/stro/cpan/build/5.20.2t/build/AnyEvent-Subprocess-1.102912-GEl1iv/blib/lib/AnyEvent/Subprocess/Types.pm line 0
eval {...} called at /home/stro/cpan/build/5.20.2t/build/AnyEvent-Subprocess-1.102912-GEl1iv/blib/lib/AnyEvent/Subprocess/Types.pm line 0
require AnyEvent/Subprocess/DefaultDelegates.pm called at /home/stro/cpan/build/5.20.2t/build/AnyEvent-Subprocess-1.102912-GEl1iv/blib/lib/AnyEvent/Subprocess.pm line 11
AnyEvent::Subprocess::BEGIN() called at /home/stro/cpan/build/5.20.2t/build/AnyEvent-Subprocess-1.102912-GEl1iv/blib/lib/AnyEvent/Subprocess/Types.pm line 0
eval {...} called at /home/stro/cpan/build/5.20.2t/build/AnyEvent-Subprocess-1.102912-GEl1iv/blib/lib/AnyEvent/Subprocess/Types.pm line 0
require AnyEvent/Subprocess.pm called at t/pty-control.t line 4
main::BEGIN() called at /home/stro/cpan/build/5.20.2t/build/AnyEvent-Subprocess-1.102912-GEl1iv/blib/lib/AnyEvent/Subprocess/Types.pm line 0
eval {...} called at /home/stro/cpan/build/5.20.2t/build/AnyEvent-Subprocess-1.102912-GEl1iv/blib/lib/AnyEvent/Subprocess/Types.pm line 0
t/pty-control.t ............. ok
t/release-pod-syntax.t ...... skipped: these tests are for release candidate testing
Passing a list of values to enum is deprecated. Enum values should be wrapped in an arrayref. at /home/stro/cpan/build/5.20.2t/build/AnyEvent-Subprocess-1.102912-GEl1iv/blib/lib/AnyEvent/Subprocess/Types.pm line 42.
require AnyEvent/Subprocess/Types.pm called at /home/stro/cpan/build/5.20.2t/build/AnyEvent-Subprocess-1.102912-GEl1iv/blib/lib/AnyEvent/Subprocess/Job/Delegate/Handle.pm line 12
AnyEvent::Subprocess::Job::Delegate::Handle::BEGIN() called at /home/stro/cpan/build/5.20.2t/build/AnyEvent-Subprocess-1.102912-GEl1iv/blib/lib/AnyEvent/Subprocess/Types.pm line 0
eval {...} called at /home/stro/cpan/build/5.20.2t/build/AnyEvent-Subprocess-1.102912-GEl1iv/blib/lib/AnyEvent/Subprocess/Types.pm line 0
require AnyEvent/Subprocess/Job/Delegate/Handle.pm called at /home/stro/cpan/build/5.20.2t/build/AnyEvent-Subprocess-1.102912-GEl1iv/blib/lib/AnyEvent/Subprocess/DefaultDelegates.pm line 16
AnyEvent::Subprocess::DefaultDelegates::BEGIN() called at /home/stro/cpan/build/5.20.2t/build/AnyEvent-Subprocess-1.102912-GEl1iv/blib/lib/AnyEvent/Subprocess/Types.pm line 0
eval {...} called at /home/stro/cpan/build/5.20.2t/build/AnyEvent-Subprocess-1.102912-GEl1iv/blib/lib/AnyEvent/Subprocess/Types.pm line 0
require AnyEvent/Subprocess/DefaultDelegates.pm called at /home/stro/cpan/build/5.20.2t/build/AnyEvent-Subprocess-1.102912-GEl1iv/blib/lib/AnyEvent/Subprocess.pm line 11
AnyEvent::Subprocess::BEGIN() called at /home/stro/cpan/build/5.20.2t/build/AnyEvent-Subprocess-1.102912-GEl1iv/blib/lib/AnyEvent/Subprocess/Types.pm line 0
eval {...} called at /home/stro/cpan/build/5.20.2t/build/AnyEvent-Subprocess-1.102912-GEl1iv/blib/lib/AnyEvent/Subprocess/Types.pm line 0
require AnyEvent/Subprocess.pm called at t/socket.t line 5
main::BEGIN() called at /home/stro/cpan/build/5.20.2t/build/AnyEvent-Subprocess-1.102912-GEl1iv/blib/lib/AnyEvent/Subprocess/Types.pm line 0
eval {...} called at /home/stro/cpan/build/5.20.2t/build/AnyEvent-Subprocess-1.102912-GEl1iv/blib/lib/AnyEvent/Subprocess/Types.pm line 0
t/socket.t .................. ok
Passing a list of values to enum is deprecated. Enum values should be wrapped in an arrayref. at /home/stro/cpan/build/5.20.2t/build/AnyEvent-Subprocess-1.102912-GEl1iv/blib/lib/AnyEvent/Subprocess/Types.pm line 42.
require AnyEvent/Subprocess/Types.pm called at /home/stro/cpan/build/5.20.2t/build/AnyEvent-Subprocess-1.102912-GEl1iv/blib/lib/AnyEvent/Subprocess/Job/Delegate/Handle.pm line 12
AnyEvent::Subprocess::Job::Delegate::Handle::BEGIN() called at /home/stro/cpan/build/5.20.2t/build/AnyEvent-Subprocess-1.102912-GEl1iv/blib/lib/AnyEvent/Subprocess/Types.pm line 0
eval {...} called at /home/stro/cpan/build/5.20.2t/build/AnyEvent-Subprocess-1.102912-GEl1iv/blib/lib/AnyEvent/Subprocess/Types.pm line 0
require AnyEvent/Subprocess/Job/Delegate/Handle.pm called at /home/stro/cpan/build/5.20.2t/build/AnyEvent-Subprocess-1.102912-GEl1iv/blib/lib/AnyEvent/Subprocess/DefaultDelegates.pm line 16
AnyEvent::Subprocess::DefaultDelegates::BEGIN() called at /home/stro/cpan/build/5.20.2t/build/AnyEvent-Subprocess-1.102912-GEl1iv/blib/lib/AnyEvent/Subprocess/Types.pm line 0
eval {...} called at /home/stro/cpan/build/5.20.2t/build/AnyEvent-Subprocess-1.102912-GEl1iv/blib/lib/AnyEvent/Subprocess/Types.pm line 0
require AnyEvent/Subprocess/DefaultDelegates.pm called at /home/stro/cpan/build/5.20.2t/build/AnyEvent-Subprocess-1.102912-GEl1iv/blib/lib/AnyEvent/Subprocess.pm line 11
AnyEvent::Subprocess::BEGIN() called at /home/stro/cpan/build/5.20.2t/build/AnyEvent-Subprocess-1.102912-GEl1iv/blib/lib/AnyEvent/Subprocess/Types.pm line 0
eval {...} called at /home/stro/cpan/build/5.20.2t/build/AnyEvent-Subprocess-1.102912-GEl1iv/blib/lib/AnyEvent/Subprocess/Types.pm line 0
require AnyEvent/Subprocess.pm called at /home/stro/cpan/build/5.20.2t/build/AnyEvent-Subprocess-1.102912-GEl1iv/blib/lib/AnyEvent/Subprocess/Easy.pm line 10
AnyEvent::Subprocess::Easy::BEGIN() called at /home/stro/cpan/build/5.20.2t/build/AnyEvent-Subprocess-1.102912-GEl1iv/blib/lib/AnyEvent/Subprocess/Types.pm line 0
eval {...} called at /home/stro/cpan/build/5.20.2t/build/AnyEvent-Subprocess-1.102912-GEl1iv/blib/lib/AnyEvent/Subprocess/Types.pm line 0
require AnyEvent/Subprocess/Easy.pm called at t/system.t line 5
main::BEGIN() called at /home/stro/cpan/build/5.20.2t/build/AnyEvent-Subprocess-1.102912-GEl1iv/blib/lib/AnyEvent/Subprocess/Types.pm line 0
eval {...} called at /home/stro/cpan/build/5.20.2t/build/AnyEvent-Subprocess-1.102912-GEl1iv/blib/lib/AnyEvent/Subprocess/Types.pm line 0
t/system.t .................. ok
Passing a list of values to enum is deprecated. Enum values should be wrapped in an arrayref. at /home/stro/cpan/build/5.20.2t/build/AnyEvent-Subprocess-1.102912-GEl1iv/blib/lib/AnyEvent/Subprocess/Types.pm line 42.
require AnyEvent/Subprocess/Types.pm called at /home/stro/cpan/build/5.20.2t/build/AnyEvent-Subprocess-1.102912-GEl1iv/blib/lib/AnyEvent/Subprocess/Job/Delegate/Handle.pm line 12
AnyEvent::Subprocess::Job::Delegate::Handle::BEGIN() called at /home/stro/cpan/build/5.20.2t/build/AnyEvent-Subprocess-1.102912-GEl1iv/blib/lib/AnyEvent/Subprocess/Types.pm line 0
eval {...} called at /home/stro/cpan/build/5.20.2t/build/AnyEvent-Subprocess-1.102912-GEl1iv/blib/lib/AnyEvent/Subprocess/Types.pm line 0
require AnyEvent/Subprocess/Job/Delegate/Handle.pm called at /home/stro/cpan/build/5.20.2t/build/AnyEvent-Subprocess-1.102912-GEl1iv/blib/lib/AnyEvent/Subprocess/DefaultDelegates.pm line 16
AnyEvent::Subprocess::DefaultDelegates::BEGIN() called at /home/stro/cpan/build/5.20.2t/build/AnyEvent-Subprocess-1.102912-GEl1iv/blib/lib/AnyEvent/Subprocess/Types.pm line 0
eval {...} called at /home/stro/cpan/build/5.20.2t/build/AnyEvent-Subprocess-1.102912-GEl1iv/blib/lib/AnyEvent/Subprocess/Types.pm line 0
require AnyEvent/Subprocess/DefaultDelegates.pm called at /home/stro/cpan/build/5.20.2t/build/AnyEvent-Subprocess-1.102912-GEl1iv/blib/lib/AnyEvent/Subprocess.pm line 11
AnyEvent::Subprocess::BEGIN() called at /home/stro/cpan/build/5.20.2t/build/AnyEvent-Subprocess-1.102912-GEl1iv/blib/lib/AnyEvent/Subprocess/Types.pm line 0
eval {...} called at /home/stro/cpan/build/5.20.2t/build/AnyEvent-Subprocess-1.102912-GEl1iv/blib/lib/AnyEvent/Subprocess/Types.pm line 0
require AnyEvent/Subprocess.pm called at t/timeout.t line 5
main::BEGIN() called at /home/stro/cpan/build/5.20.2t/build/AnyEvent-Subprocess-1.102912-GEl1iv/blib/lib/AnyEvent/Subprocess/Types.pm line 0
eval {...} called at /home/stro/cpan/build/5.20.2t/build/AnyEvent-Subprocess-1.102912-GEl1iv/blib/lib/AnyEvent/Subprocess/Types.pm line 0
t/timeout.t ................. ok
Passing a list of values to enum is deprecated. Enum values should be wrapped in an arrayref. at /home/stro/cpan/build/5.20.2t/build/AnyEvent-Subprocess-1.102912-GEl1iv/blib/lib/AnyEvent/Subprocess/Types.pm line 42.
require AnyEvent/Subprocess/Types.pm called at /home/stro/cpan/build/5.20.2t/build/AnyEvent-Subprocess-1.102912-GEl1iv/blib/lib/AnyEvent/Subprocess/Job/Delegate/Handle.pm line 12
AnyEvent::Subprocess::Job::Delegate::Handle::BEGIN() called at /home/stro/cpan/build/5.20.2t/build/AnyEvent-Subprocess-1.102912-GEl1iv/blib/lib/AnyEvent/Subprocess/Types.pm line 0
eval {...} called at /home/stro/cpan/build/5.20.2t/build/AnyEvent-Subprocess-1.102912-GEl1iv/blib/lib/AnyEvent/Subprocess/Types.pm line 0
require AnyEvent/Subprocess/Job/Delegate/Handle.pm called at /home/stro/cpan/build/5.20.2t/build/AnyEvent-Subprocess-1.102912-GEl1iv/blib/lib/AnyEvent/Subprocess/DefaultDelegates.pm line 16
AnyEvent::Subprocess::DefaultDelegates::BEGIN() called at /home/stro/cpan/build/5.20.2t/build/AnyEvent-Subprocess-1.102912-GEl1iv/blib/lib/AnyEvent/Subprocess/Types.pm line 0
eval {...} called at /home/stro/cpan/build/5.20.2t/build/AnyEvent-Subprocess-1.102912-GEl1iv/blib/lib/AnyEvent/Subprocess/Types.pm line 0
require AnyEvent/Subprocess/DefaultDelegates.pm called at /home/stro/cpan/build/5.20.2t/build/AnyEvent-Subprocess-1.102912-GEl1iv/blib/lib/AnyEvent/Subprocess.pm line 11
AnyEvent::Subprocess::BEGIN() called at /home/stro/cpan/build/5.20.2t/build/AnyEvent-Subprocess-1.102912-GEl1iv/blib/lib/AnyEvent/Subprocess/Types.pm line 0
eval {...} called at /home/stro/cpan/build/5.20.2t/build/AnyEvent-Subprocess-1.102912-GEl1iv/blib/lib/AnyEvent/Subprocess/Types.pm line 0
require AnyEvent/Subprocess.pm called at t/trivial.t line 4
main::BEGIN() called at /home/stro/cpan/build/5.20.2t/build/AnyEvent-Subprocess-1.102912-GEl1iv/blib/lib/AnyEvent/Subprocess/Types.pm line 0
eval {...} called at /home/stro/cpan/build/5.20.2t/build/AnyEvent-Subprocess-1.102912-GEl1iv/blib/lib/AnyEvent/Subprocess/Types.pm line 0
t/trivial.t ................. ok
Passing a list of values to enum is deprecated. Enum values should be wrapped in an arrayref. at /home/stro/cpan/build/5.20.2t/build/AnyEvent-Subprocess-1.102912-GEl1iv/blib/lib/AnyEvent/Subprocess/Types.pm line 42.
require AnyEvent/Subprocess/Types.pm called at /home/stro/cpan/build/5.20.2t/build/AnyEvent-Subprocess-1.102912-GEl1iv/blib/lib/AnyEvent/Subprocess/Job/Delegate/Handle.pm line 12
AnyEvent::Subprocess::Job::Delegate::Handle::BEGIN() called at /home/stro/cpan/build/5.20.2t/build/AnyEvent-Subprocess-1.102912-GEl1iv/blib/lib/AnyEvent/Subprocess/Types.pm line 0
eval {...} called at /home/stro/cpan/build/5.20.2t/build/AnyEvent-Subprocess-1.102912-GEl1iv/blib/lib/AnyEvent/Subprocess/Types.pm line 0
require AnyEvent/Subprocess/Job/Delegate/Handle.pm called at /home/stro/cpan/build/5.20.2t/build/AnyEvent-Subprocess-1.102912-GEl1iv/blib/lib/AnyEvent/Subprocess/DefaultDelegates.pm line 16
AnyEvent::Subprocess::DefaultDelegates::BEGIN() called at /home/stro/cpan/build/5.20.2t/build/AnyEvent-Subprocess-1.102912-GEl1iv/blib/lib/AnyEvent/Subprocess/Types.pm line 0
eval {...} called at /home/stro/cpan/build/5.20.2t/build/AnyEvent-Subprocess-1.102912-GEl1iv/blib/lib/AnyEvent/Subprocess/Types.pm line 0
require AnyEvent/Subprocess/DefaultDelegates.pm called at /home/stro/cpan/build/5.20.2t/build/AnyEvent-Subprocess-1.102912-GEl1iv/blib/lib/AnyEvent/Subprocess.pm line 11
AnyEvent::Subprocess::BEGIN() called at /home/stro/cpan/build/5.20.2t/build/AnyEvent-Subprocess-1.102912-GEl1iv/blib/lib/AnyEvent/Subprocess/Types.pm line 0
eval {...} called at /home/stro/cpan/build/5.20.2t/build/AnyEvent-Subprocess-1.102912-GEl1iv/blib/lib/AnyEvent/Subprocess/Types.pm line 0
require AnyEvent/Subprocess.pm called at t/userhooks.t line 5
main::BEGIN() called at /home/stro/cpan/build/5.20.2t/build/AnyEvent-Subprocess-1.102912-GEl1iv/blib/lib/AnyEvent/Subprocess/Types.pm line 0
eval {...} called at /home/stro/cpan/build/5.20.2t/build/AnyEvent-Subprocess-1.102912-GEl1iv/blib/lib/AnyEvent/Subprocess/Types.pm line 0
t/userhooks.t ............... ok
Passing a list of values to enum is deprecated. Enum values should be wrapped in an arrayref. at /home/stro/cpan/build/5.20.2t/build/AnyEvent-Subprocess-1.102912-GEl1iv/blib/lib/AnyEvent/Subprocess/Types.pm line 42.
require AnyEvent/Subprocess/Types.pm called at /home/stro/cpan/build/5.20.2t/build/AnyEvent-Subprocess-1.102912-GEl1iv/blib/lib/AnyEvent/Subprocess/Job/Delegate/Handle.pm line 12
AnyEvent::Subprocess::Job::Delegate::Handle::BEGIN() called at /home/stro/cpan/build/5.20.2t/build/AnyEvent-Subprocess-1.102912-GEl1iv/blib/lib/AnyEvent/Subprocess/Types.pm line 0
eval {...} called at /home/stro/cpan/build/5.20.2t/build/AnyEvent-Subprocess-1.102912-GEl1iv/blib/lib/AnyEvent/Subprocess/Types.pm line 0
require AnyEvent/Subprocess/Job/Delegate/Handle.pm called at /home/stro/cpan/build/5.20.2t/build/AnyEvent-Subprocess-1.102912-GEl1iv/blib/lib/AnyEvent/Subprocess/DefaultDelegates.pm line 16
AnyEvent::Subprocess::DefaultDelegates::BEGIN() called at /home/stro/cpan/build/5.20.2t/build/AnyEvent-Subprocess-1.102912-GEl1iv/blib/lib/AnyEvent/Subprocess/Types.pm line 0
eval {...} called at /home/stro/cpan/build/5.20.2t/build/AnyEvent-Subprocess-1.102912-GEl1iv/blib/lib/AnyEvent/Subprocess/Types.pm line 0
require AnyEvent/Subprocess/DefaultDelegates.pm called at /home/stro/cpan/build/5.20.2t/build/AnyEvent-Subprocess-1.102912-GEl1iv/blib/lib/AnyEvent/Subprocess.pm line 11
AnyEvent::Subprocess::BEGIN() called at /home/stro/cpan/build/5.20.2t/build/AnyEvent-Subprocess-1.102912-GEl1iv/blib/lib/AnyEvent/Subprocess/Types.pm line 0
eval {...} called at /home/stro/cpan/build/5.20.2t/build/AnyEvent-Subprocess-1.102912-GEl1iv/blib/lib/AnyEvent/Subprocess/Types.pm line 0
require AnyEvent/Subprocess.pm called at t/watchers-are-destroyed.t line 7
main::BEGIN() called at /home/stro/cpan/build/5.20.2t/build/AnyEvent-Subprocess-1.102912-GEl1iv/blib/lib/AnyEvent/Subprocess/Types.pm line 0
eval {...} called at /home/stro/cpan/build/5.20.2t/build/AnyEvent-Subprocess-1.102912-GEl1iv/blib/lib/AnyEvent/Subprocess/Types.pm line 0
t/watchers-are-destroyed.t .. ok
All tests successful.
Test Summary Report
-------------------
t/negative-one.t (Wstat: 0 Tests: 5 Failed: 0)
TODO passed: 1
Files=22, Tests=116, 17 wallclock secs ( 0.05 usr 0.02 sys + 10.40 cusr 0.54 csys = 11.01 CPU)
Result: PASS
------------------------------
PREREQUISITES
------------------------------
Prerequisite modules loaded:
requires:
Module Need Have
--------------------------- ---- --------
AnyEvent 0 7.11
AnyEvent::Handle 0 7.11
AnyEvent::Util 0 0
Carp 0 1.38
EV 4.0 4.21
Event::Join 0.05 0.06
IO::Pty 0 1.12
JSON 2 2.90
Moose 1.15 2.1604
Moose::Role 0 2.1604
MooseX::Clone 0 0.06
MooseX::Role::Parameterized 0 1.08
MooseX::StrictConstructor 0 0.19
MooseX::Types 0 0.45
MooseX::Types::Moose 0 0.45
MooseX::Types::Signal 0 1.101932
namespace::autoclean 0 0.28
namespace::clean 0 0.26
POSIX 0 1.38_03
Sub::Exporter 0 0.987
Try::Tiny 0 0.22
build_requires:
Module Need Have
--------------------------- ---- --------
ok 0 0.16
Scalar::Util 0 1.42
Test::Exception 0 0.40
Test::More 0 1.001014
configure_requires:
Module Need Have
--------------------------- ---- --------
ExtUtils::MakeMaker 6.31 7.10
------------------------------
ENVIRONMENT AND OTHER CONTEXT
------------------------------
Environment variables:
AUTOMATED_TESTING = 1
LANG = en_US.UTF-8
PATH = /usr/local/bin:/usr/bin:/bin:/usr/local/games:/usr/games
PERL5LIB =
PERL5OPT =
PERL5_CPANPLUS_IS_RUNNING = 21513
PERL5_CPAN_IS_RUNNING = 21513
PERL5_CPAN_IS_RUNNING_IN_RECURSION = 29801,21513
PERL_CR_SMOKER_CURRENT = AI-MicroStructure-0.20
PERL_EXTUTILS_AUTOINSTALL = --defaultdeps
PERL_MM_USE_DEFAULT = 1
SHELL = /bin/bash
TERM = xterm
Perl special variables (and OS-specific diagnostics, for MSWin32):
$^X = /home/stro/perl/5.20.2t/bin/perl
$UID/$EUID = 1000 / 1000
$GID = 1000 24 25 29 30 44 46 108 114 1000
$EGID = 1000 24 25 29 30 44 46 108 114 1000
Perl module toolchain versions installed:
Module Have
------------------- --------
CPAN 2.05
CPAN::Meta 2.150005
Cwd 3.60
ExtUtils::CBuilder 0.280224
ExtUtils::Command 7.10
ExtUtils::Install 1.67
ExtUtils::MakeMaker 7.10
ExtUtils::Manifest 1.70
ExtUtils::ParseXS 3.30
File::Spec 3.60
JSON 2.90
JSON::PP 2.27300
Module::Build 0.4214
Module::Signature 0.79
Parse::CPAN::Meta 1.4414
Test::Harness 3.35
Test::More 1.001014
YAML 1.15
YAML::Syck 1.29
version 0.9912
--
Summary of my perl5 (revision 5 version 20 subversion 2) configuration:
Platform:
osname=linux, osvers=3.16.0-4-amd64, archname=x86_64-linux-thread-multi
uname='linux vm-debian-001 3.16.0-4-amd64 #1 smp debian 3.16.7-ckt11-1 (2015-05-24) x86_64 gnulinux '
config_args=''
hint=recommended, useposix=true, d_sigaction=define
useithreads=define, usemultiplicity=define
use64bitint=define, use64bitall=define, uselongdouble=undef
usemymalloc=n, bincompat5005=undef
Compiler:
cc='cc', ccflags ='-D_REENTRANT -D_GNU_SOURCE -fwrapv -fno-strict-aliasing -pipe -fstack-protector -I/usr/local/include -D_LARGEFILE_SOURCE -D_FILE_OFFSET_BITS=64',
optimize='-O2',
cppflags='-D_REENTRANT -D_GNU_SOURCE -fwrapv -fno-strict-aliasing -pipe -fstack-protector -I/usr/local/include'
ccversion='', gccversion='4.9.2', gccosandvers=''
intsize=4, longsize=8, ptrsize=8, doublesize=8, byteorder=12345678
d_longlong=define, longlongsize=8, d_longdbl=define, longdblsize=16
ivtype='long', ivsize=8, nvtype='double', nvsize=8, Off_t='off_t', lseeksize=8
alignbytes=8, prototype=define
Linker and Libraries:
ld='cc', ldflags =' -fstack-protector -L/usr/local/lib'
libpth=/usr/local/lib /usr/lib/gcc/x86_64-linux-gnu/4.9/include-fixed /usr/include/x86_64-linux-gnu /usr/lib /lib/x86_64-linux-gnu /lib/../lib /usr/lib/x86_64-linux-gnu /usr/lib/../lib /lib
libs=-lnsl -ldl -lm -lcrypt -lutil -lpthread -lc
perllibs=-lnsl -ldl -lm -lcrypt -lutil -lpthread -lc
libc=libc-2.19.so, so=so, useshrplib=false, libperl=libperl.a
gnulibc_version='2.19'
Dynamic Linking:
dlsrc=dl_dlopen.xs, dlext=so, d_dlsymun=undef, ccdlflags='-Wl,-E'
cccdlflags='-fPIC', lddlflags='-shared -O2 -L/usr/local/lib -fstack-protector'
Characteristics of this binary (from libperl):
Compile-time options: HAS_TIMES MULTIPLICITY PERLIO_LAYERS
PERL_DONT_CREATE_GVSV
PERL_HASH_FUNC_ONE_AT_A_TIME_HARD
PERL_IMPLICIT_CONTEXT PERL_MALLOC_WRAP
PERL_NEW_COPY_ON_WRITE PERL_PRESERVE_IVUV
USE_64_BIT_ALL USE_64_BIT_INT USE_ITHREADS
USE_LARGE_FILES USE_LOCALE USE_LOCALE_COLLATE
USE_LOCALE_CTYPE USE_LOCALE_NUMERIC USE_PERLIO
USE_PERL_ATOF USE_REENTRANT_API
Built under linux
Compiled at Jul 10 2015 16:45:24
%ENV:
PERL5LIB=""
PERL5OPT=""
PERL5_CPANPLUS_IS_RUNNING="21513"
PERL5_CPAN_IS_RUNNING="21513"
PERL5_CPAN_IS_RUNNING_IN_RECURSION="29801,21513"
PERL_CR_SMOKER_CURRENT="AI-MicroStructure-0.20"
PERL_EXTUTILS_AUTOINSTALL="--defaultdeps"
PERL_MM_USE_DEFAULT="1"
@INC:
/home/stro/perl/5.20.2t/lib/site_perl/5.20.2/x86_64-linux-thread-multi
/home/stro/perl/5.20.2t/lib/site_perl/5.20.2
/home/stro/perl/5.20.2t/lib/5.20.2/x86_64-linux-thread-multi
/home/stro/perl/5.20.2t/lib/5.20.2
.