DBIx-Class-Schema-Loader v0.07048_01 Perl 5 v5.16.3 MSWin32-x86-multi-thread

Status
Pass
From
Alexandr Ciornii (CHORNY)
Dist
DBIx-Class-Schema-Loader v0.07048_01
Platform
Perl 5 v5.16.3 MSWin32-x86-multi-thread
Date
2018-02-25 06:58:21
ID
db83d69a-6bfd-1014-88a2-858e667fdeab
This distribution has been tested as part of the CPAN Testers
project, supporting the Perl programming language.  See
http://wiki.cpantesters.org/ for more information or email
questions to cpan-testers-discuss@perl.org


--
Dear Dagfinn Ilmari Mannsaker,

This is a computer-generated report for DBIx-Class-Schema-Loader-0.07048_01
on perl 5.16.3, created by CPAN-Reporter-1.2018.

Thank you for uploading your work to CPAN.  Congratulations!
All tests were successful.

Sections of this report:

    * Tester comments
    * Program output
    * Prerequisites
    * Environment and other context

------------------------------
TESTER COMMENTS
------------------------------

Additional comments from tester:

this report is from an automated smoke testing program
and was not reviewed by a human for accuracy

------------------------------
PROGRAM OUTPUT
------------------------------

Output from 'C:\strawberry163\c\bin\dmake.exe test':

C:\strawberry163\perl\bin\perl.exe "-MExtUtils::Command::MM" "-e" "test_harness(0, 'blib\lib', 'blib\arch')" t/*.t t/*/*.t t/*/*/*.t
t/01use.t ............................... ok
t/10_01sqlite_common.t .................. ok
t/10_02mysql_common.t ................... skipped: requirements not satisfied: the following group(s) of environment variables: DBICTEST_MYSQL_DSN/..._USER/..._PASS
t/10_03pg_common.t ...................... skipped: requirements not satisfied: the following group(s) of environment variables: DBICTEST_PG_DSN/..._USER/..._PASS
t/10_04db2_common.t ..................... skipped: requirements not satisfied: DBD::DB2 as well as the following group(s) of environment variables: DBICTEST_DB2_DSN/..._USER/..._PASS
t/10_05ora_common.t ..................... skipped: requirements not satisfied: DBD::Oracle~1.24 Math::Base36~0.07 as well as the following group(s) of environment variables: DBICTEST_ORA_DSN/..._USER/..._PASS
t/10_06sybase_common.t .................. skipped: requirements not satisfied: DBD::Sybase as well as the following group(s) of environment variables: DBICTEST_SYBASE_DSN/..._USER/..._PASS
t/10_07mssql_common.t ................... skipped: You need to set the DBICTEST_MSSQL_DSN, _USER and _PASS and/or the DBICTEST_MSSQL_ODBC_DSN, _USER and _PASS environment variables
t/10_08sqlanywhere_common.t ............. skipped: You need to set the DBICTEST_SQLANYWHERE_DSN, _USER and _PASS and/or the DBICTEST_SQLANYWHERE_ODBC_DSN, _USER and _PASS environment variables
t/10_09firebird_common.t ................ skipped: You need to set the DBICTEST_FIREBIRD_DSN, _USER and _PASS and/or the DBICTEST_FIREBIRD_ODBC_DSN, _USER and _PASS and/or the DBICTEST_FIREBIRD_INTERBASE_DSN, _USER and _PASS environment variables
t/10_10informix_common.t ................ skipped: requirements not satisfied: DBD::Informix as well as the following group(s) of environment variables: DBICTEST_INFORMIX_DSN/..._USER/..._PASS
t/10_11msaccess_common.t ................ skipped: You need to set the DBICTEST_MSACCESS_ODBC_DSN, _USER and _PASS and/or the DBICTEST_MSACCESS_ADO_DSN, _USER and _PASS  environment variables
t/20invocations.t ....................... ok
t/21misc_fatal.t ........................ ok
t/22dump.t .............................. ok
t/23dumpmore.t .......................... ok
t/24loader_subclass.t ................... ok
t/25backcompat.t ........................ ok
t/26dump_use_moose.t .................... skipped: requirements not satisfied: MooseX::NonMoose~0.25 (see DBIx::Class::Schema::Loader::Optional::Dependencies documentation for details)
t/27filter_generated.t .................. ok
t/30_01comments.t ....................... ok
t/30_02bad_comment_table.t .............. ok
t/30_03no_comment_table.t ............... ok
t/40overwrite_modifications.t ........... ok
t/45relationships.t ..................... ok
t/46relationships_multi_m2m.t ........... ok
t/50rt59849.t ........................... ok
t/60dbicdump_config.t ................... ok
t/65dbicdump_invocations.t .............. ok
t/70schema_base_dispatched.t ............ ok
t/80split_name.t ........................ ok
t/90bug_58_mro.t ........................ skipped: perl 5.8 required for this test
t/backcompat/0.04006/10sqlite_common.t .. skipped: requirements not satisfied: the following group(s) of environment variables: SCHEMA_LOADER_TESTS_BACKCOMPAT
t/backcompat/0.04006/11mysql_common.t ... skipped: requirements not satisfied: the following group(s) of environment variables: DBICTEST_MYSQL_DSN/..._USER/..._PASS and SCHEMA_LOADER_TESTS_BACKCOMPAT
t/backcompat/0.04006/12pg_common.t ...... skipped: requirements not satisfied: the following group(s) of environment variables: DBICTEST_PG_DSN/..._USER/..._PASS and SCHEMA_LOADER_TESTS_BACKCOMPAT
t/backcompat/0.04006/13db2_common.t ..... skipped: requirements not satisfied: DBD::DB2 as well as the following group(s) of environment variables: DBICTEST_DB2_DSN/..._USER/..._PASS and SCHEMA_LOADER_TESTS_BACKCOMPAT
t/backcompat/0.04006/14ora_common.t ..... skipped: requirements not satisfied: DBD::Oracle~1.24 Math::Base36~0.07 as well as the following group(s) of environment variables: DBICTEST_ORA_DSN/..._USER/..._PASS and SCHEMA_LOADER_TESTS_BACKCOMPAT
t/backcompat/0.04006/20invocations.t .... skipped: requirements not satisfied: the following group(s) of environment variables: SCHEMA_LOADER_TESTS_BACKCOMPAT
t/backcompat/0.04006/21misc_fatal.t ..... skipped: requirements not satisfied: the following group(s) of environment variables: SCHEMA_LOADER_TESTS_BACKCOMPAT
t/backcompat/0.04006/22dump.t ........... skipped: requirements not satisfied: the following group(s) of environment variables: SCHEMA_LOADER_TESTS_BACKCOMPAT
t/backcompat/0.04006/23dumpmore.t ....... skipped: requirements not satisfied: the following group(s) of environment variables: SCHEMA_LOADER_TESTS_BACKCOMPAT
All tests successful.

Test Summary Report
-------------------
t/10_01sqlite_common.t                (Wstat: 0 Tests: 283 Failed: 0)
  TODO passed:   283
Files=41, Tests=1198, 80 wallclock secs ( 0.33 usr +  0.12 sys =  0.45 CPU)
Result: PASS

------------------------------
PREREQUISITES
------------------------------

Prerequisite modules loaded:

requires:

    Module                         Need     Have    
    ------------------------------ -------- --------
    Carp::Clan                     0        6.04    
    Class::Accessor::Grouped       0.10008  0.10010 
    Class::C3::Componentised       1.0008   1.001000
    Class::Inspector               1.27     1.28    
    Class::Unload                  0.07     0.08    
    curry                          1.000000 1.001000
    Data::Dump                     1.06     1.21    
    DBIx::Class                    0.08127  0.08270 
    Digest::MD5                    2.36     2.53    
    Exporter                       5.63     5.68    
    Hash::Merge                    0.12     0.200   
    Lingua::EN::Inflect::Number    1.1      1.1     
    Lingua::EN::Inflect::Phrase    0.15     0.18    
    Lingua::EN::Tagger             0.23     0.24    
    List::Util                     1.33     1.50    
    MRO::Compat                    0.09     0.12    
    namespace::clean               0.23     0.24    
    perl                           5.008001 5.016003
    Scope::Guard                   0.20     0.20    
    String::CamelCase              0.02     0.02    
    String::ToIdentifier::EN       0.05     0.11    
    Sub::Util                      1.40     1.50    
    Try::Tiny                      0        0.19    

build_requires:

    Module                         Need     Have    
    ------------------------------ -------- --------
    DBD::SQLite                    1.29     1.40    
    DBIx::Class::IntrospectableM2M 0        0.001001
    ExtUtils::MakeMaker            0        6.64    
    File::Path                     2.07     2.09    
    File::Temp                     0.16     0.22    
    Test::Deep                     0.107    0.110   
    Test::Differences              0.60     0.61    
    Test::Exception                0.31     0.32    
    Test::More                     0.94     1.001002
    Test::Warn                     0.21     0.24    

configure_requires:

    Module                         Need     Have    
    ------------------------------ -------- --------
    ExtUtils::MakeMaker            0        6.64    


------------------------------
ENVIRONMENT AND OTHER CONTEXT
------------------------------

Environment variables:

    AUTOMATED_TESTING = 1
    COMSPEC = C:\WINDOWS\system32\cmd.exe
    NUMBER_OF_PROCESSORS = 1
    PATH = C:\WINDOWS\system32;C:\WINDOWS;C:\WINDOWS\System32\Wbem;C:\strawberry163\c\bin;C:\strawberry163\perl\site\bin;C:\strawberry163\perl\bin
    PERL5LIB = C:\strawberry163\cpan\build\Scalar-List-Utils-1.50-w7826y/blib/arch;C:\strawberry163\cpan\build\Scalar-List-Utils-1.50-w7826y/blib/lib;C:\strawberry163\cpan\build\curry-1.001000-1MLdjm/blib/arch;C:\strawberry163\cpan\build\curry-1.001000-1MLdjm/blib/lib
    PERL5OPT = 
    PERL5_CPANPLUS_IS_RUNNING = 956
    PERL5_CPAN_IS_RUNNING = 956
    PERL5_CPAN_IS_RUNNING_IN_RECURSION = 1716,956
    PERL_CR_SMOKER_CURRENT = DBIx-Class-Schema-Loader-0.07048_01
    PERL_CR_SMOKER_RUNONCE = 1
    PERL_EXTUTILS_AUTOINSTALL = --defaultdeps
    PERL_MM_USE_DEFAULT = 1
    PROCESSOR_IDENTIFIER = x86 Family 18 Model 1 Stepping 0, AuthenticAMD
    TEMP = C:\DOCUME~1\c\LOCALS~1\Temp
    TERM = dumb

Perl special variables (and OS-specific diagnostics, for MSWin32):

    $^X = C:\strawberry163\perl\bin\perl.exe
    $UID/$EUID = 0 / 0
    $GID = 0
    $EGID = 0
    Win32::GetOSName = WinXP/.Net
    Win32::GetOSVersion = Service Pack 3, 5, 1, 2600, 2, 3, 0, 256, 1
    Win32::FsType = NTFS
    Win32::IsAdminUser = 1

Perl module toolchain versions installed:

    Module              Have    
    ------------------- --------
    CPAN                2.00    
    CPAN::Meta          2.140640
    Cwd                 3.40    
    ExtUtils::CBuilder  0.280206
    ExtUtils::Command   1.17    
    ExtUtils::Install   1.58    
    ExtUtils::MakeMaker 6.64    
    ExtUtils::Manifest  1.61    
    ExtUtils::ParseXS   3.24    
    File::Spec          3.40    
    JSON                2.90    
    JSON::PP            2.27203 
    Module::Build       0.4205  
    Module::Signature   0.70    
    Parse::CPAN::Meta   1.4414  
    Test::Harness       3.30    
    Test::More          1.001002
    YAML                0.90    
    YAML::Syck          1.24    
    version             0.9902  


--

Summary of my perl5 (revision 5 version 16 subversion 3) configuration:
   
  Platform:
    osname=MSWin32, osvers=4.0, archname=MSWin32-x86-multi-thread
    uname='Win32 strawberry-perl 5.16.3.1 #1 Tue Mar 12 13:55:20 2013 i386'
    config_args='undef'
    hint=recommended, useposix=true, d_sigaction=undef
    useithreads=define, usemultiplicity=define
    useperlio=define, d_sfio=undef, uselargefiles=define, usesocks=undef
    use64bitint=undef, use64bitall=undef, uselongdouble=undef
    usemymalloc=n, bincompat5005=undef
  Compiler:
    cc='gcc', ccflags =' -s -O2 -DWIN32  -DPERL_TEXTMODE_SCRIPTS -DPERL_IMPLICIT_CONTEXT -DPERL_IMPLICIT_SYS -fno-strict-aliasing -mms-bitfields',
    optimize='-s -O2',
    cppflags='-DWIN32'
    ccversion='', gccversion='4.6.3', gccosandvers=''
    intsize=4, longsize=4, ptrsize=4, doublesize=8, byteorder=1234
    d_longlong=undef, longlongsize=8, d_longdbl=define, longdblsize=12
    ivtype='long', ivsize=4, nvtype='double', nvsize=8, Off_t='long long', lseeksize=8
    alignbytes=8, prototype=define
  Linker and Libraries:
    ld='g++', ldflags ='-s -L"C:\strawberry163\perl\lib\CORE" -L"C:\strawberry163\c\lib"'
    libpth=C:\strawberry163\c\lib C:\strawberry163\c\i686-w64-mingw32\lib
    libs=-lmoldname -lkernel32 -luser32 -lgdi32 -lwinspool -lcomdlg32 -ladvapi32 -lshell32 -lole32 -loleaut32 -lnetapi32 -luuid -lws2_32 -lmpr -lwinmm -lversion -lodbc32 -lodbccp32 -lcomctl32
    perllibs=-lmoldname -lkernel32 -luser32 -lgdi32 -lwinspool -lcomdlg32 -ladvapi32 -lshell32 -lole32 -loleaut32 -lnetapi32 -luuid -lws2_32 -lmpr -lwinmm -lversion -lodbc32 -lodbccp32 -lcomctl32
    libc=, so=dll, useshrplib=true, libperl=libperl516.a
    gnulibc_version=''
  Dynamic Linking:
    dlsrc=dl_win32.xs, dlext=dll, d_dlsymun=undef, ccdlflags=' '
    cccdlflags=' ', lddlflags='-mdll -s -L"C:\strawberry163\perl\lib\CORE" -L"C:\strawberry163\c\lib"'


Characteristics of this binary (from libperl): 
  Compile-time options: HAS_TIMES HAVE_INTERP_INTERN MULTIPLICITY
                        PERLIO_LAYERS PERL_DONT_CREATE_GVSV
                        PERL_IMPLICIT_CONTEXT PERL_IMPLICIT_SYS
                        PERL_MALLOC_WRAP PERL_PRESERVE_IVUV PL_OP_SLAB_ALLOC
                        USE_ITHREADS USE_LARGE_FILES USE_LOCALE
                        USE_LOCALE_COLLATE USE_LOCALE_CTYPE
                        USE_LOCALE_NUMERIC USE_PERLIO USE_PERL_ATOF
  Built under MSWin32
  Compiled at Mar 12 2013 14:01:07
  %ENV:
    PERL5LIB="C:\strawberry163\cpan\build\Scalar-List-Utils-1.50-w7826y/blib/arch;C:\strawberry163\cpan\build\Scalar-List-Utils-1.50-w7826y/blib/lib;C:\strawberry163\cpan\build\curry-1.001000-1MLdjm/blib/arch;C:\strawberry163\cpan\build\curry-1.001000-1MLdjm/blib/lib"
    PERL5_CPANPLUS_IS_RUNNING="956"
    PERL5_CPAN_IS_RUNNING="956"
    PERL5_CPAN_IS_RUNNING_IN_RECURSION="1716,956"
    PERL_CR_SMOKER_CURRENT="DBIx-Class-Schema-Loader-0.07048_01"
    PERL_CR_SMOKER_RUNONCE="1"
    PERL_EXTUTILS_AUTOINSTALL="--defaultdeps"
    PERL_MM_USE_DEFAULT="1"
  @INC:
    C:\strawberry163\cpan\build\Scalar-List-Utils-1.50-w7826y/blib/arch
    C:\strawberry163\cpan\build\Scalar-List-Utils-1.50-w7826y/blib/lib
    C:\strawberry163\cpan\build\curry-1.001000-1MLdjm/blib/arch
    C:\strawberry163\cpan\build\curry-1.001000-1MLdjm/blib/lib
    C:/strawberry163/perl/site/lib
    C:/strawberry163/perl/vendor/lib
    C:/strawberry163/perl/lib
    .