Report for Task-BINGOS-Bootstrap-0.04

Back
From: metabase:user:322078bc-2aae-11df-837a-5e0a49663a4f
Subject: PASS Task-BINGOS-Bootstrap-0.04 v5.24.0 GNU/Linux
Date: 2017-06-03T21:44:44Z

This distribution has been tested as part of the CPAN Testers
project, supporting the Perl programming language.  See
http://wiki.cpantesters.org/ for more information or email
questions to cpan-testers-discuss@perl.org


--

Dear Chris Williams,

This is a computer-generated error report created automatically by
CPANPLUS, version 0.9160. Testers personal comments may appear
at the end of this report.


Thank you for uploading your work to CPAN.  Congratulations!
All tests were successful.

TEST RESULTS:

Below is the error stack from stage 'make test':

PERL_DL_NONLAZY=1 "/opt/perl-5.24.0/bin/perl" "-MExtUtils::Command::MM" "-MTest::Harness" "-e" "undef *Test::Harness::Switches; test_harness(0, 'blib/lib', 'blib/arch')" t/*.t
t/00-compile.t ........... ok
t/author-pod-coverage.t .. skipped: these tests are for testing by the author
t/author-pod-syntax.t .... skipped: these tests are for testing by the author
All tests successful.
Files=3, Tests=1,  1 wallclock secs ( 0.14 usr  0.03 sys +  0.48 cusr  0.02 csys =  0.67 CPU)
Result: PASS


PREREQUISITES:

Here is a list of prerequisites you specified and versions we
managed to load:

	  Module Name                        Have     Want
	  CPANPLUS                         0.9168   0.9105
	  CPANPLUS::Internals::Source::CPANIDX     0.04     0.04
	  CPANPLUS::YACSmoke                 1.02     0.62
	  ExtUtils::MakeMaker                7.28        0
	  File::Spec                         3.63        0
	  IO::Handle                         1.36        0
	  IPC::Open3                         1.20        0
	  Test::More                     1.302062        0
	  Test::Reporter::Transport::Socket     0.32     0.16

Perl module toolchain versions installed:
	Module Name                        Have
	CPANPLUS                         0.9168
	CPANPLUS::Dist::Build              0.88
	Cwd                                3.63
	ExtUtils::CBuilder             0.280225
	ExtUtils::Command                  7.28
	ExtUtils::Install                  2.14
	ExtUtils::MakeMaker                7.28
	ExtUtils::Manifest                 1.70
	ExtUtils::ParseXS                  3.31
	File::Spec                         3.63
	Module::Build                    0.4224
	Pod::Parser                        1.63
	Pod::Simple                        3.35
	Test2                          1.302062
	Test::Harness                      3.39
	Test::More                     1.302062
	version                          0.9917

******************************** NOTE ********************************
The comments above are created mechanically, possibly without manual
checking by the sender.  As there are many people performing automatic
tests on each upload to CPAN, it is likely that you will receive
identical messages about the same problem.

If you believe that the message is mistaken, please reply to the first
one with correction and/or additional informations, and do not take
it personally.  We appreciate your patience. :)
**********************************************************************

Additional comments:


This report was machine-generated by CPANPLUS::Dist::YACSmoke 0.98.

------------------------------
ENVIRONMENT AND OTHER CONTEXT
------------------------------

Environment variables:

    AUTOMATED_TESTING = 1
    LANG = en_GB.UTF-8
    PATH = /usr/local/sbin:/usr/local/bin:/usr/sbin:/usr/bin:/sbin:/bin
    PERL5LIB = :/opt/perl-5.24.0/.cpanplus/5.24.0/build/xDU1WXpZbX/Task-BINGOS-Bootstrap-0.04/blib/lib:/opt/perl-5.24.0/.cpanplus/5.24.0/build/xDU1WXpZbX/Task-BINGOS-Bootstrap-0.04/blib/arch
    PERL5_CPANIDX_URL = http://cpan.mirror.local/cpanidx/
    PERL5_CPANPLUS_HOME = /opt/perl-5.24.0
    PERL5_CPANPLUS_IS_RUNNING = 31140
    PERL5_CPANPLUS_IS_VERSION = 0.9160
    PERL_EXTUTILS_AUTOINSTALL = --defaultdeps
    PERL_INSTALL_QUIET = 1
    PERL_MM_USE_DEFAULT = 1
    SHELL = /bin/bash
    TERM = xterm

Perl special variables (and OS-specific diagnostics, for MSWin32):

    Perl: $^X = /opt/perl-5.24.0/bin/perl
    UID:  $<  = 0
    EUID: $>  = 0
    GID:  $(  = 0 0
    EGID: $)  = 0 0


-------------------------------


--

Summary of my perl5 (revision 5 version 24 subversion 0) configuration:
   
  Platform:
    osname=linux, osvers=4.4.13-v7+, archname=armv7l-linux
    uname='linux rhefr 4.4.13-v7+ #894 smp mon jun 13 13:13:27 bst 2016 armv7l gnulinux '
    config_args='-des -Dprefix=/opt/perl-5.24.0'
    hint=recommended, useposix=true, d_sigaction=define
    useithreads=undef, usemultiplicity=undef
    use64bitint=undef, use64bitall=undef, uselongdouble=undef
    usemymalloc=n, bincompat5005=undef
  Compiler:
    cc='cc', ccflags ='-fwrapv -fno-strict-aliasing -pipe -fstack-protector-strong -I/usr/local/include -D_LARGEFILE_SOURCE -D_FILE_OFFSET_BITS=64 -D_FORTIFY_SOURCE=2',
    optimize='-O2',
    cppflags='-fwrapv -fno-strict-aliasing -pipe -fstack-protector-strong -I/usr/local/include'
    ccversion='', gccversion='4.9.2', gccosandvers=''
    intsize=4, longsize=4, ptrsize=4, doublesize=8, byteorder=1234, doublekind=3
    d_longlong=define, longlongsize=8, d_longdbl=define, longdblsize=8, longdblkind=0
    ivtype='long', ivsize=4, nvtype='double', nvsize=8, Off_t='off_t', lseeksize=8
    alignbytes=8, prototype=define
  Linker and Libraries:
    ld='cc', ldflags =' -fstack-protector-strong -L/usr/local/lib'
    libpth=/usr/local/lib /usr/lib/gcc/arm-linux-gnueabihf/4.9/include-fixed /usr/include/arm-linux-gnueabihf /usr/lib /lib/arm-linux-gnueabihf /lib /usr/lib/arm-linux-gnueabihf
    libs=-lpthread -lnsl -lgdbm -ldl -lm -lcrypt -lutil -lc -lgdbm_compat
    perllibs=-lpthread -lnsl -ldl -lm -lcrypt -lutil -lc
    libc=libc-2.19.so, so=so, useshrplib=false, libperl=libperl.a
    gnulibc_version='2.19'
  Dynamic Linking:
    dlsrc=dl_dlopen.xs, dlext=so, d_dlsymun=undef, ccdlflags='-Wl,-E'
    cccdlflags='-fPIC', lddlflags='-shared -O2 -L/usr/local/lib -fstack-protector-strong'


Characteristics of this binary (from libperl): 
  Compile-time options: HAS_TIMES PERLIO_LAYERS PERL_COPY_ON_WRITE
                        PERL_DONT_CREATE_GVSV
                        PERL_HASH_FUNC_ONE_AT_A_TIME_HARD PERL_MALLOC_WRAP
                        PERL_PRESERVE_IVUV USE_LARGE_FILES USE_LOCALE
                        USE_LOCALE_COLLATE USE_LOCALE_CTYPE
                        USE_LOCALE_NUMERIC USE_LOCALE_TIME USE_PERLIO
                        USE_PERL_ATOF
  Built under linux
  Compiled at Oct 11 2016 14:15:01
  %ENV:
    PERL5LIB=":/opt/perl-5.24.0/.cpanplus/5.24.0/build/xDU1WXpZbX/Task-BINGOS-Bootstrap-0.04/blib/lib:/opt/perl-5.24.0/.cpanplus/5.24.0/build/xDU1WXpZbX/Task-BINGOS-Bootstrap-0.04/blib/arch"
    PERL5_CPANIDX_URL="http://cpan.mirror.local/cpanidx/"
    PERL5_CPANPLUS_HOME="/opt/perl-5.24.0"
    PERL5_CPANPLUS_IS_RUNNING="31140"
    PERL5_CPANPLUS_IS_VERSION="0.9160"
    PERL_EXTUTILS_AUTOINSTALL="--defaultdeps"
    PERL_INSTALL_QUIET="1"
    PERL_MM_USE_DEFAULT="1"
  @INC:
    /opt/perl-5.24.0/.cpanplus/5.24.0/build/xDU1WXpZbX/Task-BINGOS-Bootstrap-0.04/blib/lib
    /opt/perl-5.24.0/.cpanplus/5.24.0/build/xDU1WXpZbX/Task-BINGOS-Bootstrap-0.04/blib/arch
    /opt/perl-5.24.0/lib/site_perl/5.24.0/armv7l-linux
    /opt/perl-5.24.0/lib/site_perl/5.24.0
    /opt/perl-5.24.0/lib/5.24.0/armv7l-linux
    /opt/perl-5.24.0/lib/5.24.0
    .