Back
From: metabase:user:320bfe00-2aae-11df-837a-5e0a49663a4f
Subject: PASS Git-Flux-0.0_01 v5.13.6 GNU/Linux
Date: 2010-11-16T18:46:44Z
This distribution has been tested as part of the CPAN Testers
project, supporting the Perl programming language. See
http://wiki.cpantesters.org/ for more information or email
questions to cpan-testers-discuss@perl.org
--
Dear Sawyer X,
This is a computer-generated report for Git-Flux-0.0_01
on perl 5.13.6, created by CPAN-Reporter-1.1803.
Thank you for uploading your work to CPAN. Congratulations!
All tests were successful.
Sections of this report:
* Tester comments
* Program output
* Prerequisites
* Environment and other context
------------------------------
TESTER COMMENTS
------------------------------
Additional comments from tester:
this report is from an automated smoke testing program
and was not reviewed by a human for accuracy
------------------------------
PROGRAM OUTPUT
------------------------------
Output from './Build test':
# Testing Git::Flux 0.0_01, Perl 5.013006, /home/src/perl/repoperls/installed-perls/perl/v5.13.6-494-gfd0eba1/bin/perl
# Testing with Git::Repository 1.14
# Testing with Git 1.7.2.3
t/00-load.t ....... ok
t/manifest.t ...... skipped: Author tests not required for installation
t/pod-coverage.t .. ok
t/pod.t ........... ok
All tests successful.
Files=4, Tests=15, 0 wallclock secs ( 0.03 usr 0.00 sys + 0.23 cusr 0.05 csys = 0.31 CPU)
Result: PASS
------------------------------
PREREQUISITES
------------------------------
Prerequisite modules loaded:
requires:
Module Need Have
---------------- ----- --------
Git::Repository 0 1.14
List::MoreUtils 0 0.22
mixin 0 0.07
perl 5.006 5.013006
Term::ReadLine 0 1.07
Try::Tiny 0 0.07
build_requires:
Module Need Have
---------------- ----- --------
File::Temp 0 0.22
Test::Fatal 0 0.003
Test::More 0 0.97_01
Test::TinyMocker 0 0.03
configure_requires:
Module Need Have
---------------- ----- --------
Module::Build 0.36 0.3607
------------------------------
ENVIRONMENT AND OTHER CONTEXT
------------------------------
Environment variables:
AUTOMATED_TESTING = 1
LANG = en_US.UTF-8
PATH = /home/sand/bin:/usr/local/bin:/usr/bin:/bin:/usr/bin/X11:/usr/games:/usr/local/perl/bin:/usr/X11/bin:/sbin:/usr/sbin
PERL5LIB =
PERL5OPT =
PERL5_CPANPLUS_IS_RUNNING = 24168
PERL5_CPAN_IS_RUNNING = 24168
PERL_MM_USE_DEFAULT = 1
SHELL = /usr/bin/zsh
TERM = screen
Perl special variables (and OS-specific diagnostics, for MSWin32):
$^X = /home/src/perl/repoperls/installed-perls/perl/v5.13.6-494-gfd0eba1/bin/perl
$UID/$EUID = 1001 / 1001
$GID = 1001 1001
$EGID = 1001 1001
Perl module toolchain versions installed:
Module Have
------------------- -------
CPAN 1.94_62
Cwd 3.34
ExtUtils::CBuilder 0.2703
ExtUtils::Command 1.16
ExtUtils::Install 1.55
ExtUtils::MakeMaker 6.57_05
ExtUtils::Manifest 1.58
ExtUtils::ParseXS 2.2207
File::Spec 3.33
Module::Build 0.3607
Module::Signature 0.66
Test::Harness 3.22
Test::More 0.97_01
YAML 0.72
YAML::Syck 1.15
version 0.85
--
Summary of my perl5 (revision 5 version 13 subversion 6) configuration:
Commit id: fd0eba1997caf19767d67b8336533666df3fea90
Platform:
osname=linux, osvers=2.6.32-5-amd64, archname=x86_64-linux-thread-multi-ld
uname='linux k81 2.6.32-5-amd64 #1 smp sat oct 30 14:18:21 utc 2010 x86_64 gnulinux '
config_args='-Dprefix=/home/src/perl/repoperls/installed-perls/perl/v5.13.6-494-gfd0eba1 -Dinstallusrbinperl=n -Uversiononly -Dusedevel -des -Ui_db -Duseithreads -Duselongdouble'
hint=recommended, useposix=true, d_sigaction=define
useithreads=define, usemultiplicity=define
useperlio=define, d_sfio=undef, uselargefiles=define, usesocks=undef
use64bitint=define, use64bitall=define, uselongdouble=define
usemymalloc=n, bincompat5005=undef
Compiler:
cc='cc', ccflags ='-D_REENTRANT -D_GNU_SOURCE -fno-strict-aliasing -pipe -fstack-protector -I/usr/local/include -D_LARGEFILE_SOURCE -D_FILE_OFFSET_BITS=64',
optimize='-O2',
cppflags='-D_REENTRANT -D_GNU_SOURCE -fno-strict-aliasing -pipe -fstack-protector -I/usr/local/include'
ccversion='', gccversion='4.4.5', gccosandvers=''
intsize=4, longsize=8, ptrsize=8, doublesize=8, byteorder=12345678
d_longlong=define, longlongsize=8, d_longdbl=define, longdblsize=16
ivtype='long', ivsize=8, nvtype='long double', nvsize=16, Off_t='off_t', lseeksize=8
alignbytes=16, prototype=define
Linker and Libraries:
ld='cc', ldflags =' -fstack-protector -L/usr/local/lib'
libpth=/usr/local/lib /lib /usr/lib /lib64 /usr/lib64
libs=-lnsl -lgdbm -ldb -ldl -lm -lcrypt -lutil -lpthread -lc -lgdbm_compat
perllibs=-lnsl -ldl -lm -lcrypt -lutil -lpthread -lc
libc=/lib/libc-2.11.2.so, so=so, useshrplib=false, libperl=libperl.a
gnulibc_version='2.11.2'
Dynamic Linking:
dlsrc=dl_dlopen.xs, dlext=so, d_dlsymun=undef, ccdlflags='-Wl,-E'
cccdlflags='-fPIC', lddlflags='-shared -O2 -L/usr/local/lib -fstack-protector'
Characteristics of this binary (from libperl):
Compile-time options: MULTIPLICITY PERL_DONT_CREATE_GVSV
PERL_IMPLICIT_CONTEXT PERL_MALLOC_WRAP PERL_USE_DEVEL
USE_64_BIT_ALL USE_64_BIT_INT USE_ITHREADS
USE_LARGE_FILES USE_LONG_DOUBLE USE_PERLIO
USE_PERL_ATOF USE_REENTRANT_API
Built under linux
Compiled at Nov 12 2010 23:14:29
%ENV:
PERL5LIB=""
PERL5OPT=""
PERL5_CPANPLUS_IS_RUNNING="24168"
PERL5_CPAN_IS_RUNNING="24168"
PERL_MM_USE_DEFAULT="1"
@INC:
/home/src/perl/repoperls/installed-perls/perl/v5.13.6-494-gfd0eba1/lib/site_perl/5.13.6/x86_64-linux-thread-multi-ld
/home/src/perl/repoperls/installed-perls/perl/v5.13.6-494-gfd0eba1/lib/site_perl/5.13.6
/home/src/perl/repoperls/installed-perls/perl/v5.13.6-494-gfd0eba1/lib/5.13.6/x86_64-linux-thread-multi-ld
/home/src/perl/repoperls/installed-perls/perl/v5.13.6-494-gfd0eba1/lib/5.13.6
.