Module-CPANTS-Analyse v1.02 Perl 5 v5.40.3 darwin-thread-multi-2level
- Status
- Pass
- From
- aero
- Dist
-
Module-CPANTS-Analyse v1.02
- Platform
- Perl 5 v5.40.3 darwin-thread-multi-2level
- Date
- 2025-09-02 06:20:01
- ID
- db9fe650-87c4-11f0-bda0-fc3fbdc498d2
This distribution has been tested as part of the CPAN Testers
project, supporting the Perl programming language. See
http://wiki.cpantesters.org/ for more information or email
questions to cpan-testers-discuss@perl.org
--
Dear Kenichi Ishigaki,
This is a computer-generated report for Module-CPANTS-Analyse-1.02
on perl 5.40.3, created by CPAN-Reporter-1.2020.
Thank you for uploading your work to CPAN. Congratulations!
All tests were successful.
Sections of this report:
* Tester comments
* Program output
* Prerequisites
* Environment and other context
------------------------------
TESTER COMMENTS
------------------------------
Additional comments from tester:
none provided
------------------------------
PROGRAM OUTPUT
------------------------------
Output from '/usr/bin/make test':
PERL_DL_NONLAZY=1 "/Users/chadwick/CASE_SENSITIVE_APFS/perl5/perlbrew/perls/perl-5.40/bin/perl" "-MExtUtils::Command::MM" "-MTest::Harness" "-e" "undef *Test::Harness::Switches; test_harness(0, 'blib/lib', 'blib/arch')" t/*.t t/*/*.t
t/00_load.t .............. ok
t/05_testdir.t ........... ok
t/05_testfile.t .......... ok
t/analyse/manifest.t ..... ok
t/analyse/pod.t .......... ok
t/analyse/uses.t ......... ok
t/older_test_kwalitee.t .. ok
t/x_cpants.t ............. ok
All tests successful.
Files=8, Tests=54, 1 wallclock secs ( 0.01 usr 0.01 sys + 0.49 cusr 0.14 csys = 0.65 CPU)
Result: PASS
------------------------------
PREREQUISITES
------------------------------
Prerequisite modules loaded:
requires:
Module Need Have
--------------------------------- -------- --------
Archive::Any::Lite 0.06 0.11
Archive::Tar 1.76 3.04
Array::Diff 0.04 0.09
Class::Accessor 0.19 0.51
CPAN::Meta::Validator 2.133380 2.150010
CPAN::Meta::YAML 0.008 0.020
Data::Binary 0 0.01
File::Find::Object v0.2.1 0.3.9
JSON::PP 0 4.16
List::Util 1.33 1.70
Module::Find 0 0.17
Parse::Distname 0 0.05
perl 5.008001 5.040003
Perl::PrereqScanner::NotQuiteLite 0.9901 0.9917
Software::License 0.103012 0.104007
Text::Balanced 0 2.06
version 0.73 0.9930
build_requires:
Module Need Have
--------------------------------- -------- --------
Cwd 0 3.91
ExtUtils::MakeMaker 0 7.76
Test::FailWarnings 0 0.008
Test::More 0.88 1.302199
configure_requires:
Module Need Have
--------------------------------- -------- --------
ExtUtils::MakeMaker::CPANfile 0.09 0.09
perl 5.008001 5.040003
------------------------------
ENVIRONMENT AND OTHER CONTEXT
------------------------------
Environment variables:
LANG = en_US.UTF-8
LC_TERMINAL = iTerm2
LC_TERMINAL_VERSION = 3.5.14
NONINTERACTIVE_TESTING = 1
PATH = /Users/chadwick/perl5/perlbrew/bin:/Users/chadwick/perl5/perlbrew/perls/perl-5.40/bin:/Users/chadwick/.anyenv/envs/pyenv/shims:/Users/chadwick/.anyenv/envs/pyenv/bin:/Users/chadwick/.anyenv/envs/nodenv/shims:/Users/chadwick/CASE_SENSITIVE_APFS/.anyenv/envs/nodenv/bin:/Users/chadwick/.anyenv/envs/nodenv/bin:/Users/chadwick/.anyenv/envs/jenv/shims:/Users/chadwick/.anyenv/envs/jenv/bin:/Users/chadwick/.anyenv/envs/goenv/bin:/Users/chadwick/.anyenv/bin:/Users/chadwick/CASE_SENSITIVE_APFS/.rakubrew/versions/moar-2025.06.1/bin:/Users/chadwick/CASE_SENSITIVE_APFS/.rakubrew/versions/moar-2025.06.1/share/perl6/site/bin:/Users/chadwick/bin:/opt/homebrew/bin:/opt/homebrew/sbin:/usr/local/bin:/System/Cryptexes/App/usr/bin:/usr/bin:/bin:/usr/sbin:/sbin:/var/run/com.apple.security.cryptexd/codex.system/bootstrap/usr/local/bin:/var/run/com.apple.security.cryptexd/codex.system/bootstrap/usr/bin:/var/run/com.apple.security.cryptexd/codex.system/bootstrap/usr/appleinternal/bin:/opt/X11/bin:/Library/Apple/usr/bin:/Applications/Wireshark.app/Contents/MacOS:/Applications/iTerm.app/Contents/Resources/utilities:/Users/chadwick/.anyenv/envs/goenv/shims
PERL5LIB =
PERL5OPT =
PERL5_CPANPLUS_IS_RUNNING = 60680
PERL5_CPAN_IS_RUNNING = 60680
PERLBREW_HOME = /Users/chadwick/.perlbrew
PERLBREW_MANPATH = /Users/chadwick/perl5/perlbrew/perls/perl-5.40/man
PERLBREW_PATH = /Users/chadwick/perl5/perlbrew/bin:/Users/chadwick/perl5/perlbrew/perls/perl-5.40/bin
PERLBREW_PERL = perl-5.40
PERLBREW_ROOT = /Users/chadwick/perl5/perlbrew
PERLBREW_SHELLRC_VERSION = 1.02
PERLBREW_VERSION = 1.02
PERL_MM_USE_DEFAULT = 1
PERL_USE_UNSAFE_INC = 1
SHELL = /opt/homebrew/bin/bash
TERM = xterm-256color
TMPDIR = /var/folders/0b/s0v2fyn90xj6d39hmpp7hmzc0000gn/T/
Perl special variables (and OS-specific diagnostics, for MSWin32):
$^X = /Users/chadwick/CASE_SENSITIVE_APFS/perl5/perlbrew/perls/perl-5.40/bin/perl
$UID/$EUID = 501 / 501
$GID = 20 20 101 12 61 79 80 81 98 399 701 33 100 204 250 395 398
$EGID = 20 20 101 12 61 79 80 81 98 399 701 33 100 204 250 395 398
Perl module toolchain versions installed:
Module Have
------------------- --------
CPAN 2.38
CPAN::Meta 2.150010
Cwd 3.91
ExtUtils::CBuilder 0.280240
ExtUtils::Command 7.76
ExtUtils::Install 2.22
ExtUtils::MakeMaker 7.76
ExtUtils::Manifest 1.75
ExtUtils::ParseXS 3.58
File::Spec 3.91
JSON 4.10
JSON::PP 4.16
Module::Build 0.4234
Module::Signature n/a
Parse::CPAN::Meta 2.150010
Test2 1.302199
Test::Harness 3.48
Test::More 1.302199
YAML 1.31
YAML::Syck n/a
version 0.9930
--
Summary of my perl5 (revision 5 version 40 subversion 3) configuration:
Platform:
osname=darwin
osvers=24.6.0
archname=darwin-thread-multi-2level
uname='darwin chadwick-m4 24.6.0 darwin kernel version 24.6.0: mon jul 14 11:30:40 pdt 2025; root:xnu-11417.140.69~1release_arm64_t6041 arm64 '
config_args='-de -Dprefix=/Users/chadwick/perl5/perlbrew/perls/perl-5.40 -Dman1dir=none -Dman3dir=none -Dusethreads -Aeval:scriptdir=/Users/chadwick/perl5/perlbrew/perls/perl-5.40/bin'
hint=recommended
useposix=true
d_sigaction=define
useithreads=define
usemultiplicity=define
use64bitint=define
use64bitall=define
uselongdouble=undef
usemymalloc=n
default_inc_excludes_dot=define
Compiler:
cc='cc'
ccflags ='-fno-common -DPERL_DARWIN -mmacosx-version-min=15.6 -DNO_THREAD_SAFE_QUERYLOCALE -DNO_POSIX_2008_LOCALE -fno-strict-aliasing -pipe -fstack-protector-strong'
optimize='-O3'
cppflags='-fno-common -DPERL_DARWIN -mmacosx-version-min=15.6 -DNO_THREAD_SAFE_QUERYLOCALE -DNO_POSIX_2008_LOCALE -fno-strict-aliasing -pipe -fstack-protector-strong'
ccversion=''
gccversion='Apple LLVM 17.0.0 (clang-1700.0.13.5)'
gccosandvers=''
intsize=4
longsize=8
ptrsize=8
doublesize=8
byteorder=12345678
doublekind=3
d_longlong=define
longlongsize=8
d_longdbl=define
longdblsize=8
longdblkind=0
ivtype='long'
ivsize=8
nvtype='double'
nvsize=8
Off_t='off_t'
lseeksize=8
alignbytes=8
prototype=define
Linker and Libraries:
ld='cc'
ldflags =' -mmacosx-version-min=15.6 -fstack-protector-strong -L/usr/local/lib'
libpth=/Applications/Xcode.app/Contents/Developer/Toolchains/XcodeDefault.xctoolchain/usr/lib/clang/17/lib /Applications/Xcode.app/Contents/Developer/Platforms/MacOSX.platform/Developer/SDKs/MacOSX.sdk/usr/lib /Applications/Xcode.app/Contents/Developer/Toolchains/XcodeDefault.xctoolchain/usr/lib /usr/local/lib /usr/lib
libs=
perllibs=
libc=
so=dylib
useshrplib=false
libperl=libperl.a
gnulibc_version=''
Dynamic Linking:
dlsrc=dl_dlopen.xs
dlext=bundle
d_dlsymun=undef
ccdlflags=' '
cccdlflags=' '
lddlflags=' -mmacosx-version-min=15.6 -bundle -undefined dynamic_lookup -L/usr/local/lib -fstack-protector-strong'
Characteristics of this binary (from libperl):
Compile-time options:
HAS_LONG_DOUBLE
HAS_STRTOLD
HAS_TIMES
MULTIPLICITY
PERLIO_LAYERS
PERL_COPY_ON_WRITE
PERL_DONT_CREATE_GVSV
PERL_HASH_FUNC_SIPHASH13
PERL_HASH_USE_SBOX32
PERL_MALLOC_WRAP
PERL_OP_PARENT
PERL_PRESERVE_IVUV
PERL_USE_SAFE_PUTENV
USE_64_BIT_ALL
USE_64_BIT_INT
USE_ITHREADS
USE_LARGE_FILES
USE_LOCALE
USE_LOCALE_COLLATE
USE_LOCALE_CTYPE
USE_LOCALE_NUMERIC
USE_LOCALE_TIME
USE_PERLIO
USE_PERL_ATOF
USE_REENTRANT_API
Built under darwin
Compiled at Sep 2 2025 09:18:29
%ENV:
PERL5LIB=""
PERL5OPT=""
PERL5_CPANPLUS_IS_RUNNING="60680"
PERL5_CPAN_IS_RUNNING="60680"
PERLBREW_HOME="/Users/chadwick/.perlbrew"
PERLBREW_MANPATH="/Users/chadwick/perl5/perlbrew/perls/perl-5.40/man"
PERLBREW_PATH="/Users/chadwick/perl5/perlbrew/bin:/Users/chadwick/perl5/perlbrew/perls/perl-5.40/bin"
PERLBREW_PERL="perl-5.40"
PERLBREW_ROOT="/Users/chadwick/perl5/perlbrew"
PERLBREW_SHELLRC_VERSION="1.02"
PERLBREW_VERSION="1.02"
PERL_MM_USE_DEFAULT="1"
PERL_USE_UNSAFE_INC="1"
@INC:
/Users/chadwick/perl5/perlbrew/perls/perl-5.40/lib/site_perl/5.40.3/darwin-thread-multi-2level
/Users/chadwick/perl5/perlbrew/perls/perl-5.40/lib/site_perl/5.40.3
/Users/chadwick/perl5/perlbrew/perls/perl-5.40/lib/5.40.3/darwin-thread-multi-2level
/Users/chadwick/perl5/perlbrew/perls/perl-5.40/lib/5.40.3
.