JavaScript-Duktape v2.5.0 Perl 5 v5.20.0 amd64-freebsd

Status
Pass
From
Slaven Rezić (SREZIC)
Dist
JavaScript-Duktape v2.5.0
Platform
Perl 5 v5.20.0 amd64-freebsd
Date
2018-09-04 11:22:50
ID
dba0bffe-b034-11e8-b3c2-c43c4dc84a4c
This distribution has been tested as part of the CPAN Testers
project, supporting the Perl programming language.  See
http://wiki.cpantesters.org/ for more information or email
questions to cpan-testers-discuss@perl.org


--
Dear Mahmoud A. Mehyar,

This is a computer-generated report for JavaScript-Duktape-2.5.0
on perl 5.20.0, created by CPAN-Reporter-1.2018.

Thank you for uploading your work to CPAN.  Congratulations!
All tests were successful.

Sections of this report:

    * Tester comments
    * Program output
    * Prerequisites
    * Environment and other context

------------------------------
TESTER COMMENTS
------------------------------

Additional comments from tester:

none provided

------------------------------
PROGRAM OUTPUT
------------------------------

Output from '/usr/bin/make test':

PERL_DL_NONLAZY=1 "/usr/perl5.20.0/bin/perl" "-MExtUtils::Command::MM" "-MTest::Harness" "-e" "undef *Test::Harness::Switches; test_harness(0, 'blib/lib', 'blib/arch')" t/bool.t t/buffer.t t/circular-push.t t/circular-to-perl.t t/circular.t t/deep-objects.t t/dll.t t/eval-function.t t/json.t t/nested.t t/number-or-string.t t/perl-data.t t/pointer.t t/prop.t t/safe-call.t t/trycatch.t t/typescript.t t/uncaught.t t/undefined.t t/use.t t/utf8.t t/api/base64.t t/api/c-constructor.t t/api/call-prop.t t/api/charcodeat.t t/api/check-type.t t/api/compile.t t/api/dev-cfunc-name.t t/api/dup.t t/api/eval-string.t t/api/hex.t t/api/internal-key-access.t t/api/internal-property-basics.t t/api/multithread.t t/api/pcall-method.t t/api/pcall-perl-function.t t/api/pcall-prop.t t/api/pcall.t t/api/pcompile-nofile.t t/api/push_this.t t/api/require-lstring.t t/api/safe-call.t t/api/safe-to-string.t t/api/symbol-getownpropertysymbols.t t/objects/01.t t/objects/02.t t/objects/03.t t/objects/buffer.t t/objects/string.t t/objects/this.t t/sandbox/00-memory.t t/sandbox/01-memory.t t/sandbox/02-memory.t t/sandbox/bubble-timeout.t t/sandbox/check.t t/sandbox/timeout.t
defined(@array) is deprecated at /usr/perl5.20.0/lib/site_perl/5.20.0/XML/XSH/Completion.pm line 111.
	(Maybe you should just omit the defined()?)
t/api/base64.t ........................ ok
t/api/c-constructor.t ................. ok
t/api/call-prop.t ..................... ok
t/api/charcodeat.t .................... ok
t/api/check-type.t .................... ok
t/api/compile.t ....................... ok
t/api/dev-cfunc-name.t ................ ok
t/api/dup.t ........................... ok
t/api/eval-string.t ................... ok
t/api/hex.t ........................... ok
t/api/internal-key-access.t ........... ok
t/api/internal-property-basics.t ...... ok
t/api/multithread.t ................... ok
t/api/pcall-method.t .................. ok
t/api/pcall-perl-function.t ........... ok
t/api/pcall-prop.t .................... ok
t/api/pcall.t ......................... ok
t/api/pcompile-nofile.t ............... skipped: duktape v2.0 does not support file/io functions
# skip -- #skip - this binding: type=8, value='DEADBEEF'
t/api/push_this.t ..................... ok
t/api/require-lstring.t ............... ok
t/api/safe-call.t ..................... ok
t/api/safe-to-string.t ................ ok
t/api/symbol-getownpropertysymbols.t .. ok
t/bool.t .............................. ok
t/buffer.t ............................ ok
t/circular-push.t ..................... ok
t/circular-to-perl.t .................. ok
t/circular.t .......................... ok
t/deep-objects.t ...................... ok
t/dll.t ............................... skipped: DEV test
t/eval-function.t ..................... ok
t/json.t .............................. ok
CAUGHT ERR: Error: oh boy! at t/nested.t line 18.
t/nested.t ............................ ok
t/number-or-string.t .................. ok
t/objects/01.t ........................ ok
t/objects/02.t ........................ ok
t/objects/03.t ........................ ok
t/objects/buffer.t .................... ok
t/objects/string.t .................... ok
t/objects/this.t ...................... ok
t/perl-data.t ......................... ok
t/pointer.t ........................... ok
t/prop.t .............................. ok
t/safe-call.t ......................... ok
t/sandbox/00-memory.t ................. ok
t/sandbox/01-memory.t ................. ok
t/sandbox/02-memory.t ................. ok
t/sandbox/bubble-timeout.t ............ ok
t/sandbox/check.t ..................... ok
t/sandbox/timeout.t ................... ok
t/trycatch.t .......................... ok
t/typescript.t ........................ ok
t/uncaught.t .......................... ok
t/undefined.t ......................... ok
t/use.t ............................... ok
t/utf8.t .............................. ok
All tests successful.
Files=56, Tests=773, 29 wallclock secs ( 0.06 usr  0.19 sys + 22.27 cusr  2.59 csys = 25.11 CPU)
Result: PASS

------------------------------
PREREQUISITES
------------------------------

Prerequisite modules loaded:

requires:

    Module              Need  Have 
    ------------------- ----- -----
    Inline              0.80  0.80 
    Inline::C           0.75  0.78 

build_requires:

    Module              Need  Have 
    ------------------- ----- -----
    ExtUtils::MakeMaker 0     7.34 
    Test::Fatal         0.014 0.014
    Try::Tiny           0.24  0.30 

configure_requires:

    Module              Need  Have 
    ------------------- ----- -----
    ExtUtils::MakeMaker 6.63  7.34 
    Inline::MakeMaker   0.51  0.80 


------------------------------
ENVIRONMENT AND OTHER CONTEXT
------------------------------

Environment variables:

    LC_ALL = de_DE.ISO8859-1
    PATH = /usr/local/bin:/usr/bin:/bin:/usr/local/sbin:/usr/sbin:/sbin:/home/cpansand/bin/freebsd9.3:/home/cpansand/bin/sh:/home/cpansand/bin:/usr/games:/home/cpansand/devel:/usr/home/eserte/src/srezic-misc/scripts
    PERL5LIB = 
    PERL5OPT = 
    PERL5_CPANPLUS_IS_RUNNING = 33632
    PERL5_CPAN_IS_RUNNING = 33632
    PERL5_CPAN_IS_RUNNING_IN_RECURSION = 33590,33632
    PERLDOC = -MPod::Perldoc::ToTextOverstrike
    PERL_BATCH = yes
    PERL_CANARY_STABILITY_NOPROMPT = 1
    PERL_CPAN_REPORTER_CONFIG = /var/tmp/cpansmoker-1023/2018090413/cpanreporter_000_config.ini
    PERL_EXTUTILS_AUTOINSTALL = --defaultdeps
    SHELL = /usr/local/bin/zsh
    TERM = screen
    TMPDIR = /var/tmp/cpansmoker-1023/2018090413

Perl special variables (and OS-specific diagnostics, for MSWin32):

    $^X = /usr/perl5.20.0/bin/perl
    $UID/$EUID = 1023 / 1023
    $GID = 1023 1023
    $EGID = 1023 1023

Perl module toolchain versions installed:

    Module              Have    
    ------------------- --------
    CPAN                2.16    
    CPAN::Meta          2.150010
    Cwd                 3.74    
    ExtUtils::CBuilder  0.280230
    ExtUtils::Command   7.34    
    ExtUtils::Install   2.14    
    ExtUtils::MakeMaker 7.34    
    ExtUtils::Manifest  1.71    
    ExtUtils::ParseXS   3.35    
    File::Spec          3.74    
    JSON                2.97001 
    JSON::PP            2.97001 
    Module::Build       0.4224  
    Module::Signature   0.81    
    Parse::CPAN::Meta   2.150010
    Test::Harness       3.41    
    Test::More          1.302140
    YAML                1.24    
    YAML::Syck          1.30    
    version             0.9924  


--

Summary of my perl5 (revision 5 version 20 subversion 0) configuration:
   
  Platform:
    osname=freebsd, osvers=9.2-release-p4, archname=amd64-freebsd
    uname='freebsd cvrsnica-freebsd-92 9.2-release-p4 freebsd 9.2-release-p4 #0: tue apr 8 18:08:22 utc 2014 root@amd64-builder.daemonology.net:usrobjusrsrcsysgeneric amd64 '
    config_args='-ds -e -Dprefix=/usr/perl5.20.0'
    hint=recommended, useposix=true, d_sigaction=define
    useithreads=undef, usemultiplicity=undef
    use64bitint=define, use64bitall=define, uselongdouble=undef
    usemymalloc=n, bincompat5005=undef
  Compiler:
    cc='cc', ccflags ='-DHAS_FPSETMASK -DHAS_FLOATINGPOINT_H -fno-strict-aliasing -pipe -fstack-protector -I/usr/local/include',
    optimize='-O',
    cppflags='-DHAS_FPSETMASK -DHAS_FLOATINGPOINT_H -fno-strict-aliasing -pipe -fstack-protector -I/usr/local/include'
    ccversion='', gccversion='4.2.1 20070831 patched [FreeBSD]', gccosandvers=''
    intsize=4, longsize=8, ptrsize=8, doublesize=8, byteorder=12345678
    d_longlong=define, longlongsize=8, d_longdbl=define, longdblsize=16
    ivtype='long', ivsize=8, nvtype='double', nvsize=8, Off_t='off_t', lseeksize=8
    alignbytes=8, prototype=define
  Linker and Libraries:
    ld='cc', ldflags ='-Wl,-E  -fstack-protector -L/usr/local/lib'
    libpth=/usr/lib /usr/local/lib /usr/include/gcc/4.2 /usr/lib
    libs=-lgdbm -lm -lcrypt -lutil -lc
    perllibs=-lm -lcrypt -lutil -lc
    libc=, so=so, useshrplib=false, libperl=libperl.a
    gnulibc_version=''
  Dynamic Linking:
    dlsrc=dl_dlopen.xs, dlext=so, d_dlsymun=undef, ccdlflags=' '
    cccdlflags='-DPIC -fPIC', lddlflags='-shared  -L/usr/local/lib -fstack-protector'


Characteristics of this binary (from libperl): 
  Compile-time options: HAS_TIMES PERLIO_LAYERS PERL_DONT_CREATE_GVSV
                        PERL_HASH_FUNC_ONE_AT_A_TIME_HARD PERL_MALLOC_WRAP
                        PERL_NEW_COPY_ON_WRITE PERL_PRESERVE_IVUV
                        USE_64_BIT_ALL USE_64_BIT_INT USE_LARGE_FILES
                        USE_LOCALE USE_LOCALE_COLLATE USE_LOCALE_CTYPE
                        USE_LOCALE_NUMERIC USE_PERLIO USE_PERL_ATOF
  Built under freebsd
  Compiled at May 27 2014 13:55:26
  %ENV:
    PERL5LIB=""
    PERL5OPT=""
    PERL5_CPANPLUS_IS_RUNNING="33632"
    PERL5_CPAN_IS_RUNNING="33632"
    PERL5_CPAN_IS_RUNNING_IN_RECURSION="33590,33632"
    PERLDOC="-MPod::Perldoc::ToTextOverstrike"
    PERL_BATCH="yes"
    PERL_CANARY_STABILITY_NOPROMPT="1"
    PERL_CPAN_REPORTER_CONFIG="/var/tmp/cpansmoker-1023/2018090413/cpanreporter_000_config.ini"
    PERL_EXTUTILS_AUTOINSTALL="--defaultdeps"
  @INC:
    /usr/perl5.20.0/lib/site_perl/5.20.0/amd64-freebsd
    /usr/perl5.20.0/lib/site_perl/5.20.0
    /usr/perl5.20.0/lib/5.20.0/amd64-freebsd
    /usr/perl5.20.0/lib/5.20.0
    .