Object-InsideOut v4.04 Perl 5 v5.24.1 x86_64-linux-thread-multi

Status
Pass
From
Nigel Horne
Dist
Object-InsideOut v4.04
Platform
Perl 5 v5.24.1 x86_64-linux-thread-multi
Date
2017-11-13 23:46:24
ID
dbb7b81c-c8cc-11e7-bb1c-ab90ec1d2778
This distribution has been tested as part of the CPAN Testers
project, supporting the Perl programming language.  See
http://wiki.cpantesters.org/ for more information or email
questions to cpan-testers-discuss@perl.org


--
Dear Jerry D. Hedden,

This is a computer-generated report for Object-InsideOut-4.04
on perl 5.24.1, created by CPAN-Reporter-1.2018.

Thank you for uploading your work to CPAN.  Congratulations!
All tests were successful.

Sections of this report:

    * Tester comments
    * Program output
    * Prerequisites
    * Environment and other context

------------------------------
TESTER COMMENTS
------------------------------

Additional comments from tester:

this report is from an automated smoke testing program
and was not reviewed by a human for accuracy

------------------------------
PROGRAM OUTPUT
------------------------------

Output from './Build test':

# Testing Object::InsideOut 4.04
t/00-load.t ................. ok
t/01-basic.t ................ ok
t/01a-basic.t ............... ok
t/02-auto.t ................. ok
t/05-require.t .............. ok
t/05a-require.t ............. ok
t/06-id.t ................... ok
t/07-dump.t ................. ok
t/07a-dump.t ................ ok
t/03-threads.t .............. ok
t/03a-threads.t ............. ok
t/08-access.t ............... ok
t/09-chained.t .............. ok
t/04-shared.t ............... ok
t/09a-chained.t ............. ok
t/04a-shared.t .............. ok
t/09b-chained.t ............. ok
t/10a-cumulative.t .......... ok
t/10-cumulative.t ........... ok
t/10b-cumulative.t .......... ok
t/12-super.t ................ ok
t/11-coercion.t ............. ok
t/13-pump.t ................. ok
t/14-auto_cc.t .............. ok
t/16-return.t ............... ok
t/15-type.t ................. ok
t/17-dynamic.t .............. ok
t/15a-type.t ................ ok
t/18-inherit.t .............. ok
t/18a-inherit.t ............. ok
t/28-lvalue.t ............... skipped: Needs Want v0.12 or later
t/29-non_lvalue.t ........... skipped: Needs Want v0.12 or later
t/19-storable.t ............. ok
t/20-clone.t ................ ok
t/23-weak.t ................. ok
t/22-import.t ............... ok
t/21-import.t ............... ok
t/34-secure.t ............... skipped: Math::Random::MT::Auto not available
t/34a-secure.t .............. skipped: Math::Random::MT::Auto not available
t/24-preproc.t .............. ok
t/25-access.t ............... ok
t/27-exception.t ............ ok
t/26-preinit.t .............. ok
t/39-fork.t ................. skipped: Not using pseudo-forks
t/30-all.t .................. ok
t/31-attr.t ................. ok
t/33-hash_only.t ............ ok
t/32-meta.t ................. ok
t/35-add_class.t ............ ok
t/37-class_perm.t ........... ok
t/36-require.t .............. ok
t/38-combined.t ............. ok
t/41-def.t .................. ok
t/40-normalize.t ............ ok
t/45-unused.t ............... ok
t/43-overload.t ............. ok
t/49-delegators.t ........... ok
t/44-data.t ................. ok
t/46-singleton.t ............ ok
t/49a-delegators-non-OIO.t .. ok
t/46a-singleton.t ........... ok
t/42-sh_obj.t ............... ok
t/48-not_shared.t ........... ok
t/99-pod.t .................. skipped: Module maintainer tests
t/50-active_defs.t .......... ok
t/51-readonly.t ............. ok
t/47-sh_reuse.t ............. ok
All tests successful.
Files=67, Tests=921,  0 wallclock secs ( 0.17 usr  0.06 sys +  4.39 cusr  0.82 csys =  5.44 CPU)
Result: PASS

------------------------------
PREREQUISITES
------------------------------

Prerequisite modules loaded:

requires:

    Module              Need   Have    
    ------------------- ------ --------
    attributes          0      0.27    
    B                   0      1.62    
    Config              0      5.024001
    Data::Dumper        0      2.161   
    Exception::Class    1.22   1.42    
    overload            0      1.26    
    perl                v5.6.0 5.024001
    Scalar::Util        1.47   1.47    
    strict              0      1.11    
    warnings            0      1.36    

build_requires:

    Module              Need   Have    
    ------------------- ------ --------
    Test::More          0.5    1.302096

configure_requires:

    Module              Need   Have    
    ------------------- ------ --------
    ExtUtils::MakeMaker 0      7.30    


------------------------------
ENVIRONMENT AND OTHER CONTEXT
------------------------------

Environment variables:

    AUTOMATED_TESTING = 1
    HARNESS_OPTIONS = j10
    LANG = en_GB.UTF-8
    PATH = /home/njh/perl5/perlbrew/bin:/home/njh/perl5/perlbrew/perls/perl-5.24.1/bin:/home/njh/perl5/perlbrew/bin:/usr/bin:/bin:src/njh/smoker/bin
    PERL5LIB = /tmp/build/List-AllUtils-0.14-8/blib/arch:/tmp/build/List-AllUtils-0.14-8/blib/lib:/tmp/build/List-UtilsBy-0.10-8/blib/arch:/tmp/build/List-UtilsBy-0.10-8/blib/lib:/tmp/build/Data-Dump-Streamer-2.40-20/blib/arch:/tmp/build/Data-Dump-Streamer-2.40-20/blib/lib:/tmp/build/AnyEvent-Open3-Simple-0.86-20/blib/arch:/tmp/build/AnyEvent-Open3-Simple-0.86-20/blib/lib:/tmp/build/AnyEvent-7.14-19/blib/arch:/tmp/build/AnyEvent-7.14-19/blib/lib:/tmp/build/Devel-Chitin-0.12-20/blib/arch:/tmp/build/Devel-Chitin-0.12-20/blib/lib:/tmp/build/Devel-Callsite-0.10-20/blib/arch:/tmp/build/Devel-Callsite-0.10-20/blib/lib
    PERL5OPT = 
    PERL5_CPANPLUS_IS_RUNNING = 17049
    PERL5_CPAN_IS_RUNNING = 17049
    PERLBREW_BASHRC_VERSION = 0.80
    PERLBREW_LIB = 
    PERLBREW_MANPATH = /home/njh/perl5/perlbrew/perls/perl-5.24.1/man
    PERLBREW_PATH = /home/njh/perl5/perlbrew/bin:/home/njh/perl5/perlbrew/perls/perl-5.24.1/bin
    PERLBREW_PERL = perl-5.24.1
    PERLBREW_ROOT = /home/njh/perl5/perlbrew
    PERLBREW_VERSION = 0.80
    PERL_LOCAL_LIB_ROOT = 
    SHELL = /bin/sh

Perl special variables (and OS-specific diagnostics, for MSWin32):

    $^X = /home/njh/perl5/perlbrew/perls/perl-5.24.1/bin/perl5.24.1
    $UID/$EUID = 1000 / 1000
    $GID = 1000 4 24 25 29 30 44 46 107 112 118 1000
    $EGID = 1000 4 24 25 29 30 44 46 107 112 118 1000

Perl module toolchain versions installed:

    Module              Have    
    ------------------- --------
    CPAN                2.16    
    CPAN::Meta          2.150010
    Cwd                 3.63_01 
    ExtUtils::CBuilder  0.280225
    ExtUtils::Command   7.30    
    ExtUtils::Install   2.06    
    ExtUtils::MakeMaker 7.30    
    ExtUtils::Manifest  1.70    
    ExtUtils::ParseXS   3.31    
    File::Spec          3.63_01 
    JSON                2.90    
    JSON::PP            2.27400 
    Module::Build       0.4220  
    Module::Signature   n/a     
    Parse::CPAN::Meta   2.150010
    Test::Harness       3.36_01 
    Test::More          1.302096
    YAML                1.24    
    YAML::Syck          1.30    
    version             0.9916  


--

Summary of my perl5 (revision 5 version 24 subversion 1) configuration:
   
  Platform:
    osname=linux, osvers=4.8.0-2-amd64, archname=x86_64-linux-thread-multi
    uname='linux microcenter 4.8.0-2-amd64 #1 smp debian 4.8.15-2 (2017-01-04) x86_64 gnulinux '
    config_args='-de -Dprefix=/home/njh/perl5/perlbrew/perls/perl-5.24.1 -Duseithreads -Dusemultiplicity -Dusedevel -Accflags=-O2 -W -Wformat=2 -Wswitch -Wshadow -Wwrite-strings -Wuninitialized -Wall -pipe -mtune=native -march=native -fomit-frame-pointer -msse2 -msse -mmmx -mfpmath=sse -D_FORTIFY_SOURCE=2 -Wpointer-arith -Wstrict-prototypes -fstack-protector -Wstack-protector -Wextra -Wbad-function-cast -Wcast-align -Wcast-qual -Wdisabled-optimization -Wendif-labels -Wfloat-equal -Wformat-nonliteral -Winline -Wmissing-declarations -Wmissing-prototypes -Wnested-externs -Wpointer-arith -Wundef -Wformat-security -ftree-vectorize -fdiagnostics-color=auto -Aeval:scriptdir=/home/njh/perl5/perlbrew/perls/perl-5.24.1/bin'
    hint=recommended, useposix=true, d_sigaction=define
    useithreads=define, usemultiplicity=define
    use64bitint=define, use64bitall=define, uselongdouble=undef
    usemymalloc=n, bincompat5005=undef
  Compiler:
    cc='cc', ccflags ='-D_REENTRANT -D_GNU_SOURCE -O2 -W -Wformat=2 -Wswitch -Wshadow -Wwrite-strings -Wuninitialized -Wall -pipe -mtune=native -march=native -fomit-frame-pointer -msse2 -msse -mmmx -mfpmath=sse -D_FORTIFY_SOURCE=2 -Wpointer-arith -Wstrict-prototypes -fstack-protector -Wstack-protector -Wextra -Wbad-function-cast -Wcast-align -Wcast-qual -Wdisabled-optimization -Wendif-labels -Wfloat-equal -Wformat-nonliteral -Winline -Wmissing-declarations -Wmissing-prototypes -Wnested-externs -Wpointer-arith -Wundef -Wformat-security -ftree-vectorize -fdiagnostics-color=auto -fwrapv -fno-strict-aliasing -fstack-protector-strong -I/usr/local/include -D_LARGEFILE_SOURCE -D_FILE_OFFSET_BITS=64',
    optimize='-O2',
    cppflags='-D_REENTRANT -D_GNU_SOURCE -O2 -W -Wformat=2 -Wswitch -Wshadow -Wwrite-strings -Wuninitialized -Wall -pipe -mtune=native -march=native -fomit-frame-pointer -msse2 -msse -mmmx -mfpmath=sse -D_FORTIFY_SOURCE=2 -Wpointer-arith -Wstrict-prototypes -fstack-protector -Wstack-protector -Wextra -Wbad-function-cast -Wcast-align -Wcast-qual -Wdisabled-optimization -Wendif-labels -Wfloat-equal -Wformat-nonliteral -Winline -Wmissing-declarations -Wmissing-prototypes -Wnested-externs -Wpointer-arith -Wundef -Wformat-security -ftree-vectorize -fdiagnostics-color=auto -fwrapv -fno-strict-aliasing -fstack-protector-strong -I/usr/local/include'
    ccversion='', gccversion='6.2.1 20161124', gccosandvers=''
    intsize=4, longsize=8, ptrsize=8, doublesize=8, byteorder=12345678, doublekind=3
    d_longlong=define, longlongsize=8, d_longdbl=define, longdblsize=16, longdblkind=3
    ivtype='long', ivsize=8, nvtype='double', nvsize=8, Off_t='off_t', lseeksize=8
    alignbytes=8, prototype=define
  Linker and Libraries:
    ld='cc', ldflags =' -fstack-protector-strong -L/usr/local/lib'
    libpth=/usr/local/lib /usr/lib/gcc/x86_64-linux-gnu/6/include-fixed /usr/include/x86_64-linux-gnu /usr/lib /lib/x86_64-linux-gnu /lib/../lib /usr/lib/x86_64-linux-gnu /usr/lib/../lib /lib
    libs=-lpthread -lnsl -lgdbm -ldb -ldl -lm -lcrypt -lutil -lc -lgdbm_compat
    perllibs=-lpthread -lnsl -ldl -lm -lcrypt -lutil -lc
    libc=libc-2.24.so, so=so, useshrplib=false, libperl=libperl.a
    gnulibc_version='2.24'
  Dynamic Linking:
    dlsrc=dl_dlopen.xs, dlext=so, d_dlsymun=undef, ccdlflags='-Wl,-E'
    cccdlflags='-fPIC', lddlflags='-shared -O2 -L/usr/local/lib -fstack-protector-strong'


Characteristics of this binary (from libperl): 
  Compile-time options: HAS_TIMES MULTIPLICITY PERLIO_LAYERS
                        PERL_COPY_ON_WRITE PERL_DONT_CREATE_GVSV
                        PERL_HASH_FUNC_ONE_AT_A_TIME_HARD
                        PERL_IMPLICIT_CONTEXT PERL_MALLOC_WRAP
                        PERL_PRESERVE_IVUV PERL_USE_DEVEL USE_64_BIT_ALL
                        USE_64_BIT_INT USE_ITHREADS USE_LARGE_FILES
                        USE_LOCALE USE_LOCALE_COLLATE USE_LOCALE_CTYPE
                        USE_LOCALE_NUMERIC USE_LOCALE_TIME USE_PERLIO
                        USE_PERL_ATOF USE_REENTRANT_API
  Built under linux
  Compiled at Jan 19 2017 07:53:59
  %ENV:
    PERL5LIB="/tmp/build/List-AllUtils-0.14-8/blib/arch:/tmp/build/List-AllUtils-0.14-8/blib/lib:/tmp/build/List-UtilsBy-0.10-8/blib/arch:/tmp/build/List-UtilsBy-0.10-8/blib/lib:/tmp/build/Data-Dump-Streamer-2.40-20/blib/arch:/tmp/build/Data-Dump-Streamer-2.40-20/blib/lib:/tmp/build/AnyEvent-Open3-Simple-0.86-20/blib/arch:/tmp/build/AnyEvent-Open3-Simple-0.86-20/blib/lib:/tmp/build/AnyEvent-7.14-19/blib/arch:/tmp/build/AnyEvent-7.14-19/blib/lib:/tmp/build/Devel-Chitin-0.12-20/blib/arch:/tmp/build/Devel-Chitin-0.12-20/blib/lib:/tmp/build/Devel-Callsite-0.10-20/blib/arch:/tmp/build/Devel-Callsite-0.10-20/blib/lib"
    PERL5OPT=""
    PERL5_CPANPLUS_IS_RUNNING="17049"
    PERL5_CPAN_IS_RUNNING="17049"
    PERLBREW_BASHRC_VERSION="0.80"
    PERLBREW_LIB=""
    PERLBREW_MANPATH="/home/njh/perl5/perlbrew/perls/perl-5.24.1/man"
    PERLBREW_PATH="/home/njh/perl5/perlbrew/bin:/home/njh/perl5/perlbrew/perls/perl-5.24.1/bin"
    PERLBREW_PERL="perl-5.24.1"
    PERLBREW_ROOT="/home/njh/perl5/perlbrew"
    PERLBREW_VERSION="0.80"
    PERL_LOCAL_LIB_ROOT=""
  @INC:
    /tmp/build/List-AllUtils-0.14-8/blib/arch
    /tmp/build/List-AllUtils-0.14-8/blib/lib
    /tmp/build/List-UtilsBy-0.10-8/blib/arch
    /tmp/build/List-UtilsBy-0.10-8/blib/lib
    /tmp/build/Data-Dump-Streamer-2.40-20/blib/arch
    /tmp/build/Data-Dump-Streamer-2.40-20/blib/lib
    /tmp/build/AnyEvent-Open3-Simple-0.86-20/blib/arch
    /tmp/build/AnyEvent-Open3-Simple-0.86-20/blib/lib
    /tmp/build/AnyEvent-7.14-19/blib/arch
    /tmp/build/AnyEvent-7.14-19/blib/lib
    /tmp/build/Devel-Chitin-0.12-20/blib/arch
    /tmp/build/Devel-Chitin-0.12-20/blib/lib
    /tmp/build/Devel-Callsite-0.10-20/blib/arch
    /tmp/build/Devel-Callsite-0.10-20/blib/lib
    /home/njh/perl5/perlbrew/perls/perl-5.24.1/lib/site_perl/5.24.1/x86_64-linux-thread-multi
    /home/njh/perl5/perlbrew/perls/perl-5.24.1/lib/site_perl/5.24.1
    /home/njh/perl5/perlbrew/perls/perl-5.24.1/lib/5.24.1/x86_64-linux-thread-multi
    /home/njh/perl5/perlbrew/perls/perl-5.24.1/lib/5.24.1
    .