Report for String-Approx-3.27

Back
From: metabase:user:32fdd03a-0d86-11e4-a842-a1ab2d1fa601
Subject: PASS String-Approx-3.27 v5.22.0 GNU/Linux
Date: 2015-08-07T12:00:12Z

This distribution has been tested as part of the CPAN Testers
project, supporting the Perl programming language.  See
http://wiki.cpantesters.org/ for more information or email
questions to cpan-testers-discuss@perl.org


--
Dear Jarkko Hietaniemi,

This is a computer-generated report for String-Approx-3.27
on perl 5.22.0, created by CPAN-Reporter-1.2014.

Thank you for uploading your work to CPAN.  Congratulations!
All tests were successful.

Sections of this report:

    * Tester comments
    * Program output
    * Prerequisites
    * Environment and other context

------------------------------
TESTER COMMENTS
------------------------------

Additional comments from tester:

none provided

------------------------------
PROGRAM OUTPUT
------------------------------

Output from '/usr/bin/make test':

Running Mkbootstrap for String::Approx ()
chmod 644 "Approx.bs"
PERL_DL_NONLAZY=1 "/usr/local/perlbrew/perl5/perls/perl-5.22.0/bin/perl" "-MExtUtils::Command::MM" "-MTest::Harness" "-e" "undef *Test::Harness::Switches; test_harness(0, 'blib/lib', 'blib/arch')" t/*.t
t/adist.t .... ok
t/aindex.t ... ok
t/amatch.t ... ok
t/arindex.t .. ok
t/aslice.t ... ok
t/asubst.t ... ok
t/user.t ..... ok
All tests successful.
Files=7, Tests=140,  1 wallclock secs ( 0.06 usr  0.04 sys +  0.21 cusr  0.07 csys =  0.38 CPU)
Result: PASS

------------------------------
PREREQUISITES
------------------------------

Prerequisite modules loaded:

requires:

    Module              Need Have    
    ------------------- ---- --------
    Test::More          0    1.001014

build_requires:

    Module              Need Have    
    ------------------- ---- --------
    ExtUtils::MakeMaker 0    7.04_01 

configure_requires:

    Module              Need Have    
    ------------------- ---- --------
    ExtUtils::MakeMaker 0    7.04_01 


------------------------------
ENVIRONMENT AND OTHER CONTEXT
------------------------------

Environment variables:

    LANG = en_GB.UTF-8
    LC_ALL = en_GB.UTF-8
    NONINTERACTIVE_TESTING = 1
    PATH = /usr/local/perlbrew/perl5/bin:/usr/local/perlbrew/perl5/perls/perl-5.22.0/bin:/usr/local/sbin:/usr/local/bin:/usr/sbin:/usr/bin:/sbin:/bin:/opt/bin:/usr/x86_64-pc-linux-gnu/gcc-bin/4.8.4
    PERL5LIB = 
    PERL5OPT = 
    PERL5_CPANPLUS_IS_RUNNING = 11036
    PERL5_CPAN_IS_RUNNING = 11036
    PERLBREW_BASHRC_VERSION = 0.67
    PERLBREW_HOME = /root/.perlbrew
    PERLBREW_MANPATH = /usr/local/perlbrew/perl5/perls/perl-5.22.0/man
    PERLBREW_PATH = /usr/local/perlbrew/perl5/bin:/usr/local/perlbrew/perl5/perls/perl-5.22.0/bin
    PERLBREW_PERL = perl-5.22.0
    PERLBREW_ROOT = /usr/local/perlbrew/perl5
    PERLBREW_VERSION = 0.73
    PERL_MM_USE_DEFAULT = 1
    SHELL = /bin/bash
    TERM = xterm

Perl special variables (and OS-specific diagnostics, for MSWin32):

    $^X = /usr/local/perlbrew/perl5/perls/perl-5.22.0/bin/perl
    $UID/$EUID = 0 / 0
    $GID = 0 0 1 2 3 4 6 10 11 20 26 27
    $EGID = 0 0 1 2 3 4 6 10 11 20 26 27

Perl module toolchain versions installed:

    Module              Have    
    ------------------- --------
    CPAN                2.11    
    CPAN::Meta          2.150005
    Cwd                 3.56    
    ExtUtils::CBuilder  0.280221
    ExtUtils::Command   1.20    
    ExtUtils::Install   2.04    
    ExtUtils::MakeMaker 7.04_01 
    ExtUtils::Manifest  1.70    
    ExtUtils::ParseXS   3.28    
    File::Spec          3.56    
    JSON                2.90    
    JSON::PP            2.27300 
    Module::Build       0.4214  
    Module::Signature   0.79    
    Parse::CPAN::Meta   1.4414  
    Test::Harness       3.35    
    Test::More          1.001014
    YAML                1.15    
    YAML::Syck          n/a     
    version             0.9909  


--

Summary of my perl5 (revision 5 version 22 subversion 0) configuration:
   
  Platform:
    osname=linux, osvers=4.0.1-x86_64-linode55, archname=x86_64-linux
    uname='linux redbaron 4.0.1-x86_64-linode55 #3 smp wed apr 29 11:10:11 edt 2015 x86_64 intel(r) xeon(r) cpu e5-2680 v2 @ 2.80ghz genuineintel gnulinux '
    config_args='-de -Dprefix=/usr/local/perlbrew/perl5/perls/perl-5.22.0 -Aeval:scriptdir=/usr/local/perlbrew/perl5/perls/perl-5.22.0/bin'
    hint=recommended, useposix=true, d_sigaction=define
    useithreads=undef, usemultiplicity=undef
    use64bitint=define, use64bitall=define, uselongdouble=undef
    usemymalloc=n, bincompat5005=undef
  Compiler:
    cc='cc', ccflags ='-fwrapv -fno-strict-aliasing -pipe -fstack-protector -D_LARGEFILE_SOURCE -D_FILE_OFFSET_BITS=64',
    optimize='-O2',
    cppflags='-fwrapv -fno-strict-aliasing -pipe -fstack-protector'
    ccversion='', gccversion='4.8.4', gccosandvers=''
    intsize=4, longsize=8, ptrsize=8, doublesize=8, byteorder=12345678, doublekind=3
    d_longlong=define, longlongsize=8, d_longdbl=define, longdblsize=16, longdblkind=3
    ivtype='long', ivsize=8, nvtype='double', nvsize=8, Off_t='off_t', lseeksize=8
    alignbytes=8, prototype=define
  Linker and Libraries:
    ld='cc', ldflags =' -fstack-protector -L/usr/local/lib'
    libpth=/usr/lib/gcc/x86_64-pc-linux-gnu/4.8.4/include-fixed /usr/lib /usr/local/lib /lib/../lib64 /usr/lib/../lib64 /lib /lib64 /usr/lib64 /usr/local/lib64
    libs=-lpthread -lnsl -lgdbm -ldb -ldl -lm -lcrypt -lutil -lc -lgdbm_compat
    perllibs=-lpthread -lnsl -ldl -lm -lcrypt -lutil -lc
    libc=libc-2.20.so, so=so, useshrplib=false, libperl=libperl.a
    gnulibc_version='2.20'
  Dynamic Linking:
    dlsrc=dl_dlopen.xs, dlext=so, d_dlsymun=undef, ccdlflags='-Wl,-E'
    cccdlflags='-fPIC', lddlflags='-shared -O2 -L/usr/local/lib -fstack-protector'


Characteristics of this binary (from libperl): 
  Compile-time options: HAS_TIMES PERLIO_LAYERS PERL_DONT_CREATE_GVSV
                        PERL_HASH_FUNC_ONE_AT_A_TIME_HARD PERL_MALLOC_WRAP
                        PERL_NEW_COPY_ON_WRITE PERL_PRESERVE_IVUV
                        USE_64_BIT_ALL USE_64_BIT_INT USE_LARGE_FILES
                        USE_LOCALE USE_LOCALE_COLLATE USE_LOCALE_CTYPE
                        USE_LOCALE_NUMERIC USE_LOCALE_TIME USE_PERLIO
                        USE_PERL_ATOF
  Locally applied patches:
	Devel::PatchPerl 1.34
  Built under linux
  Compiled at Aug  7 2015 10:47:44
  %ENV:
    PERL5LIB=""
    PERL5OPT=""
    PERL5_CPANPLUS_IS_RUNNING="11036"
    PERL5_CPAN_IS_RUNNING="11036"
    PERLBREW_BASHRC_VERSION="0.67"
    PERLBREW_HOME="/root/.perlbrew"
    PERLBREW_MANPATH="/usr/local/perlbrew/perl5/perls/perl-5.22.0/man"
    PERLBREW_PATH="/usr/local/perlbrew/perl5/bin:/usr/local/perlbrew/perl5/perls/perl-5.22.0/bin"
    PERLBREW_PERL="perl-5.22.0"
    PERLBREW_ROOT="/usr/local/perlbrew/perl5"
    PERLBREW_VERSION="0.73"
    PERL_MM_USE_DEFAULT="1"
  @INC:
    /usr/local/perlbrew/perl5/perls/perl-5.22.0/lib/site_perl/5.22.0/x86_64-linux
    /usr/local/perlbrew/perl5/perls/perl-5.22.0/lib/site_perl/5.22.0
    /usr/local/perlbrew/perl5/perls/perl-5.22.0/lib/5.22.0/x86_64-linux
    /usr/local/perlbrew/perl5/perls/perl-5.22.0/lib/5.22.0
    .