Back
From: metabase:user:320bfe00-2aae-11df-837a-5e0a49663a4f
Subject: PASS Catalyst-View-Excel-Template-Plus-0.03 v5.21.4 GNU/Linux
Date: 2014-11-10T17:06:06Z
This distribution has been tested as part of the CPAN Testers
project, supporting the Perl programming language. See
http://wiki.cpantesters.org/ for more information or email
questions to cpan-testers-discuss@perl.org
--
Dear Robert Bohne,
This is a computer-generated report for Catalyst-View-Excel-Template-Plus-0.03
on perl 5.21.4, created by CPAN-Reporter-1.2011.
Thank you for uploading your work to CPAN. Congratulations!
All tests were successful.
Sections of this report:
* Tester comments
* Program output
* Prerequisites
* Environment and other context
------------------------------
TESTER COMMENTS
------------------------------
Additional comments from tester:
this report is from an automated smoke testing program
and was not reviewed by a human for accuracy
------------------------------
PROGRAM OUTPUT
------------------------------
Output from './Build test':
Unknown option: 1 at /home/sand/src/perl/repoperls/installed-perls/perl/v5.21.4/127e/lib/site_perl/5.21.4/Test/Stream/Exporter.pm line 36.
t/000_load.t ...... ok
Class::MOP::load_class is deprecated at /home/sand/src/perl/repoperls/installed-perls/perl/v5.21.4/127e/lib/site_perl/5.21.4/x86_64-linux-ld/Class/MOP.pm line 68.
Class::MOP::load_class("Excel::Template::Plus::TT") called at /home/sand/src/perl/repoperls/installed-perls/perl/v5.21.4/127e/lib/site_perl/5.21.4/Excel/Template/Plus.pm line 14
eval {...} called at /home/sand/src/perl/repoperls/installed-perls/perl/v5.21.4/127e/lib/site_perl/5.21.4/Excel/Template/Plus.pm line 14
Excel::Template::Plus::new("Excel::Template::Plus", "config", HASH(0x3510e70), "params", HASH(0x37a4168), "template", "test_one.xml.tmpl", "engine", "TT", ...) called at /tmp/loop_over_bdir-850-FeuafB/Catalyst-View-Excel-Template-Plus-0.03-jpHmLH/blib/lib/Catalyst/View/Excel/Template/Plus.pm line 73
Catalyst::View::Excel::Template::Plus::create_template_object(TestApp::View::Excel=HASH(0x31b7e10), TestApp=HASH(0x3d1a6e0), "engine", "TT", "template", "test_one.xml.tmpl", "config", HASH(0x3510e70), "params", ...) called at /tmp/loop_over_bdir-850-FeuafB/Catalyst-View-Excel-Template-Plus-0.03-jpHmLH/blib/lib/Catalyst/View/Excel/Template/Plus.pm line 58
Catalyst::View::Excel::Template::Plus::process(TestApp::View::Excel=HASH(0x31b7e10), TestApp=HASH(0x3d1a6e0)) called at /home/sand/src/perl/repoperls/installed-perls/perl/v5.21.4/127e/lib/site_perl/5.21.4/Catalyst/Action.pm line 65
Catalyst::Action::execute(Catalyst::Action=HASH(0x3d25ec8), TestApp::View::Excel=HASH(0x31b7e10), TestApp=HASH(0x3d1a6e0)) called at /home/sand/src/perl/repoperls/installed-perls/perl/v5.21.4/127e/lib/site_perl/5.21.4/Catalyst.pm line 1770
eval {...} called at /home/sand/src/perl/repoperls/installed-perls/perl/v5.21.4/127e/lib/site_perl/5.21.4/Catalyst.pm line 1770
Catalyst::execute(TestApp=HASH(0x3d1a6e0), "TestApp::View::Excel", Catalyst::Action=HASH(0x3d25ec8)) called at /home/sand/src/perl/repoperls/installed-perls/perl/v5.21.4/127e/lib/site_perl/5.21.4/Catalyst/Action.pm line 60
Catalyst::Action::dispatch(Catalyst::Action=HASH(0x3d25ec8), TestApp=HASH(0x3d1a6e0)) called at /home/sand/src/perl/repoperls/installed-perls/perl/v5.21.4/127e/lib/site_perl/5.21.4/Catalyst/Dispatcher.pm line 258
Catalyst::Dispatcher::_do_forward(Catalyst::Dispatcher=HASH(0x3507cf0), "forward", TestApp=HASH(0x3d1a6e0), "TestApp::View::Excel") called at /home/sand/src/perl/repoperls/installed-perls/perl/v5.21.4/127e/lib/site_perl/5.21.4/Catalyst/Dispatcher.pm line 238
Catalyst::Dispatcher::forward(Catalyst::Dispatcher=HASH(0x3507cf0), TestApp=HASH(0x3d1a6e0), "TestApp::View::Excel") called at /home/sand/src/perl/repoperls/installed-perls/perl/v5.21.4/127e/lib/site_perl/5.21.4/Catalyst.pm line 398
Catalyst::forward(TestApp=HASH(0x3d1a6e0), "TestApp::View::Excel") called at /tmp/loop_over_bdir-850-FeuafB/Catalyst-View-Excel-Template-Plus-0.03-jpHmLH/t/lib/TestApp/Controller/Root.pm line 14
TestApp::Controller::Root::test_one(TestApp::Controller::Root=HASH(0x37b2e88), TestApp=HASH(0x3d1a6e0)) called at /home/sand/src/perl/repoperls/installed-perls/perl/v5.21.4/127e/lib/site_perl/5.21.4/Catalyst/Action.pm line 65
Catalyst::Action::execute(Catalyst::Action=HASH(0x382ce58), TestApp::Controller::Root=HASH(0x37b2e88), TestApp=HASH(0x3d1a6e0)) called at /home/sand/src/perl/repoperls/installed-perls/perl/v5.21.4/127e/lib/site_perl/5.21.4/Catalyst.pm line 1770
eval {...} called at /home/sand/src/perl/repoperls/installed-perls/perl/v5.21.4/127e/lib/site_perl/5.21.4/Catalyst.pm line 1770
Catalyst::execute(TestApp=HASH(0x3d1a6e0), "TestApp::Controller::Root", Catalyst::Action=HASH(0x382ce58)) called at /home/sand/src/perl/repoperls/installed-perls/perl/v5.21.4/127e/lib/site_perl/5.21.4/Catalyst/Action.pm line 60
Catalyst::Action::dispatch(Catalyst::Action=HASH(0x382ce58), TestApp=HASH(0x3d1a6e0)) called at /home/sand/src/perl/repoperls/installed-perls/perl/v5.21.4/127e/lib/site_perl/5.21.4/Catalyst/Controller.pm line 161
Catalyst::Controller::_ACTION(TestApp::Controller::Root=HASH(0x37b2e88), TestApp=HASH(0x3d1a6e0)) called at /home/sand/src/perl/repoperls/installed-perls/perl/v5.21.4/127e/lib/site_perl/5.21.4/Catalyst/Action.pm line 65
Catalyst::Action::execute(Catalyst::Action=HASH(0x382bdd0), TestApp::Controller::Root=HASH(0x37b2e88), TestApp=HASH(0x3d1a6e0)) called at /home/sand/src/perl/repoperls/installed-perls/perl/v5.21.4/127e/lib/site_perl/5.21.4/Catalyst.pm line 1770
eval {...} called at /home/sand/src/perl/repoperls/installed-perls/perl/v5.21.4/127e/lib/site_perl/5.21.4/Catalyst.pm line 1770
Catalyst::execute(TestApp=HASH(0x3d1a6e0), "TestApp::Controller::Root", Catalyst::Action=HASH(0x382bdd0)) called at /home/sand/src/perl/repoperls/installed-perls/perl/v5.21.4/127e/lib/site_perl/5.21.4/Catalyst/Action.pm line 60
Catalyst::Action::dispatch(Catalyst::Action=HASH(0x382bdd0), TestApp=HASH(0x3d1a6e0)) called at /home/sand/src/perl/repoperls/installed-perls/perl/v5.21.4/127e/lib/site_perl/5.21.4/Catalyst/Dispatcher.pm line 258
Catalyst::Dispatcher::_do_forward(Catalyst::Dispatcher=HASH(0x3507cf0), "forward", TestApp=HASH(0x3d1a6e0), "_ACTION") called at /home/sand/src/perl/repoperls/installed-perls/perl/v5.21.4/127e/lib/site_perl/5.21.4/Catalyst/Dispatcher.pm line 238
Catalyst::Dispatcher::forward(Catalyst::Dispatcher=HASH(0x3507cf0), TestApp=HASH(0x3d1a6e0), "_ACTION") called at /home/sand/src/perl/repoperls/installed-perls/perl/v5.21.4/127e/lib/site_perl/5.21.4/Catalyst.pm line 398
Catalyst::forward(TestApp=HASH(0x3d1a6e0), "_ACTION") called at /home/sand/src/perl/repoperls/installed-perls/perl/v5.21.4/127e/lib/site_perl/5.21.4/Catalyst/Controller.pm line 135
Catalyst::Controller::_DISPATCH(TestApp::Controller::Root=HASH(0x37b2e88), TestApp=HASH(0x3d1a6e0)) called at /home/sand/src/perl/repoperls/installed-perls/perl/v5.21.4/127e/lib/site_perl/5.21.4/Catalyst/Action.pm line 65
Catalyst::Action::execute(Catalyst::Action=HASH(0x382c810), TestApp::Controller::Root=HASH(0x37b2e88), TestApp=HASH(0x3d1a6e0)) called at /home/sand/src/perl/repoperls/installed-perls/perl/v5.21.4/127e/lib/site_perl/5.21.4/Catalyst.pm line 1770
eval {...} called at /home/sand/src/perl/repoperls/installed-perls/perl/v5.21.4/127e/lib/site_perl/5.21.4/Catalyst.pm line 1770
Catalyst::execute(TestApp=HASH(0x3d1a6e0), "TestApp::Controller::Root", Catalyst::Action=HASH(0x382c810)) called at /home/sand/src/perl/repoperls/installed-perls/perl/v5.21.4/127e/lib/site_perl/5.21.4/Catalyst/Action.pm line 60
Catalyst::Action::dispatch(Catalyst::Action=HASH(0x382c810), TestApp=HASH(0x3d1a6e0)) called at /home/sand/src/perl/repoperls/installed-perls/perl/v5.21.4/127e/lib/site_perl/5.21.4/Catalyst/Dispatcher.pm line 258
Catalyst::Dispatcher::_do_forward(Catalyst::Dispatcher=HASH(0x3507cf0), "forward", TestApp=HASH(0x3d1a6e0), "/root/_DISPATCH") called at /home/sand/src/perl/repoperls/installed-perls/perl/v5.21.4/127e/lib/site_perl/5.21.4/Catalyst/Dispatcher.pm line 238
Catalyst::Dispatcher::forward(Catalyst::Dispatcher=HASH(0x3507cf0), TestApp=HASH(0x3d1a6e0), "/root/_DISPATCH") called at /home/sand/src/perl/repoperls/installed-perls/perl/v5.21.4/127e/lib/site_perl/5.21.4/Catalyst.pm line 398
Catalyst::forward(TestApp=HASH(0x3d1a6e0), "/root/_DISPATCH") called at /home/sand/src/perl/repoperls/installed-perls/perl/v5.21.4/127e/lib/site_perl/5.21.4/Catalyst/Dispatcher.pm line 107
Catalyst::Dispatcher::dispatch(Catalyst::Dispatcher=HASH(0x3507cf0), TestApp=HASH(0x3d1a6e0)) called at /home/sand/src/perl/repoperls/installed-perls/perl/v5.21.4/127e/lib/site_perl/5.21.4/Catalyst.pm line 1716
Catalyst::dispatch(TestApp=HASH(0x3d1a6e0)) called at /home/sand/src/perl/repoperls/installed-perls/perl/v5.21.4/127e/lib/site_perl/5.21.4/Catalyst.pm line 2100
Catalyst::try {...} () called at /home/sand/src/perl/repoperls/installed-perls/perl/v5.21.4/127e/lib/site_perl/5.21.4/Try/Tiny.pm line 81
eval {...} called at /home/sand/src/perl/repoperls/installed-perls/perl/v5.21.4/127e/lib/site_perl/5.21.4/Try/Tiny.pm line 72
Try::Tiny::try(CODE(0x3d19fd8), Try::Tiny::Catch=REF(0x3d19e58)) called at /home/sand/src/perl/repoperls/installed-perls/perl/v5.21.4/127e/lib/site_perl/5.21.4/Catalyst.pm line 2109
Catalyst::handle_request("TestApp", "env", HASH(0x3d17c58), "response_cb", CODE(0x3d19e88)) called at /home/sand/src/perl/repoperls/installed-perls/perl/v5.21.4/127e/lib/site_perl/5.21.4/Catalyst/Engine.pm line 798
Catalyst::Engine::__ANON__(CODE(0x3d19e88)) called at /home/sand/src/perl/repoperls/installed-perls/perl/v5.21.4/127e/lib/site_perl/5.21.4/Plack/Middleware/HTTPExceptions.pm line 32
Plack::Middleware::HTTPExceptions::try {...} () called at /home/sand/src/perl/repoperls/installed-perls/perl/v5.21.4/127e/lib/site_perl/5.21.4/Try/Tiny.pm line 81
eval {...} called at /home/sand/src/perl/repoperls/installed-perls/perl/v5.21.4/127e/lib/site_perl/5.21.4/Try/Tiny.pm line 72
Try::Tiny::try(CODE(0x3d19cf0), Try::Tiny::Catch=REF(0x3d183c0)) called at /home/sand/src/perl/repoperls/installed-perls/perl/v5.21.4/127e/lib/site_perl/5.21.4/Plack/Middleware/HTTPExceptions.pm line 41
Plack::Middleware::HTTPExceptions::__ANON__(CODE(0x3d19be8)) called at /home/sand/src/perl/repoperls/installed-perls/perl/v5.21.4/127e/lib/site_perl/5.21.4/Plack/Util.pm line 301
Plack::Util::__ANON__(CODE(0x3d19ae0)) called at /home/sand/src/perl/repoperls/installed-perls/perl/v5.21.4/127e/lib/site_perl/5.21.4/Plack/Util.pm line 301
Plack::Util::__ANON__(CODE(0x3d199d8)) called at /home/sand/src/perl/repoperls/installed-perls/perl/v5.21.4/127e/lib/site_perl/5.21.4/Plack/Util.pm line 301
Plack::Util::__ANON__(CODE(0x3d18b58)) called at /home/sand/src/perl/repoperls/installed-perls/perl/v5.21.4/127e/lib/site_perl/5.21.4/HTTP/Message/PSGI.pm line 100
HTTP::Message::PSGI::res_from_psgi(CODE(0x3d18288)) called at /home/sand/src/perl/repoperls/installed-perls/perl/v5.21.4/127e/lib/site_perl/5.21.4/HTTP/Message/PSGI.pm line 156
HTTP::Response::from_psgi("HTTP::Response", CODE(0x3d18288)) called at /home/sand/src/perl/repoperls/installed-perls/perl/v5.21.4/127e/lib/site_perl/5.21.4/Plack/Test/MockHTTP.pm line 24
Plack::Test::MockHTTP::try {...} () called at /home/sand/src/perl/repoperls/installed-perls/perl/v5.21.4/127e/lib/site_perl/5.21.4/Try/Tiny.pm line 79
eval {...} called at /home/sand/src/perl/repoperls/installed-perls/perl/v5.21.4/127e/lib/site_perl/5.21.4/Try/Tiny.pm line 72
Try::Tiny::try(CODE(0x1114010), Try::Tiny::Catch=REF(0x37fb250)) called at /home/sand/src/perl/repoperls/installed-perls/perl/v5.21.4/127e/lib/site_perl/5.21.4/Plack/Test/MockHTTP.pm line 27
Plack::Test::MockHTTP::request(Plack::Test::MockHTTP=HASH(0x3b75b58), HTTP::Request=HASH(0x3b75600)) called at /home/sand/src/perl/repoperls/installed-perls/perl/v5.21.4/127e/lib/site_perl/5.21.4/Plack/Test.pm line 38
Plack::Test::__ANON__(HTTP::Request=HASH(0x3b75600)) called at /home/sand/src/perl/repoperls/installed-perls/perl/v5.21.4/127e/lib/site_perl/5.21.4/Catalyst/Test.pm line 281
Catalyst::Test::__ANON__(CODE(0x3b759a8)) called at /home/sand/src/perl/repoperls/installed-perls/perl/v5.21.4/127e/lib/site_perl/5.21.4/Plack/Test.pm line 38
Plack::Test::test_psgi("app", CODE(0x386cd08), "mangle_response", CODE(0x2897420), "app", CODE(0x3b75840), "client", CODE(0x3b758b8)) called at /home/sand/src/perl/repoperls/installed-perls/perl/v5.21.4/127e/lib/site_perl/5.21.4/Catalyst/Test.pm line 284
Catalyst::Test::_request(HASH(0x1114058), "http://localhost/test_one") called at /home/sand/src/perl/repoperls/installed-perls/perl/v5.21.4/127e/lib/site_perl/5.21.4/Catalyst/Test.pm line 327
Catalyst::Test::_local_request("TestApp", "http://localhost/test_one") called at /home/sand/src/perl/repoperls/installed-perls/perl/v5.21.4/127e/lib/site_perl/5.21.4/Catalyst/Test.pm line 32
Catalyst::Test::__ANON__("http://localhost/test_one") called at t/001_basic.t line 20
Class::MOP::load_class is deprecated at /home/sand/src/perl/repoperls/installed-perls/perl/v5.21.4/127e/lib/site_perl/5.21.4/x86_64-linux-ld/Class/MOP.pm line 68.
Class::MOP::load_class("Template") called at /home/sand/src/perl/repoperls/installed-perls/perl/v5.21.4/127e/lib/site_perl/5.21.4/Excel/Template/Plus/TT.pm line 45
Excel::Template::Plus::TT::__ANON__(Excel::Template::Plus::TT=HASH(0x3d26af8)) called at accessor Excel::Template::Plus::TT::_template_object (defined at /home/sand/src/perl/repoperls/installed-perls/perl/v5.21.4/127e/lib/site_perl/5.21.4/Excel/Template/Plus/TT.pm line 50) line 9
Excel::Template::Plus::TT::_template_object(Excel::Template::Plus::TT=HASH(0x3d26af8)) called at /home/sand/src/perl/repoperls/installed-perls/perl/v5.21.4/127e/lib/site_perl/5.21.4/Excel/Template/Plus/TT.pm line 80
Excel::Template::Plus::TT::_prepare_excel_template(Excel::Template::Plus::TT=HASH(0x3d26af8)) called at /home/sand/src/perl/repoperls/installed-perls/perl/v5.21.4/127e/lib/site_perl/5.21.4/Excel/Template/Plus/TT.pm line 70
Excel::Template::Plus::TT::__ANON__(Excel::Template::Plus::TT=HASH(0x3d26af8)) called at reader Excel::Template::Plus::TT::_excel_template (defined at /home/sand/src/perl/repoperls/installed-perls/perl/v5.21.4/127e/lib/site_perl/5.21.4/Excel/Template/Plus/TT.pm line 72) line 6
Excel::Template::Plus::TT::_excel_template(Excel::Template::Plus::TT=HASH(0x3d26af8)) called at /home/sand/src/perl/repoperls/installed-perls/perl/v5.21.4/127e/lib/site_perl/5.21.4/x86_64-linux-ld/Moose/Meta/Method/Delegation.pm line 92
Excel::Template::Plus::TT::output(Excel::Template::Plus::TT=HASH(0x3d26af8)) called at /tmp/loop_over_bdir-850-FeuafB/Catalyst-View-Excel-Template-Plus-0.03-jpHmLH/blib/lib/Catalyst/View/Excel/Template/Plus.pm line 68
Catalyst::View::Excel::Template::Plus::process(TestApp::View::Excel=HASH(0x31b7e10), TestApp=HASH(0x3d1a6e0)) called at /home/sand/src/perl/repoperls/installed-perls/perl/v5.21.4/127e/lib/site_perl/5.21.4/Catalyst/Action.pm line 65
Catalyst::Action::execute(Catalyst::Action=HASH(0x3d25ec8), TestApp::View::Excel=HASH(0x31b7e10), TestApp=HASH(0x3d1a6e0)) called at /home/sand/src/perl/repoperls/installed-perls/perl/v5.21.4/127e/lib/site_perl/5.21.4/Catalyst.pm line 1770
eval {...} called at /home/sand/src/perl/repoperls/installed-perls/perl/v5.21.4/127e/lib/site_perl/5.21.4/Catalyst.pm line 1770
Catalyst::execute(TestApp=HASH(0x3d1a6e0), "TestApp::View::Excel", Catalyst::Action=HASH(0x3d25ec8)) called at /home/sand/src/perl/repoperls/installed-perls/perl/v5.21.4/127e/lib/site_perl/5.21.4/Catalyst/Action.pm line 60
Catalyst::Action::dispatch(Catalyst::Action=HASH(0x3d25ec8), TestApp=HASH(0x3d1a6e0)) called at /home/sand/src/perl/repoperls/installed-perls/perl/v5.21.4/127e/lib/site_perl/5.21.4/Catalyst/Dispatcher.pm line 258
Catalyst::Dispatcher::_do_forward(Catalyst::Dispatcher=HASH(0x3507cf0), "forward", TestApp=HASH(0x3d1a6e0), "TestApp::View::Excel") called at /home/sand/src/perl/repoperls/installed-perls/perl/v5.21.4/127e/lib/site_perl/5.21.4/Catalyst/Dispatcher.pm line 238
Catalyst::Dispatcher::forward(Catalyst::Dispatcher=HASH(0x3507cf0), TestApp=HASH(0x3d1a6e0), "TestApp::View::Excel") called at /home/sand/src/perl/repoperls/installed-perls/perl/v5.21.4/127e/lib/site_perl/5.21.4/Catalyst.pm line 398
Catalyst::forward(TestApp=HASH(0x3d1a6e0), "TestApp::View::Excel") called at /tmp/loop_over_bdir-850-FeuafB/Catalyst-View-Excel-Template-Plus-0.03-jpHmLH/t/lib/TestApp/Controller/Root.pm line 14
TestApp::Controller::Root::test_one(TestApp::Controller::Root=HASH(0x37b2e88), TestApp=HASH(0x3d1a6e0)) called at /home/sand/src/perl/repoperls/installed-perls/perl/v5.21.4/127e/lib/site_perl/5.21.4/Catalyst/Action.pm line 65
Catalyst::Action::execute(Catalyst::Action=HASH(0x382ce58), TestApp::Controller::Root=HASH(0x37b2e88), TestApp=HASH(0x3d1a6e0)) called at /home/sand/src/perl/repoperls/installed-perls/perl/v5.21.4/127e/lib/site_perl/5.21.4/Catalyst.pm line 1770
eval {...} called at /home/sand/src/perl/repoperls/installed-perls/perl/v5.21.4/127e/lib/site_perl/5.21.4/Catalyst.pm line 1770
Catalyst::execute(TestApp=HASH(0x3d1a6e0), "TestApp::Controller::Root", Catalyst::Action=HASH(0x382ce58)) called at /home/sand/src/perl/repoperls/installed-perls/perl/v5.21.4/127e/lib/site_perl/5.21.4/Catalyst/Action.pm line 60
Catalyst::Action::dispatch(Catalyst::Action=HASH(0x382ce58), TestApp=HASH(0x3d1a6e0)) called at /home/sand/src/perl/repoperls/installed-perls/perl/v5.21.4/127e/lib/site_perl/5.21.4/Catalyst/Controller.pm line 161
Catalyst::Controller::_ACTION(TestApp::Controller::Root=HASH(0x37b2e88), TestApp=HASH(0x3d1a6e0)) called at /home/sand/src/perl/repoperls/installed-perls/perl/v5.21.4/127e/lib/site_perl/5.21.4/Catalyst/Action.pm line 65
Catalyst::Action::execute(Catalyst::Action=HASH(0x382bdd0), TestApp::Controller::Root=HASH(0x37b2e88), TestApp=HASH(0x3d1a6e0)) called at /home/sand/src/perl/repoperls/installed-perls/perl/v5.21.4/127e/lib/site_perl/5.21.4/Catalyst.pm line 1770
eval {...} called at /home/sand/src/perl/repoperls/installed-perls/perl/v5.21.4/127e/lib/site_perl/5.21.4/Catalyst.pm line 1770
Catalyst::execute(TestApp=HASH(0x3d1a6e0), "TestApp::Controller::Root", Catalyst::Action=HASH(0x382bdd0)) called at /home/sand/src/perl/repoperls/installed-perls/perl/v5.21.4/127e/lib/site_perl/5.21.4/Catalyst/Action.pm line 60
Catalyst::Action::dispatch(Catalyst::Action=HASH(0x382bdd0), TestApp=HASH(0x3d1a6e0)) called at /home/sand/src/perl/repoperls/installed-perls/perl/v5.21.4/127e/lib/site_perl/5.21.4/Catalyst/Dispatcher.pm line 258
Catalyst::Dispatcher::_do_forward(Catalyst::Dispatcher=HASH(0x3507cf0), "forward", TestApp=HASH(0x3d1a6e0), "_ACTION") called at /home/sand/src/perl/repoperls/installed-perls/perl/v5.21.4/127e/lib/site_perl/5.21.4/Catalyst/Dispatcher.pm line 238
Catalyst::Dispatcher::forward(Catalyst::Dispatcher=HASH(0x3507cf0), TestApp=HASH(0x3d1a6e0), "_ACTION") called at /home/sand/src/perl/repoperls/installed-perls/perl/v5.21.4/127e/lib/site_perl/5.21.4/Catalyst.pm line 398
Catalyst::forward(TestApp=HASH(0x3d1a6e0), "_ACTION") called at /home/sand/src/perl/repoperls/installed-perls/perl/v5.21.4/127e/lib/site_perl/5.21.4/Catalyst/Controller.pm line 135
Catalyst::Controller::_DISPATCH(TestApp::Controller::Root=HASH(0x37b2e88), TestApp=HASH(0x3d1a6e0)) called at /home/sand/src/perl/repoperls/installed-perls/perl/v5.21.4/127e/lib/site_perl/5.21.4/Catalyst/Action.pm line 65
Catalyst::Action::execute(Catalyst::Action=HASH(0x382c810), TestApp::Controller::Root=HASH(0x37b2e88), TestApp=HASH(0x3d1a6e0)) called at /home/sand/src/perl/repoperls/installed-perls/perl/v5.21.4/127e/lib/site_perl/5.21.4/Catalyst.pm line 1770
eval {...} called at /home/sand/src/perl/repoperls/installed-perls/perl/v5.21.4/127e/lib/site_perl/5.21.4/Catalyst.pm line 1770
Catalyst::execute(TestApp=HASH(0x3d1a6e0), "TestApp::Controller::Root", Catalyst::Action=HASH(0x382c810)) called at /home/sand/src/perl/repoperls/installed-perls/perl/v5.21.4/127e/lib/site_perl/5.21.4/Catalyst/Action.pm line 60
Catalyst::Action::dispatch(Catalyst::Action=HASH(0x382c810), TestApp=HASH(0x3d1a6e0)) called at /home/sand/src/perl/repoperls/installed-perls/perl/v5.21.4/127e/lib/site_perl/5.21.4/Catalyst/Dispatcher.pm line 258
Catalyst::Dispatcher::_do_forward(Catalyst::Dispatcher=HASH(0x3507cf0), "forward", TestApp=HASH(0x3d1a6e0), "/root/_DISPATCH") called at /home/sand/src/perl/repoperls/installed-perls/perl/v5.21.4/127e/lib/site_perl/5.21.4/Catalyst/Dispatcher.pm line 238
Catalyst::Dispatcher::forward(Catalyst::Dispatcher=HASH(0x3507cf0), TestApp=HASH(0x3d1a6e0), "/root/_DISPATCH") called at /home/sand/src/perl/repoperls/installed-perls/perl/v5.21.4/127e/lib/site_perl/5.21.4/Catalyst.pm line 398
Catalyst::forward(TestApp=HASH(0x3d1a6e0), "/root/_DISPATCH") called at /home/sand/src/perl/repoperls/installed-perls/perl/v5.21.4/127e/lib/site_perl/5.21.4/Catalyst/Dispatcher.pm line 107
Catalyst::Dispatcher::dispatch(Catalyst::Dispatcher=HASH(0x3507cf0), TestApp=HASH(0x3d1a6e0)) called at /home/sand/src/perl/repoperls/installed-perls/perl/v5.21.4/127e/lib/site_perl/5.21.4/Catalyst.pm line 1716
Catalyst::dispatch(TestApp=HASH(0x3d1a6e0)) called at /home/sand/src/perl/repoperls/installed-perls/perl/v5.21.4/127e/lib/site_perl/5.21.4/Catalyst.pm line 2100
Catalyst::try {...} () called at /home/sand/src/perl/repoperls/installed-perls/perl/v5.21.4/127e/lib/site_perl/5.21.4/Try/Tiny.pm line 81
eval {...} called at /home/sand/src/perl/repoperls/installed-perls/perl/v5.21.4/127e/lib/site_perl/5.21.4/Try/Tiny.pm line 72
Try::Tiny::try(CODE(0x3d19fd8), Try::Tiny::Catch=REF(0x3d19e58)) called at /home/sand/src/perl/repoperls/installed-perls/perl/v5.21.4/127e/lib/site_perl/5.21.4/Catalyst.pm line 2109
Catalyst::handle_request("TestApp", "env", HASH(0x3d17c58), "response_cb", CODE(0x3d19e88)) called at /home/sand/src/perl/repoperls/installed-perls/perl/v5.21.4/127e/lib/site_perl/5.21.4/Catalyst/Engine.pm line 798
Catalyst::Engine::__ANON__(CODE(0x3d19e88)) called at /home/sand/src/perl/repoperls/installed-perls/perl/v5.21.4/127e/lib/site_perl/5.21.4/Plack/Middleware/HTTPExceptions.pm line 32
Plack::Middleware::HTTPExceptions::try {...} () called at /home/sand/src/perl/repoperls/installed-perls/perl/v5.21.4/127e/lib/site_perl/5.21.4/Try/Tiny.pm line 81
eval {...} called at /home/sand/src/perl/repoperls/installed-perls/perl/v5.21.4/127e/lib/site_perl/5.21.4/Try/Tiny.pm line 72
Try::Tiny::try(CODE(0x3d19cf0), Try::Tiny::Catch=REF(0x3d183c0)) called at /home/sand/src/perl/repoperls/installed-perls/perl/v5.21.4/127e/lib/site_perl/5.21.4/Plack/Middleware/HTTPExceptions.pm line 41
Plack::Middleware::HTTPExceptions::__ANON__(CODE(0x3d19be8)) called at /home/sand/src/perl/repoperls/installed-perls/perl/v5.21.4/127e/lib/site_perl/5.21.4/Plack/Util.pm line 301
Plack::Util::__ANON__(CODE(0x3d19ae0)) called at /home/sand/src/perl/repoperls/installed-perls/perl/v5.21.4/127e/lib/site_perl/5.21.4/Plack/Util.pm line 301
Plack::Util::__ANON__(CODE(0x3d199d8)) called at /home/sand/src/perl/repoperls/installed-perls/perl/v5.21.4/127e/lib/site_perl/5.21.4/Plack/Util.pm line 301
Plack::Util::__ANON__(CODE(0x3d18b58)) called at /home/sand/src/perl/repoperls/installed-perls/perl/v5.21.4/127e/lib/site_perl/5.21.4/HTTP/Message/PSGI.pm line 100
HTTP::Message::PSGI::res_from_psgi(CODE(0x3d18288)) called at /home/sand/src/perl/repoperls/installed-perls/perl/v5.21.4/127e/lib/site_perl/5.21.4/HTTP/Message/PSGI.pm line 156
HTTP::Response::from_psgi("HTTP::Response", CODE(0x3d18288)) called at /home/sand/src/perl/repoperls/installed-perls/perl/v5.21.4/127e/lib/site_perl/5.21.4/Plack/Test/MockHTTP.pm line 24
Plack::Test::MockHTTP::try {...} () called at /home/sand/src/perl/repoperls/installed-perls/perl/v5.21.4/127e/lib/site_perl/5.21.4/Try/Tiny.pm line 79
eval {...} called at /home/sand/src/perl/repoperls/installed-perls/perl/v5.21.4/127e/lib/site_perl/5.21.4/Try/Tiny.pm line 72
Try::Tiny::try(CODE(0x1114010), Try::Tiny::Catch=REF(0x37fb250)) called at /home/sand/src/perl/repoperls/installed-perls/perl/v5.21.4/127e/lib/site_perl/5.21.4/Plack/Test/MockHTTP.pm line 27
Plack::Test::MockHTTP::request(Plack::Test::MockHTTP=HASH(0x3b75b58), HTTP::Request=HASH(0x3b75600)) called at /home/sand/src/perl/repoperls/installed-perls/perl/v5.21.4/127e/lib/site_perl/5.21.4/Plack/Test.pm line 38
Plack::Test::__ANON__(HTTP::Request=HASH(0x3b75600)) called at /home/sand/src/perl/repoperls/installed-perls/perl/v5.21.4/127e/lib/site_perl/5.21.4/Catalyst/Test.pm line 281
Catalyst::Test::__ANON__(CODE(0x3b759a8)) called at /home/sand/src/perl/repoperls/installed-perls/perl/v5.21.4/127e/lib/site_perl/5.21.4/Plack/Test.pm line 38
Plack::Test::test_psgi("app", CODE(0x386cd08), "mangle_response", CODE(0x2897420), "app", CODE(0x3b75840), "client", CODE(0x3b758b8)) called at /home/sand/src/perl/repoperls/installed-perls/perl/v5.21.4/127e/lib/site_perl/5.21.4/Catalyst/Test.pm line 284
Catalyst::Test::_request(HASH(0x1114058), "http://localhost/test_one") called at /home/sand/src/perl/repoperls/installed-perls/perl/v5.21.4/127e/lib/site_perl/5.21.4/Catalyst/Test.pm line 327
Catalyst::Test::_local_request("TestApp", "http://localhost/test_one") called at /home/sand/src/perl/repoperls/installed-perls/perl/v5.21.4/127e/lib/site_perl/5.21.4/Catalyst/Test.pm line 32
Catalyst::Test::__ANON__("http://localhost/test_one") called at t/001_basic.t line 20
t/001_basic.t ..... ok
t/pod.t ........... ok
t/pod_coverage.t .. ok
All tests successful.
Files=4, Tests=11, 4 wallclock secs ( 0.02 usr 0.02 sys + 1.82 cusr 0.14 csys = 2.00 CPU)
Result: PASS
------------------------------
PREREQUISITES
------------------------------
Prerequisite modules loaded:
requires:
Module Need Have
--------------------- ---- ------------
Catalyst::Runtime 0 5.90075
Excel::Template::Plus 0.05 0.05
build_requires:
Module Need Have
--------------------- ---- ------------
parent 0 0.228
Test::Exception 0.21 0.35
Test::More 0.62 1.301001_072
configure_requires:
Module Need Have
--------------------- ---- ------------
Module::Build 0.36 0.4210
------------------------------
ENVIRONMENT AND OTHER CONTEXT
------------------------------
Environment variables:
AUTOMATED_TESTING = 1
LANG = en_US.UTF-8
LANGUAGE = en_US:en
PATH = /home/sand/bin:/usr/local/bin:/usr/bin:/bin:/usr/games:/usr/local/perl/bin:/usr/X11/bin:/sbin:/usr/sbin
PERL5LIB =
PERL5OPT =
PERL5_CPANPLUS_IS_RUNNING = 851
PERL5_CPAN_IS_RUNNING = 851
PERL_MM_USE_DEFAULT = 1
SHELL = /usr/bin/zsh
TERM = screen
Perl special variables (and OS-specific diagnostics, for MSWin32):
$^X = /home/sand/src/perl/repoperls/installed-perls/perl/v5.21.4/127e/bin/perl
$UID/$EUID = 1005 / 1005
$GID = 1005 1005
$EGID = 1005 1005
Perl module toolchain versions installed:
Module Have
------------------- ------------
CPAN 2.05
CPAN::Meta 2.142690
Cwd 3.50
ExtUtils::CBuilder 0.280220
ExtUtils::Command 1.18
ExtUtils::Install 2.04
ExtUtils::MakeMaker 7.02
ExtUtils::Manifest 1.68
ExtUtils::ParseXS 3.25
File::Spec 3.50
JSON 2.90
JSON::PP 2.27203
Module::Build 0.4210
Module::Signature 0.73
Parse::CPAN::Meta 1.4414
Test::Harness 3.34
Test::More 1.301001_072
YAML 1.13
YAML::Syck 1.27
version 0.9909
--
Summary of my perl5 (revision 5 version 21 subversion 4) configuration:
Commit id: 84c122ba1d2b7b856521ceffc2a095716a739335
Platform:
osname=linux, osvers=3.16-2-amd64, archname=x86_64-linux-ld
uname='linux k83 3.16-2-amd64 #1 smp debian 3.16.3-2 (2014-09-20) x86_64 gnulinux '
config_args='-Dprefix=/home/sand/src/perl/repoperls/installed-perls/perl/v5.21.4/127e -Dmyhostname=k83 -Dinstallusrbinperl=n -Uversiononly -Dusedevel -des -Ui_db -Uuseithreads -Duselongdouble -DDEBUGGING=-g'
hint=recommended, useposix=true, d_sigaction=define
useithreads=undef, usemultiplicity=undef
use64bitint=define, use64bitall=define, uselongdouble=define
usemymalloc=n, bincompat5005=undef
Compiler:
cc='cc', ccflags ='-fwrapv -fno-strict-aliasing -pipe -fstack-protector-strong -I/usr/local/include -D_LARGEFILE_SOURCE -D_FILE_OFFSET_BITS=64 -D_FORTIFY_SOURCE=2',
optimize='-O2 -g',
cppflags='-fwrapv -fno-strict-aliasing -pipe -fstack-protector-strong -I/usr/local/include'
ccversion='', gccversion='4.9.1', gccosandvers=''
intsize=4, longsize=8, ptrsize=8, doublesize=8, byteorder=12345678
d_longlong=define, longlongsize=8, d_longdbl=define, longdblsize=16, longdblkind=3
ivtype='long', ivsize=8, nvtype='long double', nvsize=16, Off_t='off_t', lseeksize=8
alignbytes=16, prototype=define
Linker and Libraries:
ld='cc', ldflags =' -fstack-protector-strong -L/usr/local/lib'
libpth=/usr/local/lib /usr/lib/gcc/x86_64-linux-gnu/4.9/include-fixed /usr/include/x86_64-linux-gnu /usr/lib /lib/x86_64-linux-gnu /lib/../lib /usr/lib/x86_64-linux-gnu /usr/lib/../lib /lib
libs=-lnsl -lgdbm -ldb -ldl -lm -lcrypt -lutil -lc -lgdbm_compat
perllibs=-lnsl -ldl -lm -lcrypt -lutil -lc
libc=libc-2.19.so, so=so, useshrplib=false, libperl=libperl.a
gnulibc_version='2.19'
Dynamic Linking:
dlsrc=dl_dlopen.xs, dlext=so, d_dlsymun=undef, ccdlflags='-Wl,-E'
cccdlflags='-fPIC', lddlflags='-shared -O2 -g -L/usr/local/lib -fstack-protector-strong'
Characteristics of this binary (from libperl):
Compile-time options: HAS_TIMES PERLIO_LAYERS PERL_DONT_CREATE_GVSV
PERL_HASH_FUNC_ONE_AT_A_TIME_HARD PERL_MALLOC_WRAP
PERL_NEW_COPY_ON_WRITE PERL_PRESERVE_IVUV
PERL_USE_DEVEL USE_64_BIT_ALL USE_64_BIT_INT
USE_LARGE_FILES USE_LOCALE USE_LOCALE_COLLATE
USE_LOCALE_CTYPE USE_LOCALE_NUMERIC USE_LOCALE_TIME
USE_LONG_DOUBLE USE_PERLIO USE_PERL_ATOF
Built under linux
Compiled at Oct 18 2014 11:24:59
%ENV:
PERL5LIB=""
PERL5OPT=""
PERL5_CPANPLUS_IS_RUNNING="851"
PERL5_CPAN_IS_RUNNING="851"
PERL_MM_USE_DEFAULT="1"
@INC:
/home/sand/src/perl/repoperls/installed-perls/perl/v5.21.4/127e/lib/site_perl/5.21.4/x86_64-linux-ld
/home/sand/src/perl/repoperls/installed-perls/perl/v5.21.4/127e/lib/site_perl/5.21.4
/home/sand/src/perl/repoperls/installed-perls/perl/v5.21.4/127e/lib/5.21.4/x86_64-linux-ld
/home/sand/src/perl/repoperls/installed-perls/perl/v5.21.4/127e/lib/5.21.4
.