Test-WriteVariants v0.014 Perl 5 v5.8.9 x86_64-linux

Status
Pass
From
Andreas J. König (ANDK)
Dist
Test-WriteVariants v0.014
Platform
Perl 5 v5.8.9 x86_64-linux
Date
2017-12-18 22:00:29
ID
dc234496-e43e-11e7-ab0c-02cd02f72f8b
This distribution has been tested as part of the CPAN Testers
project, supporting the Perl programming language.  See
http://wiki.cpantesters.org/ for more information or email
questions to cpan-testers-discuss@perl.org


--
Dear Jens Rehsack,

This is a computer-generated report for Test-WriteVariants-0.014
on perl 5.8.9, created by CPAN-Reporter-1.2018.

Thank you for uploading your work to CPAN.  Congratulations!
All tests were successful.

Sections of this report:

    * Tester comments
    * Program output
    * Prerequisites
    * Environment and other context

------------------------------
TESTER COMMENTS
------------------------------

Additional comments from tester:

this report is from an automated smoke testing program
and was not reviewed by a human for accuracy

------------------------------
PROGRAM OUTPUT
------------------------------

Output from '/usr/bin/make test':

PERL_DL_NONLAZY=1 "/home/sand/src/perl/repoperls/installed-perls/host/k93msid/perl-5.8.9/89ad/bin/perl" "-MExtUtils::Command::MM" "-MTest::Harness" "-e" "undef *Test::Harness::Switches; test_harness(0, 'blib/lib', 'blib/arch')" t/*.t xt/*.t
t/00-basic.t ......... ok
Writing test-directory-tmp-ebDpL/variant1a/variant2a/bar.t
Writing test-directory-tmp-ebDpL/variant1a/variant2a/foo.t
Writing test-directory-tmp-ebDpL/variant1a/variant2b/bar.t
Writing test-directory-tmp-ebDpL/variant1a/variant2b/foo.t
Writing test-directory-tmp-ebDpL/variant1b/variant2a/bar.t
Writing test-directory-tmp-ebDpL/variant1b/variant2a/foo.t
Writing test-directory-tmp-ebDpL/variant1b/variant2b/bar.t
Writing test-directory-tmp-ebDpL/variant1b/variant2b/foo.t
t/10-simple.t ........ ok
Writing test-directory-tmp-pUNtF/variant1a/Bar.t
Writing test-directory-tmp-pUNtF/variant1a/Foo.t
Writing test-directory-tmp-pUNtF/variant1b/Bar.t
Writing test-directory-tmp-pUNtF/variant1b/Foo.t
t/20-test_modules.t .. ok
Writing test-directory-tmp-xEFFQ/variant1a/bar.t
Writing test-directory-tmp-xEFFQ/variant1a/foo.t
Writing test-directory-tmp-xEFFQ/variant1b/bar.t
Writing test-directory-tmp-xEFFQ/variant1b/foo.t
t/30-inline_tests.t .. ok
All tests successful.
Files=4, Tests=27,  1 wallclock secs ( 0.01 usr  0.04 sys +  0.37 cusr  0.11 csys =  0.53 CPU)
Result: PASS

------------------------------
PREREQUISITES
------------------------------

Prerequisite modules loaded:

requires:

    Module                    Need  Have    
    ------------------------- ----- --------
    base                      0     2.23    
    Data::Tumbler             0.002 0.010   
    Module::Pluggable::Object 4.9   5.2     
    Module::Runtime           0     0.015   
    perl                      5.006 5.008009

build_requires:

    Module                    Need  Have    
    ------------------------- ----- --------
    Test::Directory           0.041 0.041   
    Test::More                0.88  1.302120
    Test::Most                0     0.35    

configure_requires:

    Module                    Need  Have    
    ------------------------- ----- --------
    ExtUtils::MakeMaker       0     7.31_05 


------------------------------
ENVIRONMENT AND OTHER CONTEXT
------------------------------

Environment variables:

    AUTOMATED_TESTING = 1
    LANG = en_US.UTF-8
    PATH = /home/sand/bin:/usr/local/bin:/usr/bin:/bin:/usr/games:/usr/local/perl/bin:/usr/X11/bin:/sbin:/usr/sbin
    PERL5LIB = /tmp/loop_over_bdir-22697-0k3Oax/Test-Directory-0.041-0/blib/arch:/tmp/loop_over_bdir-22697-0k3Oax/Test-Directory-0.041-0/blib/lib:/tmp/loop_over_bdir-22697-0k3Oax/Data-Tumbler-0.010-0/blib/arch:/tmp/loop_over_bdir-22697-0k3Oax/Data-Tumbler-0.010-0/blib/lib
    PERL5OPT = 
    PERL5_CPANPLUS_IS_RUNNING = 22702
    PERL5_CPAN_IS_RUNNING = 22702
    PERL5_CPAN_IS_RUNNING_IN_RECURSION = 12728,22702
    PERL_CANARY_STABILITY_NOPROMPT = 1
    PERL_MM_USE_DEFAULT = 1
    PERL_USE_UNSAFE_INC = 1
    SHELL = /usr/bin/zsh
    TERM = screen

Perl special variables (and OS-specific diagnostics, for MSWin32):

    $^X = /home/sand/src/perl/repoperls/installed-perls/host/k93msid/perl-5.8.9/89ad/bin/perl
    $UID/$EUID = 1005 / 1005
    $GID = 1005 1005
    $EGID = 1005 1005

Perl module toolchain versions installed:

    Module              Have    
    ------------------- --------
    CPAN                2.19    
    CPAN::Meta          2.150010
    Cwd                 3.62    
    ExtUtils::CBuilder  0.280230
    ExtUtils::Command   7.31_05 
    ExtUtils::Install   2.06    
    ExtUtils::MakeMaker 7.31_05 
    ExtUtils::Manifest  1.70    
    ExtUtils::ParseXS   3.35    
    File::Spec          3.62    
    JSON                2.94    
    JSON::PP            2.94    
    Module::Build       0.42_26 
    Module::Signature   0.81    
    Parse::CPAN::Meta   2.150010
    Test::Harness       3.39    
    Test::More          1.302120
    YAML                1.24    
    YAML::Syck          1.30    
    version             0.9918  


--

Summary of my perl5 (revision 5 version 8 subversion 9) configuration:
  Platform:
    osname=linux, osvers=4.12.0-2-amd64, archname=x86_64-linux
    uname='linux k93msid 4.12.0-2-amd64 #1 smp debian 4.12.13-1 (2017-09-19) x86_64 gnulinux '
    config_args='-Dprefix=/home/sand/src/perl/repoperls/installed-perls/host/k93msid/perl-5.8.9/89ad -Dmyhostname=k93msid -Dinstallusrbinperl=n -Uversiononly -Dusedevel -des -Ui_db -Dlibswanted=cl pthread socket inet nsl gdbm dbm malloc dl ld sun m crypt sec util c cposix posix ucb BSD gdbm_compat -Uuseithreads -Uuselongdouble -DDEBUGGING=-g'
    hint=recommended, useposix=true, d_sigaction=define
    usethreads=undef use5005threads=undef useithreads=undef usemultiplicity=undef
    useperlio=define d_sfio=undef uselargefiles=define usesocks=undef
    use64bitint=define use64bitall=define uselongdouble=undef
    usemymalloc=n, bincompat5005=undef
  Compiler:
    cc='cc', ccflags ='-fno-strict-aliasing -pipe -I/usr/local/include -D_LARGEFILE_SOURCE -D_FILE_OFFSET_BITS=64',
    optimize='-O2 -g',
    cppflags='-fno-strict-aliasing -pipe -I/usr/local/include'
    ccversion='', gccversion='7.2.0', gccosandvers=''
    intsize=4, longsize=8, ptrsize=8, doublesize=8, byteorder=12345678
    d_longlong=define, longlongsize=8, d_longdbl=define, longdblsize=16
    ivtype='long', ivsize=8, nvtype='double', nvsize=8, Off_t='off_t', lseeksize=8
    alignbytes=8, prototype=define
  Linker and Libraries:
    ld='cc', ldflags =' -L/usr/local/lib'
    libpth=/usr/local/lib /lib/x86_64-linux-gnu /lib/../lib /usr/lib/x86_64-linux-gnu /usr/lib/../lib /lib /usr/lib
    libs=-lpthread -lnsl -ldl -lm -lcrypt -lutil -lc
    perllibs=-lpthread -lnsl -ldl -lm -lcrypt -lutil -lc
    libc=libc-2.24.so, so=so, useshrplib=false, libperl=libperl.a
    gnulibc_version='2.24'
  Dynamic Linking:
    dlsrc=dl_dlopen.xs, dlext=so, d_dlsymun=undef, ccdlflags='-Wl,-E'
    cccdlflags='-fPIC', lddlflags='-shared -O2 -g -L/usr/local/lib'


Characteristics of this binary (from libperl): 
  Compile-time options: PERL_MALLOC_WRAP USE_64_BIT_ALL USE_64_BIT_INT
                        USE_FAST_STDIO USE_LARGE_FILES USE_PERLIO
  Built under linux
  Compiled at Oct  3 2017 21:29:46
  %ENV:
    PERL5LIB="/tmp/loop_over_bdir-22697-0k3Oax/Test-Directory-0.041-0/blib/arch:/tmp/loop_over_bdir-22697-0k3Oax/Test-Directory-0.041-0/blib/lib:/tmp/loop_over_bdir-22697-0k3Oax/Data-Tumbler-0.010-0/blib/arch:/tmp/loop_over_bdir-22697-0k3Oax/Data-Tumbler-0.010-0/blib/lib"
    PERL5OPT=""
    PERL5_CPANPLUS_IS_RUNNING="22702"
    PERL5_CPAN_IS_RUNNING="22702"
    PERL5_CPAN_IS_RUNNING_IN_RECURSION="12728,22702"
    PERL_CANARY_STABILITY_NOPROMPT="1"
    PERL_MM_USE_DEFAULT="1"
    PERL_USE_UNSAFE_INC="1"
  @INC:
    /tmp/loop_over_bdir-22697-0k3Oax/Test-Directory-0.041-0/blib/arch
    /tmp/loop_over_bdir-22697-0k3Oax/Test-Directory-0.041-0/blib/lib
    /tmp/loop_over_bdir-22697-0k3Oax/Data-Tumbler-0.010-0/blib/arch
    /tmp/loop_over_bdir-22697-0k3Oax/Data-Tumbler-0.010-0/blib/lib
    /home/sand/src/perl/repoperls/installed-perls/host/k93msid/perl-5.8.9/89ad/lib/5.8.9/x86_64-linux
    /home/sand/src/perl/repoperls/installed-perls/host/k93msid/perl-5.8.9/89ad/lib/5.8.9
    /home/sand/src/perl/repoperls/installed-perls/host/k93msid/perl-5.8.9/89ad/lib/site_perl/5.8.9/x86_64-linux
    /home/sand/src/perl/repoperls/installed-perls/host/k93msid/perl-5.8.9/89ad/lib/site_perl/5.8.9
    .