Report for Gtk2-Ex-ErrorTextDialog-10

Back
From: metabase:user:30977d10-2aae-11df-837a-5e0a49663a4f
Subject: PASS Gtk2-Ex-ErrorTextDialog-10 v5.8.9 GNU/Linux
Date: 2011-08-06T08:41:21Z

This distribution has been tested as part of the CPAN Testers
project, supporting the Perl programming language.  See
http://wiki.cpantesters.org/ for more information or email
questions to cpan-testers-discuss@perl.org


--
Dear Kevin Ryde,

This is a computer-generated report for Gtk2-Ex-ErrorTextDialog-10
on perl 5.8.9, created by CPAN-Reporter-1.1902.

Thank you for uploading your work to CPAN.  Congratulations!
All tests were successful.

Sections of this report:

    * Tester comments
    * Program output
    * Prerequisites
    * Environment and other context

------------------------------
TESTER COMMENTS
------------------------------

Additional comments from tester:

this report is from an automated smoke testing program
and was not reviewed by a human for accuracy

------------------------------
PROGRAM OUTPUT
------------------------------

Output from '/usr/bin/make test':

PERL_DL_NONLAZY=1 /home/trushel/perl/perl589m/bin/perl "-MExtUtils::Command::MM" "-e" "test_harness(0, 'blib/lib', 'blib/arch')" t/*.t
# Perl-Gtk2    version 1.223
# Perl-Glib    version 1.224
# Compiled against Glib version 2.24.1.
# Running on       Glib version 2.24.1.
# Compiled against Gtk version 2.20.1.
# Running on       Gtk version 2.20.1.
# Scalar::Util::weaken
# main_iterations(): ran 2 events/iterations
# popup-save-dialog 84 Gtk2::Ex::ErrorTextDialog [ run-last action ]
t/ErrorTextDialog.t .. ok
# Perl-Gtk2    version 1.223
# Perl-Glib    version 1.224
# Compiled against Glib version 2.24.1.
# Running on       Glib version 2.24.1.
# Compiled against Gtk version 2.20.1.
# Running on       Gtk version 2.20.1.
t/FollowAppend.t ..... ok
t/Handler.t .......... ok
# Perl-Gtk2    version 1.223
# Perl-Glib    version 1.224
# Compiled against Glib version 2.24.1.
# Running on       Glib version 2.24.1.
# Compiled against Gtk version 2.20.1.
# Running on       Gtk version 2.20.1.
# temp file /tmp/AYLn7dhK0D
# main_iterations(): ran 33 events/iterations
# main_iterations(): ran 5 events/iterations
t/SaveDialog.t ....... ok
# Test::Weaken version 3.006
# Perl-Gtk2    version 1.223
# Perl-Glib    version 1.224
# Compiled against Glib version 2.24.1.
# Running on       Glib version 2.24.1.
# Compiled against Gtk version 2.20.1.
# Running on       Gtk version 2.20.1.
# on TextView::FollowAppend->new()
# on TextView::FollowAppend->new_with_buffer()
# on new() ErrorTextDialog
# main_iterations(): ran 4 events/iterations
# on instance() ErrorTextDialog
# main_iterations(): ran 3 events/iterations
# main_iterations(): ran 50 events/iterations
t/test-weaken.t ...... ok
All tests successful.
Files=5, Tests=50,  1 wallclock secs ( 0.05 usr  0.00 sys +  0.75 cusr  0.14 csys =  0.94 CPU)
Result: PASS

------------------------------
PREREQUISITES
------------------------------

Prerequisite modules loaded:

requires:

    Module                   Need     Have    
    ------------------------ -------- --------
    Devel::GlobalDestruction 0        0.04    
    Glib                     0        1.224   
    Glib::Ex::ObjectBits     12       12      
    Glib::Ex::SignalIds      0        12      
    Glib::Object::Subclass   0        0.03    
    Gtk2                     0        1.223   
    Gtk2::Ex::Units          14       44      
    Locale::Messages         0        1.20    
    Locale::TextDomain       1.16     1.20    
    perl                     5.008001 5.008009

build_requires:

    Module                   Need     Have    
    ------------------------ -------- --------
    ExtUtils::MakeMaker      0        6.58    

configure_requires:

    Module                   Need     Have    
    ------------------------ -------- --------
    ExtUtils::MakeMaker      0        6.58    


------------------------------
ENVIRONMENT AND OTHER CONTEXT
------------------------------

Environment variables:

    AUTOMATED_TESTING = 1
    LANG = en_US.UTF-8
    LANGUAGE = en
    LC_COLLATE = C
    LC_MONETARY = C
    LC_NUMERIC = C
    LC_TIME = C
    PATH = /usr/local/sbin:/usr/local/bin:/usr/sbin:/usr/bin:/sbin:/bin
    PERL5LIB = 
    PERL5OPT = 
    PERL5_CPANPLUS_IS_RUNNING = 5471
    PERL5_CPAN_IS_RUNNING = 5471
    PERL5_CPAN_IS_RUNNING_IN_RECURSION = 2687,5471
    PERL_CR_SMOKER_CURRENT = Gtk2-Ex-ErrorTextDialog-10
    PERL_EXTUTILS_AUTOINSTALL = --defaultdeps
    PERL_MM_USE_DEFAULT = 1
    SHELL = /bin/bash
    TERM = xterm

Perl special variables (and OS-specific diagnostics, for MSWin32):

    $^X = /home/trushel/perl/perl589m/bin/perl
    $UID/$EUID = 138375 / 138375
    $GID = 5762 4 20 21 24 25 26 30 44 46 104 105 119 122 431 5762
    $EGID = 5762 4 20 21 24 25 26 30 44 46 104 105 119 122 431 5762

Perl module toolchain versions installed:

    Module              Have    
    ------------------- --------
    CPAN                1.97_51 
    Cwd                 3.33    
    ExtUtils::CBuilder  0.280202
    ExtUtils::Command   1.16    
    ExtUtils::Install   1.54    
    ExtUtils::MakeMaker 6.58    
    ExtUtils::Manifest  1.58    
    ExtUtils::ParseXS   3.02    
    File::Spec          3.33    
    Module::Build       0.3800  
    Module::Signature   n/a     
    Test::Harness       3.23    
    Test::More          0.98    
    YAML                0.73    
    YAML::Syck          1.17    
    version             0.93    


--

Summary of my perl5 (revision 5 version 8 subversion 9) configuration:
  Platform:
    osname=linux, osvers=2.6.32-33-generic, archname=x86_64-linux-multi
    uname='linux trushel-glaptop 2.6.32-33-generic #70-ubuntu smp thu jul 7 21:13:52 utc 2011 x86_64 gnulinux '
    config_args=''
    hint=recommended, useposix=true, d_sigaction=define
    usethreads=undef use5005threads=undef useithreads=undef usemultiplicity=define
    useperlio=define d_sfio=undef uselargefiles=define usesocks=undef
    use64bitint=define use64bitall=define uselongdouble=undef
    usemymalloc=n, bincompat5005=undef
  Compiler:
    cc='cc', ccflags ='-fno-strict-aliasing -pipe -I/usr/local/include -D_LARGEFILE_SOURCE -D_FILE_OFFSET_BITS=64',
    optimize='-O2',
    cppflags='-fno-strict-aliasing -pipe -I/usr/local/include'
    ccversion='', gccversion='4.4.3', gccosandvers=''
    intsize=4, longsize=8, ptrsize=8, doublesize=8, byteorder=12345678
    d_longlong=define, longlongsize=8, d_longdbl=define, longdblsize=16
    ivtype='long', ivsize=8, nvtype='double', nvsize=8, Off_t='off_t', lseeksize=8
    alignbytes=8, prototype=define
  Linker and Libraries:
    ld='cc', ldflags =' -L/usr/local/lib'
    libpth=/usr/local/lib /lib /usr/lib /lib64 /usr/lib64
    libs=-lnsl -ldb -ldl -lm -lcrypt -lutil -lc
    perllibs=-lnsl -ldl -lm -lcrypt -lutil -lc
    libc=/lib/libc-2.11.1.so, so=so, useshrplib=false, libperl=libperl.a
    gnulibc_version='2.11.1'
  Dynamic Linking:
    dlsrc=dl_dlopen.xs, dlext=so, d_dlsymun=undef, ccdlflags='-Wl,-E'
    cccdlflags='-fPIC', lddlflags='-shared -O2 -L/usr/local/lib'


Characteristics of this binary (from libperl): 
  Compile-time options: MULTIPLICITY PERL_IMPLICIT_CONTEXT PERL_MALLOC_WRAP
                        USE_64_BIT_ALL USE_64_BIT_INT USE_FAST_STDIO
                        USE_LARGE_FILES USE_PERLIO
  Built under linux
  Compiled at Aug  1 2011 06:32:31
  %ENV:
    PERL5LIB=""
    PERL5OPT=""
    PERL5_CPANPLUS_IS_RUNNING="5471"
    PERL5_CPAN_IS_RUNNING="5471"
    PERL5_CPAN_IS_RUNNING_IN_RECURSION="2687,5471"
    PERL_CR_SMOKER_CURRENT="Gtk2-Ex-ErrorTextDialog-10"
    PERL_EXTUTILS_AUTOINSTALL="--defaultdeps"
    PERL_MM_USE_DEFAULT="1"
  @INC:
    /home/trushel/perl/perl589m/lib/5.8.9/x86_64-linux-multi
    /home/trushel/perl/perl589m/lib/5.8.9
    /home/trushel/perl/perl589m/lib/site_perl/5.8.9/x86_64-linux-multi
    /home/trushel/perl/perl589m/lib/site_perl/5.8.9
    .