Back
From: metabase:user:e3434da8-b236-11df-85ca-0247c6d74bde
Subject: PASS SystemPerl-1.338 v5.13.11 GNU/Linux
Date: 2011-08-03T05:17:19Z
This distribution has been tested as part of the CPAN Testers
project, supporting the Perl programming language. See
http://wiki.cpantesters.org/ for more information or email
questions to cpan-testers-discuss@perl.org
--
Dear Wilson Snyder,
This is a computer-generated report for SystemPerl-1.338
on perl 5.13.11, created by CPAN-Reporter-1.1902.
Thank you for uploading your work to CPAN. Congratulations!
All tests were successful.
Sections of this report:
* Tester comments
* Program output
* Prerequisites
* Environment and other context
------------------------------
TESTER COMMENTS
------------------------------
Additional comments from tester:
this report is from an automated smoke testing program
and was not reviewed by a human for accuracy
------------------------------
PROGRAM OUTPUT
------------------------------
Output from '/usr/bin/make test':
make[1]: Entering directory `/home/perl513/.cpan/build/SystemPerl-1.338-DcozeO/Parser'
make[1]: Leaving directory `/home/perl513/.cpan/build/SystemPerl-1.338-DcozeO/Parser'
PERL_DL_NONLAZY=1 /home/perl513/testing/bin/perl5.13.11 "-MExtUtils::Command::MM" "-e" "test_harness(0, 'blib/lib', 'blib/arch')" t/*.t
t/00_pod.t ......... ok
t/01_manifest.t .... ok
t/02_help.t ........ ok
t/03_spaces.t ...... ok
t/05_yaml.t ........ ok
t/10_template.t .... ok
t/20_parser.t ...... ok
t/30_netlist.t ..... ok
t/32_example.t ..... ok
t/34_notfound.t .... ok
t/40_coverage.t .... ok
t/42_itemkey.t ..... ok
t/44_makecheck.t ... ok
t/60_spp_pre.t ..... ok
t/62_spp_inline.t .. ok
t/70_trace.t ....... ok
t/80_gcc.t ......... ok
t/82_gcc_hdrs.t .... ok
t/90_ncsc_run.t .... ok
All tests successful.
Files=19, Tests=190, 5 wallclock secs ( 0.09 usr 0.03 sys + 3.11 cusr 0.54 csys = 3.77 CPU)
Result: PASS
make[1]: Entering directory `/home/perl513/.cpan/build/SystemPerl-1.338-DcozeO/Parser'
No tests defined for SystemC::Parser extension.
make[1]: Leaving directory `/home/perl513/.cpan/build/SystemPerl-1.338-DcozeO/Parser'
------------------------------
PREREQUISITES
------------------------------
Prerequisite modules loaded:
requires:
Module Need Have
---------------- ----- -----
Pod::Usage 1.34 1.36
Verilog::Getopt 2.211 3.310
Verilog::Netlist 3.2 3.310
------------------------------
ENVIRONMENT AND OTHER CONTEXT
------------------------------
Environment variables:
AUTOMATED_TESTING = 1
LANG = en_US.UTF-8
LC_COLLATE = C
LC_MONETARY = nl_NL.utf8
PATH = /home/tester/perl5/perlbrew/bin:/home/tester/perl5/perlbrew/perls/perl-5.15.1/bin:/usr/lib64/qt-3.3/bin:/usr/lib64/ccache:/usr/local/bin:/bin:/usr/bin:/usr/local/sbin:/usr/sbin:/sbin:/home/tester/bin:/home/tester/bin
PATH_WITHOUT_PERLBREW = /usr/lib64/qt-3.3/bin:/usr/lib64/ccache:/usr/local/bin:/bin:/usr/bin:/usr/local/sbin:/usr/sbin:/sbin:/home/tester/bin
PERL5LIB = /home/perl513/.cpan/build/Verilog-Perl-3.310-B4j5Ep/blib/arch:/home/perl513/.cpan/build/Verilog-Perl-3.310-B4j5Ep/blib/lib
PERL5OPT =
PERL5_CPANPLUS_IS_RUNNING = 2969
PERL5_CPAN_IS_RUNNING = 2969
PERL5_CPAN_IS_RUNNING_IN_RECURSION = 4272,2969
PERLBREW_PATH = /home/tester/perl5/perlbrew/bin:/home/tester/perl5/perlbrew/perls/perl-5.15.1/bin
PERLBREW_PERL = perl-5.15.1
PERLBREW_ROOT = /home/tester/perl5/perlbrew
PERLBREW_VERSION = 0.15
PERL_CR_SMOKER_CURRENT = SystemPerl-1.338
PERL_EXTUTILS_AUTOINSTALL = --defaultdeps
PERL_MM_USE_DEFAULT = 1
SHELL = /bin/bash
TERM = screen
Perl special variables (and OS-specific diagnostics, for MSWin32):
$^X = /home/perl513/testing/bin/perl5.13.11
$UID/$EUID = 504 / 504
$GID = 504 501 504
$EGID = 504 501 504
Perl module toolchain versions installed:
Module Have
------------------- --------
CPAN 1.9600
Cwd 3.36
ExtUtils::CBuilder 0.280202
ExtUtils::Command 1.17
ExtUtils::Install 1.56
ExtUtils::MakeMaker 6.57_05
ExtUtils::Manifest 1.58
ExtUtils::ParseXS 2.2209
File::Spec 3.33
Module::Build 0.3800
Module::Signature n/a
Test::Harness 3.23
Test::More 0.98
YAML n/a
YAML::Syck 1.17
version 0.88
--
Summary of my perl5 (revision 5 version 13 subversion 11) configuration:
Platform:
osname=linux, osvers=2.6.35.11-83.fc14.x86_64, archname=x86_64-linux-thread-multi
uname='linux firenze.fritz.box 2.6.35.11-83.fc14.x86_64 #1 smp mon feb 7 07:06:44 utc 2011 x86_64 x86_64 x86_64 gnulinux '
config_args='-Dprefix=/home/perl513/testing -Dusedevel -Dusethreads -des'
hint=recommended, useposix=true, d_sigaction=define
useithreads=define, usemultiplicity=define
useperlio=define, d_sfio=undef, uselargefiles=define, usesocks=undef
use64bitint=define, use64bitall=define, uselongdouble=undef
usemymalloc=n, bincompat5005=undef
Compiler:
cc='cc', ccflags ='-D_REENTRANT -D_GNU_SOURCE -fno-strict-aliasing -pipe -fstack-protector -I/usr/local/include -D_LARGEFILE_SOURCE -D_FILE_OFFSET_BITS=64',
optimize='-O2',
cppflags='-D_REENTRANT -D_GNU_SOURCE -fno-strict-aliasing -pipe -fstack-protector -I/usr/local/include'
ccversion='', gccversion='4.5.1 20100924 (Red Hat 4.5.1-4)', gccosandvers=''
intsize=4, longsize=8, ptrsize=8, doublesize=8, byteorder=12345678
d_longlong=define, longlongsize=8, d_longdbl=define, longdblsize=16
ivtype='long', ivsize=8, nvtype='double', nvsize=8, Off_t='off_t', lseeksize=8
alignbytes=8, prototype=define
Linker and Libraries:
ld='cc', ldflags =' -fstack-protector -L/usr/local/lib'
libpth=/usr/local/lib /lib /usr/lib /lib64 /usr/lib64 /usr/local/lib64
libs=-lnsl -lgdbm -ldb -ldl -lm -lcrypt -lutil -lpthread -lc -lgdbm_compat
perllibs=-lnsl -ldl -lm -lcrypt -lutil -lpthread -lc
libc=, so=so, useshrplib=false, libperl=libperl.a
gnulibc_version='2.13'
Dynamic Linking:
dlsrc=dl_dlopen.xs, dlext=so, d_dlsymun=undef, ccdlflags='-Wl,-E'
cccdlflags='-fPIC', lddlflags='-shared -O2 -L/usr/local/lib -fstack-protector'
Characteristics of this binary (from libperl):
Compile-time options: MULTIPLICITY PERL_DONT_CREATE_GVSV
PERL_IMPLICIT_CONTEXT PERL_MALLOC_WRAP
PERL_PRESERVE_IVUV PERL_USE_DEVEL USE_64_BIT_ALL
USE_64_BIT_INT USE_ITHREADS USE_LARGE_FILES
USE_PERLIO USE_PERL_ATOF USE_REENTRANT_API
Built under linux
Compiled at May 17 2011 14:15:46
%ENV:
PERL5LIB="/home/perl513/.cpan/build/Verilog-Perl-3.310-B4j5Ep/blib/arch:/home/perl513/.cpan/build/Verilog-Perl-3.310-B4j5Ep/blib/lib"
PERL5OPT=""
PERL5_CPANPLUS_IS_RUNNING="2969"
PERL5_CPAN_IS_RUNNING="2969"
PERL5_CPAN_IS_RUNNING_IN_RECURSION="4272,2969"
PERLBREW_PATH="/home/tester/perl5/perlbrew/bin:/home/tester/perl5/perlbrew/perls/perl-5.15.1/bin"
PERLBREW_PERL="perl-5.15.1"
PERLBREW_ROOT="/home/tester/perl5/perlbrew"
PERLBREW_VERSION="0.15"
PERL_CR_SMOKER_CURRENT="SystemPerl-1.338"
PERL_EXTUTILS_AUTOINSTALL="--defaultdeps"
PERL_MM_USE_DEFAULT="1"
@INC:
/home/perl513/.cpan/build/Verilog-Perl-3.310-B4j5Ep/blib/arch
/home/perl513/.cpan/build/Verilog-Perl-3.310-B4j5Ep/blib/lib
/home/perl513/testing/lib/site_perl/5.13.11/x86_64-linux-thread-multi
/home/perl513/testing/lib/site_perl/5.13.11
/home/perl513/testing/lib/5.13.11/x86_64-linux-thread-multi
/home/perl513/testing/lib/5.13.11
.