Statistics-Autocorrelation v0.06 Perl 5 v5.28.2 RC1 x86_64-linux-thread-multi

Status
Pass
From
Andreas J. König (ANDK)
Dist
Statistics-Autocorrelation v0.06
Platform
Perl 5 v5.28.2 RC1 x86_64-linux-thread-multi
Date
2019-04-09 03:59:23
ID
dc79e29c-5a7b-11e9-aca2-fa6d46f892f4
This distribution has been tested as part of the CPAN Testers
project, supporting the Perl programming language.  See
http://wiki.cpantesters.org/ for more information or email
questions to cpan-testers-discuss@perl.org


--
Dear Roderick Garton,

This is a computer-generated report for Statistics-Autocorrelation-0.06
on perl 5.28.2, created by CPAN-Reporter-1.2018.

Thank you for uploading your work to CPAN.  Congratulations!
All tests were successful.

Sections of this report:

    * Tester comments
    * Program output
    * Prerequisites
    * Environment and other context

------------------------------
TESTER COMMENTS
------------------------------

Additional comments from tester:

this report is from an automated smoke testing program
and was not reviewed by a human for accuracy

------------------------------
PROGRAM OUTPUT
------------------------------

Output from '/usr/bin/make test':

PERL_DL_NONLAZY=1 "/tmp/basesmoker-reloperl-5hZ5/bin/perl" "-MExtUtils::Command::MM" "-MTest::Harness" "-e" "undef *Test::Harness::Switches; test_harness(0, 'blib/lib', 'blib/arch')" t/*.t
# Testing Statistics::Autocorrelation 0.06, Perl 5.028002, /tmp/basesmoker-reloperl-5hZ5/bin/perl
t/00-load.t ............ ok
t/01-basics.t .......... ok
# 1	1
# -0.31	-0.308071529270775
# -0.74	-0.749049167515742
# 0.77	0.784323247735839
# 0.21	0.208877598015533
# -0.9	-0.918813706027067
# 0.38	0.386652735218839
# 0.63	0.654553768392636
# -0.77	-0.796550351808819
# -0.12	-0.130519929380512
# 0.82	0.864643019213711
# -0.4	-0.421384089433339
# -0.55	-0.580716880126989
# 0.73	0.777761156749794
# 0.07	0.0765164288438996
# -0.76	-0.816215751829798
# 0.4	0.434487992925124
# 0.48	0.525882048388483
# -0.7	-0.761302866282146
# -0.03	-0.0365504182704293
# 0.7	0.77698431849003
# -0.41	-0.455513506257951
# -0.43	-0.481511229989287
# 0.67	0.754803922408943
# 0	-0.000721715652079184
# -0.66	-0.75014417224701
# 0.42	0.475416467981228
# 0.39	0.447326603329478
# -0.65	-0.757539412418846
# 0.03	0.0305363772989425
# 0.63	0.736511151186032
# -0.42	-0.496633082497667
# -0.36	-0.422841918740382
# 0.64	0.763572169334023
# -0.05	-0.062918304852615
# -0.6	-0.724078469079772
# 0.43	0.526299298189015
# 0.32	0.392420931667183
# -0.64	-0.780464126878208
# 0.08	0.103980865082087
# 0.58	0.714922437289871
# -0.45	-0.562981688031779
# -0.28	-0.355908669226571
# 0.62	0.787876882809841
# -0.1	-0.135103727297876
# -0.55	-0.703897993304772
# 0.45	0.5920749381622
# 0.25	0.328070443088622
# -0.61	-0.800343193782884
# 0.14	0.186342015336873
t/02-nist_ref.t ........ ok
t/03-neg_lag.t ......... ok
t/04-correlogram.t ..... ok
t/05-PASW_RiessData.t .. ok
t/pod-coverage.t ....... ok
t/pod.t ................ ok
All tests successful.
Files=8, Tests=84,  3 wallclock secs ( 0.03 usr  0.06 sys +  0.86 cusr  0.35 csys =  1.30 CPU)
Result: PASS

------------------------------
PREREQUISITES
------------------------------

Prerequisite modules loaded:

requires:

    Module              Need   Have    
    ------------------- ------ --------
    List::AllUtils      0.07   0.15    
    Math::Cephes        0.5303 0.5305  
    Statistics::Data    0.08   0.11    
    Statistics::Lite    3.2    3.62    
    Statistics::Zed     0.10   0.10    
    Test::More          0.92   1.302162

build_requires:

    Module              Need   Have    
    ------------------- ------ --------
    ExtUtils::MakeMaker 0      7.34    

configure_requires:

    Module              Need   Have    
    ------------------- ------ --------
    Module::Build       0.4007 0.4224  


------------------------------
ENVIRONMENT AND OTHER CONTEXT
------------------------------

Environment variables:

    AUTOMATED_TESTING = 1
    LANG = en_US.UTF-8
    PATH = /home/sand/bin:/usr/local/bin:/usr/bin:/bin:/usr/games:/usr/local/perl/bin:/usr/X11/bin:/sbin:/usr/sbin
    PERL5LIB = /home/sand/.cpan/privbuild/k93msid/Method-Signatures-20170211-2/blib/arch:/home/sand/.cpan/privbuild/k93msid/Method-Signatures-20170211-2/blib/lib:/home/sand/.cpan/privbuild/k93msid/Template-DBI-2.65-1/blib/arch:/home/sand/.cpan/privbuild/k93msid/Template-DBI-2.65-1/blib/lib:/home/sand/.cpan/privbuild/k93msid/Template-Plugin-CSV-0.04-1/blib/arch:/home/sand/.cpan/privbuild/k93msid/Template-Plugin-CSV-0.04-1/blib/lib:/home/sand/.cpan/privbuild/k93msid/Perl-Command-0.01-0/blib/arch:/home/sand/.cpan/privbuild/k93msid/Perl-Command-0.01-0/blib/lib:/home/sand/.cpan/privbuild/k93msid/Data-Validate-0.09-0/blib/arch:/home/sand/.cpan/privbuild/k93msid/Data-Validate-0.09-0/blib/lib:/home/sand/.cpan/privbuild/k93msid/Slurp-0.4-0/blib/arch:/home/sand/.cpan/privbuild/k93msid/Slurp-0.4-0/blib/lib
    PERL5OPT = 
    PERL5_CPANPLUS_IS_RUNNING = 1955
    PERL5_CPAN_IS_RUNNING = 1955
    PERL_CANARY_STABILITY_NOPROMPT = 1
    PERL_MM_USE_DEFAULT = 1
    PERL_USE_UNSAFE_INC = 1
    SHELL = /usr/bin/zsh
    TERM = screen

Perl special variables (and OS-specific diagnostics, for MSWin32):

    $^X = /tmp/basesmoker-reloperl-5hZ5/bin/perl
    $UID/$EUID = 1005 / 1005
    $GID = 1005 1005
    $EGID = 1005 1005

Perl module toolchain versions installed:

    Module              Have    
    ------------------- --------
    CPAN                2.26    
    CPAN::Meta          2.150010
    Cwd                 3.75    
    ExtUtils::CBuilder  0.280231
    ExtUtils::Command   7.34    
    ExtUtils::Install   2.14    
    ExtUtils::MakeMaker 7.34    
    ExtUtils::Manifest  1.72    
    ExtUtils::ParseXS   3.39    
    File::Spec          3.75    
    JSON                4.02    
    JSON::PP            4.02    
    Module::Build       0.4224  
    Module::Signature   0.83    
    Parse::CPAN::Meta   2.150010
    Test::Harness       3.42    
    Test::More          1.302162
    YAML                1.27    
    YAML::Syck          1.31    
    version             0.9924  


--

Summary of my perl5 (revision 5 version 28 subversion 2) configuration:
  Derived from: ce72a043db884afdcf63dfdb016cdd04bab1e608
  Platform:
    osname=linux
    osvers=4.18.0-2-amd64
    archname=x86_64-linux-thread-multi
    uname='linux k93msid 4.18.0-2-amd64 #1 smp debian 4.18.10-2 (2018-10-07) x86_64 gnulinux '
    config_args='-Dprefix=/home/sand/src/perl/repoperls/installed-perls/host/k93msid/v5.28.2-RC1/1e0c -Dmyhostname=k93msid -Dinstallusrbinperl=n -Uversiononly -Dusedevel -des -Ui_db -Dlibswanted=cl pthread socket inet nsl gdbm dbm malloc dl ld sun m crypt sec util c cposix posix ucb BSD gdbm_compat -Duseithreads -Uuselongdouble -DEBUGGING=-g'
    hint=recommended
    useposix=true
    d_sigaction=define
    useithreads=define
    usemultiplicity=define
    use64bitint=define
    use64bitall=define
    uselongdouble=undef
    usemymalloc=n
    default_inc_excludes_dot=define
    bincompat5005=undef
  Compiler:
    cc='cc'
    ccflags ='-D_REENTRANT -D_GNU_SOURCE -fwrapv -fno-strict-aliasing -pipe -fstack-protector-strong -I/usr/local/include -D_LARGEFILE_SOURCE -D_FILE_OFFSET_BITS=64'
    optimize='-O2 -g'
    cppflags='-D_REENTRANT -D_GNU_SOURCE -fwrapv -fno-strict-aliasing -pipe -fstack-protector-strong -I/usr/local/include'
    ccversion=''
    gccversion='8.2.0'
    gccosandvers=''
    intsize=4
    longsize=8
    ptrsize=8
    doublesize=8
    byteorder=12345678
    doublekind=3
    d_longlong=define
    longlongsize=8
    d_longdbl=define
    longdblsize=16
    longdblkind=3
    ivtype='long'
    ivsize=8
    nvtype='double'
    nvsize=8
    Off_t='off_t'
    lseeksize=8
    alignbytes=8
    prototype=define
  Linker and Libraries:
    ld='cc'
    ldflags =' -fstack-protector-strong -L/usr/local/lib'
    libpth=/usr/local/lib /usr/lib/gcc/x86_64-linux-gnu/8/include-fixed /usr/include/x86_64-linux-gnu /usr/lib /lib/x86_64-linux-gnu /lib/../lib /usr/lib/x86_64-linux-gnu /usr/lib/../lib /lib
    libs=-lpthread -lnsl -ldl -lm -lcrypt -lutil -lc
    perllibs=-lpthread -lnsl -ldl -lm -lcrypt -lutil -lc
    libc=libc-2.27.so
    so=so
    useshrplib=false
    libperl=libperl.a
    gnulibc_version='2.27'
  Dynamic Linking:
    dlsrc=dl_dlopen.xs
    dlext=so
    d_dlsymun=undef
    ccdlflags='-Wl,-E'
    cccdlflags='-fPIC'
    lddlflags='-shared -O2 -g -L/usr/local/lib -fstack-protector-strong'


Characteristics of this binary (from libperl): 
  Compile-time options:
    HAS_TIMES
    MULTIPLICITY
    PERLIO_LAYERS
    PERL_COPY_ON_WRITE
    PERL_DONT_CREATE_GVSV
    PERL_IMPLICIT_CONTEXT
    PERL_MALLOC_WRAP
    PERL_OP_PARENT
    PERL_PRESERVE_IVUV
    PERL_USE_DEVEL
    USE_64_BIT_ALL
    USE_64_BIT_INT
    USE_ITHREADS
    USE_LARGE_FILES
    USE_LOCALE
    USE_LOCALE_COLLATE
    USE_LOCALE_CTYPE
    USE_LOCALE_NUMERIC
    USE_LOCALE_TIME
    USE_PERLIO
    USE_PERL_ATOF
    USE_REENTRANT_API
  Locally applied patches:
    RC1
    uncommitted-changes
  Built under linux
  Compiled at Apr  6 2019 07:33:53
  %ENV:
    PERL5LIB="/home/sand/.cpan/privbuild/k93msid/Method-Signatures-20170211-2/blib/arch:/home/sand/.cpan/privbuild/k93msid/Method-Signatures-20170211-2/blib/lib:/home/sand/.cpan/privbuild/k93msid/Template-DBI-2.65-1/blib/arch:/home/sand/.cpan/privbuild/k93msid/Template-DBI-2.65-1/blib/lib:/home/sand/.cpan/privbuild/k93msid/Template-Plugin-CSV-0.04-1/blib/arch:/home/sand/.cpan/privbuild/k93msid/Template-Plugin-CSV-0.04-1/blib/lib:/home/sand/.cpan/privbuild/k93msid/Perl-Command-0.01-0/blib/arch:/home/sand/.cpan/privbuild/k93msid/Perl-Command-0.01-0/blib/lib:/home/sand/.cpan/privbuild/k93msid/Data-Validate-0.09-0/blib/arch:/home/sand/.cpan/privbuild/k93msid/Data-Validate-0.09-0/blib/lib:/home/sand/.cpan/privbuild/k93msid/Slurp-0.4-0/blib/arch:/home/sand/.cpan/privbuild/k93msid/Slurp-0.4-0/blib/lib"
    PERL5OPT=""
    PERL5_CPANPLUS_IS_RUNNING="1955"
    PERL5_CPAN_IS_RUNNING="1955"
    PERL_CANARY_STABILITY_NOPROMPT="1"
    PERL_MM_USE_DEFAULT="1"
    PERL_USE_UNSAFE_INC="1"
  @INC:
    /home/sand/.cpan/privbuild/k93msid/Method-Signatures-20170211-2/blib/arch
    /home/sand/.cpan/privbuild/k93msid/Method-Signatures-20170211-2/blib/lib
    /home/sand/.cpan/privbuild/k93msid/Template-DBI-2.65-1/blib/arch
    /home/sand/.cpan/privbuild/k93msid/Template-DBI-2.65-1/blib/lib
    /home/sand/.cpan/privbuild/k93msid/Template-Plugin-CSV-0.04-1/blib/arch
    /home/sand/.cpan/privbuild/k93msid/Template-Plugin-CSV-0.04-1/blib/lib
    /home/sand/.cpan/privbuild/k93msid/Perl-Command-0.01-0/blib/arch
    /home/sand/.cpan/privbuild/k93msid/Perl-Command-0.01-0/blib/lib
    /home/sand/.cpan/privbuild/k93msid/Data-Validate-0.09-0/blib/arch
    /home/sand/.cpan/privbuild/k93msid/Data-Validate-0.09-0/blib/lib
    /home/sand/.cpan/privbuild/k93msid/Slurp-0.4-0/blib/arch
    /home/sand/.cpan/privbuild/k93msid/Slurp-0.4-0/blib/lib
    /home/sand/src/perl/repoperls/installed-perls/host/k93msid/v5.28.2-RC1/1e0c/lib/site_perl/5.28.2/x86_64-linux-thread-multi
    /home/sand/src/perl/repoperls/installed-perls/host/k93msid/v5.28.2-RC1/1e0c/lib/site_perl/5.28.2
    /home/sand/src/perl/repoperls/installed-perls/host/k93msid/v5.28.2-RC1/1e0c/lib/5.28.2/x86_64-linux-thread-multi
    /home/sand/src/perl/repoperls/installed-perls/host/k93msid/v5.28.2-RC1/1e0c/lib/5.28.2
    .