Math-LongDouble v0.23 Perl 5 v5.12.3 MSWin32-x86-multi-thread

Status
Pass
From
NONAME
Dist
Math-LongDouble v0.23
Platform
Perl 5 v5.12.3 MSWin32-x86-multi-thread
Date
2022-03-13 11:35:10
ID
dc7f71b6-73bf-1014-a39c-a00d032c038b
This distribution has been tested as part of the CPAN Testers
project, supporting the Perl programming language.  See
http://wiki.cpantesters.org/ for more information or email
questions to cpan-testers-discuss@perl.org


--
Dear Sisyphus,

This is a computer-generated report for Math-LongDouble-0.23
on perl 5.12.3, created by CPAN-Reporter-1.2018.

Thank you for uploading your work to CPAN.  Congratulations!
All tests were successful.

Sections of this report:

    * Tester comments
    * Program output
    * Prerequisites
    * Environment and other context

------------------------------
TESTER COMMENTS
------------------------------

Additional comments from tester:

none provided

------------------------------
PROGRAM OUTPUT
------------------------------

Output from 'C:\Strawberry\c\bin\dmake.EXE test':

C:\"Strawberry\perl\bin\perl.exe" -MExtUtils::Command::MM -e cp_nonempty -- LongDouble.bs blib\arch\auto\Math\LongDouble\LongDouble.bs 644
C:\"Strawberry\perl\bin\perl.exe" "-MExtUtils::Command::MM" "-MTest::Harness" "-e" "undef *Test::Harness::Switches; test_harness(0, 'blib\lib', 'blib\arch')" t/*.t


  No tests with this file. Instead, mainly for the benefit
  of the author, we (hopefully) see some diagnostics from some
  test executables that were run during the Makefile.PL stage.


CC = gcc
OPTMIZE = -s -O2
erfl & isnanl check (build): 
erfl & isnanl check (run): rop is set to a sane value
op is set to the correct value

build output (nanl check): 
execution output (nanl check): rop set as expected

build output (nan**0 check):

nan**0 check diagnostic: 1.0L
1.0L
1.0L
size of long double: 12

build output (signbitl check): 
execution output (signbitl check): ret set as expected

build output (sincosl check): try5.in: In function 'main':
try5.in:18: warning: incompatible implicit declaration of built-in function 'sincosl'
C:\Users\user\AppData\Local\Temp\ccC7yZ1Z.o:try5.in:(.text+0x38): undefined reference to `sincosl'
collect2: ld returned 1 exit status


t/01config_xtra.t .......... ok

NAN_POW_BUG is NOT defined
NANL_IS_UNAVAILABLE is NOT defined
ISNANL_IS_UNAVAILABLE is NOT defined
SIGNBITL_IS_UNAVAILABLE is NOT defined
SINCOSL_IS_UNAVAILABLE is defined
Actual nvsize == 8
Actual long double size = 10
t/aab_basic.t .............. ok

Math::LongDouble::_have_isnanl() returns 1
Math::LongDouble::_have_nanl() returns 1
Math::LongDouble::_have_signbitl() returns 1
t/abs.t .................... ok
t/arith.t .................. ok
t/base_conversion.t ........ ok
t/bool.t ................... ok
t/cmp.t .................... ok

LD_DBL_DENORM_MIN not implemented

LD_LDBL_DENORM_MIN not implemented
t/constants.t .............. ok
llrint_LD not implemented: IV size (4) is smaller than longlong size (8)
llround_LD not implemented: IV size (4) is smaller than longlong size (8)

Skipping tests 17-18: llrint_LD() and llround_LD() not implemented
t/inc_dec.t ................ ok
t/int.t .................... ok

 Skipping all tests - nvtype ('double') is not 'long double'
t/ld_bytes.t ............... ok
t/log_exp.t ................ ok

Math:LongDouble::_nan_pow_bug() returns 0
t/nan_pow.t ................ ok
t/new.t .................... ok
t/nnum.t ................... ok
t/overload.t ............... ok
t/overload_cmp_reversal.t .. ok
t/overload_switch.t ........ ok

Test::Pod version: 1.51

Pod::Simple version: 3.16
t/pod.t .................... ok
t/pow.t .................... ok

FYI:
 DBL_DIG = 15
 LDBL_DIG = 18
 Default precison = 21
t/prec.t ................... ok
t/signbit.t ................ ok
t/special.t ................ ok
t/stringification.t ........ ok

using own implementation of sincosl function
t/trig.t ................... ok
All tests successful.
Files=25, Tests=336,  5 wallclock secs ( 0.36 usr +  0.17 sys =  0.53 CPU)
Result: PASS

------------------------------
PREREQUISITES
------------------------------

Prerequisite modules loaded:

build_requires:

    Module              Need Have
    ------------------- ---- ----
    ExtUtils::MakeMaker 0    7.64

configure_requires:

    Module              Need Have
    ------------------- ---- ----
    ExtUtils::MakeMaker 0    7.64


------------------------------
ENVIRONMENT AND OTHER CONTEXT
------------------------------

Environment variables:

    COMSPEC = C:\windows\system32\cmd.exe
    NONINTERACTIVE_TESTING = 1
    NUMBER_OF_PROCESSORS = 4
    PATH = C:\home\griffin\perl5\bin;C:\windows\system32;C:\windows;C:\windows\System32\Wbem;C:\windows\System32\WindowsPowerShell\v1.0\;C:\Strawberry\c\bin;C:\Strawberry\perl\site\bin;C:\Strawberry\perl\bin
    PERL5LIB = C:\home\griffin\perl5\lib\perl5
    PERL5OPT = 
    PERL5_CPANPLUS_IS_RUNNING = 4796
    PERL5_CPAN_IS_RUNNING = 4796
    PERL_LOCAL_LIB_ROOT = C:\home\griffin\perl5
    PERL_MB_OPT = --install_base "C:\\home\\griffin\\perl5"
    PERL_MM_OPT = INSTALL_BASE=C:\\home\\griffin\\perl5
    PERL_MM_USE_DEFAULT = 1
    PROCESSOR_IDENTIFIER = x86 Family 6 Model 37 Stepping 5, GenuineIntel
    TEMP = C:\Users\user\AppData\Local\Temp
    TERM = dumb

Perl special variables (and OS-specific diagnostics, for MSWin32):

    $^X = C:\Strawberry\perl\bin\perl.exe
    $UID/$EUID = 0 / 0
    $GID = 0
    $EGID = 0
    Win32::GetOSName = Win7
    Win32::GetOSVersion = Service Pack 1, 6, 1, 7601, 2, 1, 0, 256, 1
    Win32::FsType = NTFS
    Win32::IsAdminUser = 0

Perl module toolchain versions installed:

    Module              Have    
    ------------------- --------
    CPAN                2.16    
    CPAN::Meta          2.150010
    Cwd                 3.62    
    ExtUtils::CBuilder  0.280224
    ExtUtils::Command   7.64    
    ExtUtils::Install   2.14    
    ExtUtils::MakeMaker 7.64    
    ExtUtils::Manifest  1.70    
    ExtUtils::ParseXS   3.44    
    File::Spec          3.62    
    JSON                4.05    
    JSON::PP            4.07    
    Module::Build       0.42_28 
    Module::Signature   0.88    
    Parse::CPAN::Meta   2.150010
    Test::Harness       3.42    
    Test::More          1.302190
    YAML                1.26    
    YAML::Syck          1.29    
    version             0.9924  


--

Summary of my perl5 (revision 5 version 12 subversion 3) configuration:
   
  Platform:
    osname=MSWin32, osvers=5.1, archname=MSWin32-x86-multi-thread
    uname='Win32 strawberryperl 5.12.3.0 #1 Sun May 15 09:44:53 2011 i386'
    config_args='undef'
    hint=recommended, useposix=true, d_sigaction=undef
    useithreads=define, usemultiplicity=define
    useperlio=define, d_sfio=undef, uselargefiles=define, usesocks=undef
    use64bitint=undef, use64bitall=undef, uselongdouble=undef
    usemymalloc=n, bincompat5005=undef
  Compiler:
    cc='gcc', ccflags =' -s -O2 -DWIN32 -DHAVE_DES_FCRYPT  -DUSE_SITECUSTOMIZE -DPERL_IMPLICIT_CONTEXT -DPERL_IMPLICIT_SYS -fno-strict-aliasing -mms-bitfields -DPERL_MSVCRT_READFIX',
    optimize='-s -O2',
    cppflags='-DWIN32'
    ccversion='', gccversion='4.4.3', gccosandvers=''
    intsize=4, longsize=4, ptrsize=4, doublesize=8, byteorder=1234
    d_longlong=undef, longlongsize=8, d_longdbl=define, longdblsize=12
    ivtype='long', ivsize=4, nvtype='double', nvsize=8, Off_t='long long', lseeksize=8
    alignbytes=8, prototype=define
  Linker and Libraries:
    ld='g++', ldflags ='-s -L"C:\Strawberry\perl\lib\CORE" -L"C:\Strawberry\c\lib"'
    libpth=C:\Strawberry\c\lib C:\Strawberry\c\i686-w64-mingw32\lib
    libs=-lmoldname -lkernel32 -luser32 -lgdi32 -lwinspool -lcomdlg32 -ladvapi32 -lshell32 -lole32 -loleaut32 -lnetapi32 -luuid -lws2_32 -lmpr -lwinmm -lversion -lodbc32 -lodbccp32 -lcomctl32
    perllibs=-lmoldname -lkernel32 -luser32 -lgdi32 -lwinspool -lcomdlg32 -ladvapi32 -lshell32 -lole32 -loleaut32 -lnetapi32 -luuid -lws2_32 -lmpr -lwinmm -lversion -lodbc32 -lodbccp32 -lcomctl32
    libc=, so=dll, useshrplib=true, libperl=libperl512.a
    gnulibc_version=''
  Dynamic Linking:
    dlsrc=dl_win32.xs, dlext=dll, d_dlsymun=undef, ccdlflags=' '
    cccdlflags=' ', lddlflags='-mdll -s -L"C:\Strawberry\perl\lib\CORE" -L"C:\Strawberry\c\lib"'


Characteristics of this binary (from libperl): 
  Compile-time options: MULTIPLICITY PERL_DONT_CREATE_GVSV
                        PERL_IMPLICIT_CONTEXT PERL_IMPLICIT_SYS
                        PERL_MALLOC_WRAP PL_OP_SLAB_ALLOC USE_ITHREADS
                        USE_LARGE_FILES USE_PERLIO USE_PERL_ATOF
                        USE_SITECUSTOMIZE
  Built under MSWin32
  Compiled at May 15 2011 17:02:01
  %ENV:
    PERL5LIB="C:\home\griffin\perl5\lib\perl5"
    PERL5_CPANPLUS_IS_RUNNING="4796"
    PERL5_CPAN_IS_RUNNING="4796"
    PERL_LOCAL_LIB_ROOT="C:\home\griffin\perl5"
    PERL_MB_OPT="--install_base "C:\\home\\griffin\\perl5""
    PERL_MM_OPT="INSTALL_BASE=C:\\home\\griffin\\perl5"
    PERL_MM_USE_DEFAULT="1"
  @INC:
    C:\home\griffin\perl5\lib\perl5/MSWin32-x86-multi-thread
    C:\home\griffin\perl5\lib\perl5
    C:/Strawberry/perl/site/lib
    C:/Strawberry/perl/vendor/lib
    C:/Strawberry/perl/lib
    .