Report for MooseX-UndefTolerant-0.21

Back
From: metabase:user:bf998058-baeb-11e4-99c3-b01b75490a75
Subject: PASS MooseX-UndefTolerant-0.21 v5.24.1 RC4 Mac OS X
Date: 2016-10-25T04:31:13Z

This distribution has been tested as part of the CPAN Testers
project, supporting the Perl programming language.  See
http://wiki.cpantesters.org/ for more information or email
questions to cpan-testers-discuss@perl.org


--
Dear ETHER,

This is a computer-generated report for MooseX-UndefTolerant-0.21
on perl 5.24.1, created by App::cpanminus::reporter 0.17 (1.7042).

Thank you for uploading your work to CPAN.  Congratulations!
All tests were successful.

Sections of this report:

    * Tester comments
    * Program output
    * Prerequisites
    * Environment and other context

------------------------------
TESTER COMMENTS
------------------------------

Additional comments from tester:

none provided

------------------------------
PROGRAM OUTPUT
------------------------------

Output from '':

Building and testing MooseX-UndefTolerant-0.21
# 
# Versions for all modules listed in MYMETA.json (including optional ones):
# 
# === Configure Requires ===
# 
#     Module               Want  Have
#     ------------------- ----- -----
#     Module::Build::Tiny 0.034 0.039
# 
# === Test Requires ===
# 
#     Module           Want     Have
#     ---------------- ---- --------
#     File::Spec        any  3.63_01
#     Module::Metadata  any 1.000033
#     Test::Fatal       any    0.014
#     Test::Moose       any   2.1902
#     Test::More       0.88 1.302063
#     if                any   0.0606
#     lib               any     0.63
# 
# === Test Recommends ===
# 
#     Module         Want     Have
#     ---------- -------- --------
#     CPAN::Meta 2.120900 2.150005
# 
# === Runtime Requires ===
# 
#     Module               Want   Have
#     -------------------- ---- ------
#     Moose                0.89 2.1902
#     Moose::Exporter       any 2.1902
#     Moose::Role           any 2.1902
#     namespace::autoclean  any   0.28
#     strict                any   1.11
#     warnings              any   1.36
# 
# === Other Modules ===
# 
#     Module          Have
#     --------- ----------
#     JSON::PP  2.27300_01
#     Sub::Name       0.23
#     YAML            1.18
#     autodie         2.29
# 
t/00-report-prereqs.t .. ok
# Testing MooseX::UndefTolerant 0.21, Perl 5.024001, /Volumes/amaretto/Users/ether/perl5/perlbrew/perls/24.1-RC4/bin/perl
t/00-load.t ............ ok
t/basic.t .............. ok
t/constructor.t ........ ok
t/defaults.t ........... ok
t/undef_init_arg.t ..... ok
t/roles.t .............. ok
t/zzz-check-breaks.t ... ok
All tests successful.
Files=8, Tests=158,  1 wallclock secs ( 0.05 usr  0.01 sys +  2.74 cusr  0.19 csys =  2.99 CPU)
Result: PASS

------------------------------
PREREQUISITES
------------------------------

Prerequisite modules loaded:

    No requirements found

------------------------------
ENVIRONMENT AND OTHER CONTEXT
------------------------------

Environment variables:

    HARNESS_OPTIONS = j5:c
    LANG = en_CA.UTF-8
    NO_NETWORK_TESTING = 1
    PATH = /Volumes/amaretto/Users/ether/.perlbrew/libs/24.1-RC4@std/bin:/Volumes/amaretto/Users/ether/perl5/perlbrew/bin:/Volumes/amaretto/Users/ether/perl5/perlbrew/perls/24.1-RC4/bin:/Volumes/amaretto/Users/ether/bin:/Volumes/amaretto/Users/ether/git/misc/install/jaeger/bin:/Volumes/amaretto/Users/ether/git/misc/install/generic/bin:/opt/local/bin:/opt/local/sbin:/Volumes/amaretto/Users/ether/git/git-hub/lib:/usr/local/bin:/usr/bin:/bin:/usr/sbin:/sbin:/opt/local/share/git-core/contrib/workdir
    PERL5LIB = /Volumes/amaretto/Users/ether/.perlbrew/libs/24.1-RC4@std/lib/perl5
    PERLBREW_BASHRC_VERSION = 0.76
    PERLBREW_HOME = /Volumes/amaretto/Users/ether/.perlbrew
    PERLBREW_LIB = std
    PERLBREW_MANPATH = /Volumes/amaretto/Users/ether/.perlbrew/libs/24.1-RC4@std/man:/Volumes/amaretto/Users/ether/perl5/perlbrew/perls/24.1-RC4/man
    PERLBREW_PATH = /Volumes/amaretto/Users/ether/.perlbrew/libs/24.1-RC4@std/bin:/Volumes/amaretto/Users/ether/perl5/perlbrew/bin:/Volumes/amaretto/Users/ether/perl5/perlbrew/perls/24.1-RC4/bin
    PERLBREW_PERL = 24.1-RC4
    PERLBREW_ROOT = /Volumes/amaretto/Users/ether/perl5/perlbrew
    PERLBREW_VERSION = 0.76
    PERLDOC_PAGER = less -sicMr
    PERL_AUTOINSTALL_PREFER_CPAN = 1
    PERL_INSTALL_QUIET = 1
    PERL_LOCAL_LIB_ROOT = /Volumes/amaretto/Users/ether/.perlbrew/libs/24.1-RC4@std
    PERL_MB_OPT = --install_base /Volumes/amaretto/Users/ether/.perlbrew/libs/24.1-RC4@std
    PERL_MM_OPT = INSTALL_BASE=/Volumes/amaretto/Users/ether/.perlbrew/libs/24.1-RC4@std
    SHELL = /bin/bash
    TERM = xterm-color

Perl special variables (and OS-specific diagnostics, for MSWin32):

    EGID = 20 20 12 61 79 80 81 98 701 33 100 204 395 398 399
    EUID = 502
    EXECUTABLE_NAME = /Volumes/amaretto/Users/ether/perl5/perlbrew/perls/24.1-RC4/bin/perl
    GID = 20 20 12 61 79 80 81 98 701 33 100 204 395 398 399
    UID = 502

Perl module toolchain versions installed:

    Module              Have      
    ------------------- ----------
    CPAN                2.11_01   
    CPAN::Meta          2.150005  
    Cwd                 3.63_01   
    ExtUtils::CBuilder  0.280225  
    ExtUtils::Command   7.10_02   
    ExtUtils::Install   2.04      
    ExtUtils::MakeMaker 7.10_02   
    ExtUtils::Manifest  1.70      
    ExtUtils::ParseXS   3.31      
    File::Spec          3.63_01   
    JSON                2.90      
    JSON::PP            2.27300_01
    Module::Build       0.4220    
    Module::Signature   n/a       
    Parse::CPAN::Meta   1.4417_001
    Test::Harness       3.36_01   
    Test::More          1.302063  
    YAML                1.18      
    YAML::Syck          1.29      
    version             0.9916    


--

Summary of my perl5 (revision 5 version 24 subversion 1) configuration:
   
  Platform:
    osname=darwin, osvers=14.5.0, archname=darwin-2level
    uname='darwin jaeger 14.5.0 darwin kernel version 14.5.0: mon aug 29 21:14:16 pdt 2016; root:xnu-2782.50.6~1release_x86_64 x86_64 '
    config_args='-de -Dprefix=/Volumes/amaretto/Users/ether/perl5/perlbrew/perls/24.1-RC4 -Dman1dir=none -Dman3dir=none -Aeval:scriptdir=/Volumes/amaretto/Users/ether/perl5/perlbrew/perls/24.1-RC4/bin'
    hint=recommended, useposix=true, d_sigaction=define
    useithreads=undef, usemultiplicity=undef
    use64bitint=define, use64bitall=define, uselongdouble=undef
    usemymalloc=n, bincompat5005=undef
  Compiler:
    cc='cc', ccflags ='-fno-common -DPERL_DARWIN -fno-strict-aliasing -pipe -fstack-protector-strong -I/opt/local/include',
    optimize='-O3',
    cppflags='-fno-common -DPERL_DARWIN -fno-strict-aliasing -pipe -fstack-protector-strong -I/opt/local/include'
    ccversion='', gccversion='4.2.1 Compatible Apple LLVM 7.0.2 (clang-700.1.81)', gccosandvers=''
    intsize=4, longsize=8, ptrsize=8, doublesize=8, byteorder=12345678, doublekind=3
    d_longlong=define, longlongsize=8, d_longdbl=define, longdblsize=16, longdblkind=3
    ivtype='long', ivsize=8, nvtype='double', nvsize=8, Off_t='off_t', lseeksize=8
    alignbytes=8, prototype=define
  Linker and Libraries:
    ld='env MACOSX_DEPLOYMENT_TARGET=10.3 cc', ldflags =' -fstack-protector-strong -L/opt/local/lib'
    libpth=/Applications/Xcode.app/Contents/Developer/Toolchains/XcodeDefault.xctoolchain/usr/bin/../lib/clang/7.0.2/lib /Applications/Xcode.app/Contents/Developer/Toolchains/XcodeDefault.xctoolchain/usr/lib /usr/lib /opt/local/lib
    libs=-lpthread -lgdbm -ldbm -ldl -lm -lutil -lc
    perllibs=-lpthread -ldl -lm -lutil -lc
    libc=, so=dylib, useshrplib=false, libperl=libperl.a
    gnulibc_version=''
  Dynamic Linking:
    dlsrc=dl_dlopen.xs, dlext=bundle, d_dlsymun=undef, ccdlflags=' '
    cccdlflags=' ', lddlflags=' -bundle -undefined dynamic_lookup -L/opt/local/lib -fstack-protector-strong'


Characteristics of this binary (from libperl): 
  Compile-time options: HAS_TIMES PERLIO_LAYERS PERL_COPY_ON_WRITE
                        PERL_DONT_CREATE_GVSV
                        PERL_HASH_FUNC_ONE_AT_A_TIME_HARD PERL_MALLOC_WRAP
                        PERL_PRESERVE_IVUV USE_64_BIT_ALL USE_64_BIT_INT
                        USE_LARGE_FILES USE_LOCALE USE_LOCALE_COLLATE
                        USE_LOCALE_CTYPE USE_LOCALE_NUMERIC USE_LOCALE_TIME
                        USE_PERLIO USE_PERL_ATOF
  Locally applied patches:
	RC4
	Devel::PatchPerl 1.38
  Built under darwin
  Compiled at Oct 23 2016 22:40:57
  %ENV:
    PERL5LIB="/Volumes/amaretto/Users/ether/.perlbrew/libs/24.1-RC4@std/lib/perl5"
    PERLBREW_BASHRC_VERSION="0.76"
    PERLBREW_HOME="/Volumes/amaretto/Users/ether/.perlbrew"
    PERLBREW_LIB="std"
    PERLBREW_MANPATH="/Volumes/amaretto/Users/ether/.perlbrew/libs/24.1-RC4@std/man:/Volumes/amaretto/Users/ether/perl5/perlbrew/perls/24.1-RC4/man"
    PERLBREW_PATH="/Volumes/amaretto/Users/ether/.perlbrew/libs/24.1-RC4@std/bin:/Volumes/amaretto/Users/ether/perl5/perlbrew/bin:/Volumes/amaretto/Users/ether/perl5/perlbrew/perls/24.1-RC4/bin"
    PERLBREW_PERL="24.1-RC4"
    PERLBREW_ROOT="/Volumes/amaretto/Users/ether/perl5/perlbrew"
    PERLBREW_VERSION="0.76"
    PERLDOC_PAGER="less -sicMr"
    PERL_AUTOINSTALL_PREFER_CPAN="1"
    PERL_INSTALL_QUIET="1"
    PERL_LOCAL_LIB_ROOT="/Volumes/amaretto/Users/ether/.perlbrew/libs/24.1-RC4@std"
    PERL_MB_OPT="--install_base /Volumes/amaretto/Users/ether/.perlbrew/libs/24.1-RC4@std"
    PERL_MM_OPT="INSTALL_BASE=/Volumes/amaretto/Users/ether/.perlbrew/libs/24.1-RC4@std"
  @INC:
    /Volumes/amaretto/Users/ether/.perlbrew/libs/24.1-RC4@std/lib/perl5/darwin-2level
    /Volumes/amaretto/Users/ether/.perlbrew/libs/24.1-RC4@std/lib/perl5
    /Volumes/amaretto/Users/ether/perl5/perlbrew/perls/24.1-RC4/lib/site_perl/5.24.1/darwin-2level
    /Volumes/amaretto/Users/ether/perl5/perlbrew/perls/24.1-RC4/lib/site_perl/5.24.1
    /Volumes/amaretto/Users/ether/perl5/perlbrew/perls/24.1-RC4/lib/5.24.1/darwin-2level
    /Volumes/amaretto/Users/ether/perl5/perlbrew/perls/24.1-RC4/lib/5.24.1
    .