Starman v0.4017 Perl 5 v5.41.4 x86_64-linux
- Status
- Pass
- From
- Andreas J. König (ANDK)
- Dist
-
Starman v0.4017
- Platform
- Perl 5 v5.41.4 x86_64-linux
- Date
- 2024-10-20 09:37:02
- ID
- dc995ab6-8ec6-11ef-b97f-b8554a1cc18b
This distribution has been tested as part of the CPAN Testers
project, supporting the Perl programming language. See
http://wiki.cpantesters.org/ for more information or email
questions to cpan-testers-discuss@perl.org
--
Dear Tatsuhiko Miyagawa,
This is a computer-generated report for Starman-0.4017
on perl 5.41.4, created by CPAN-Reporter-1.2020.
Thank you for uploading your work to CPAN. Congratulations!
All tests were successful.
Sections of this report:
* Tester comments
* Program output
* Prerequisites
* Environment and other context
------------------------------
TESTER COMMENTS
------------------------------
Additional comments from tester:
this report is from an automated smoke testing program
and was not reviewed by a human for accuracy
------------------------------
PROGRAM OUTPUT
------------------------------
Output from './Build test':
t/00_compile.t ........... ok
t/author-pod-syntax.t .... skipped: these tests are for testing by the author
2024/10/20-09:36:02 Starman::Server (type Net::Server::PreFork) starting! pid(2784195)
Binding to TCP port 43833 on host 127.0.0.1 with IPv4
Setting gid to "1005 1005 1005"
2024/10/20-09:36:02 Server closing!
t/chunked_req.t .......... ok
t/chunked_termination.t .. ok
2024/10/20-09:36:02 Starman::Server (type Net::Server::PreFork) starting! pid(2784203)
Binding to TCP port 43227 on host 127.0.0.1 with IPv4
Setting gid to "1005 1005 1005"
2024/10/20-09:36:02 Server closing!
t/chunked_zero_length.t .. ok
2024/10/20-09:36:02 Starman::Server (type Net::Server::PreFork) starting! pid(2784210)
Binding to TCP port 35637 on host 127.0.0.1 with IPv4
Setting gid to "1005 1005 1005"
2024/10/20-09:36:02 Server closing!
t/early-hints.t .......... ok
2024/10/20-09:36:02 Starman::Server (type Net::Server::PreFork) starting! pid(2784217)
Binding to TCP port 46499 on host 127.0.0.1 with IPv4
Setting gid to "1005 1005 1005"
2024/10/20-09:36:03 Server closing!
t/eintr.t ................ ok
2024/10/20-09:36:04 Starman::Server (type Net::Server::PreFork) starting! pid(2784225)
Binding to TCP port 37363 on host 127.0.0.1 with IPv4
Setting gid to "1005 1005 1005"
2024/10/20-09:36:04 Server closing!
t/expect.t ............... ok
2024/10/20-09:36:04 Starman::Server (type Net::Server::PreFork) starting! pid(2784232)
Binding to TCP port 33031 on host 127.0.0.1 with IPv4
Setting gid to "1005 1005 1005"
2024/10/20-09:36:04 Server closing!
2024/10/20-09:36:04 Starman::Server (type Net::Server::PreFork) starting! pid(2784238)
Binding to TCP port 43645 on host 127.0.0.1 with IPv4
Setting gid to "1005 1005 1005"
2024/10/20-09:36:04 Server closing!
t/harakiri.t ............. ok
2024/10/20-09:36:04 Starman::Server (type Net::Server::PreFork) starting! pid(2784266)
Binding to TCP port 37577 on host 127.0.0.1 with IPv4
Setting gid to "1005 1005 1005"
2024/10/20-09:36:04 Server closing!
t/lf_only_request.t ...... ok
2024/10/20-09:36:05 Starman::Server (type Net::Server::PreFork) starting! pid(2784273)
Binding to TCP port 46489 on host 127.0.0.1 with IPv4
Setting gid to "1005 1005 1005"
2024/10/20-09:36:05 Server closing!
t/no_chunked_head.t ...... ok
t/release-findbin.t ...... skipped: these tests are for release candidate testing
t/release-rand.t ......... skipped: these tests are for release candidate testing
2024/10/20-09:36:05 Starman::Server (type Net::Server::PreFork) starting! pid(2784282)
Binding to TCP port 36381 on host 127.0.0.1 with IPv4
Setting gid to "1005 1005 1005"
2024/10/20-09:36:05 Server closing!
t/single_zero.t .......... ok
2024/10/20-09:36:05 Starman::Server (type Net::Server::PreFork) starting! pid(2784289)
Resolved [localhost]:41381 to [127.0.0.1]:41381, IPv4
Binding to SSL port 41381 on host 127.0.0.1 with IPv4
Setting gid to "1005 1005 1005"
Could not finalize SSL connection with client handle (SSL accept attempt failed error:0A000126:SSL routines::unexpected eof while reading)
Child process 2784290 exited with status 255
2024/10/20-09:36:05 Server closing!
t/ssl.t .................. ok
2024/10/20-09:36:06 Starman::Server (type Net::Server::PreFork) starting! pid(2784297)
Resolved [localhost]:42881 to [127.0.0.1]:42881, IPv4
Binding to SSL port 42881 on host 127.0.0.1 with IPv4
Setting gid to "1005 1005 1005"
Could not finalize SSL connection with client handle (SSL accept attempt failed error:0A000126:SSL routines::unexpected eof while reading)
2024/10/20-09:36:06 Server closing!
t/ssl_largebody.t ........ ok
2024/10/20-09:36:06 Starman::Server (type Net::Server::PreFork) starting! pid(2784305)
Binding to TCP port 39041 on host 127.0.0.1 with IPv4
Setting gid to "1005 1005 1005"
2024/10/20-09:36:06 Server closing!
t/suite.t ................ ok
All tests successful.
Files=17, Tests=125, 5 wallclock secs ( 0.06 usr 0.05 sys + 2.62 cusr 0.85 csys = 3.58 CPU)
Result: PASS
------------------------------
PREREQUISITES
------------------------------
Prerequisite modules loaded:
requires:
Module Need Have
------------------- -------- --------
Data::Dump 0 1.25
HTTP::Date 0 6.06
HTTP::Parser::XS 0 0.17
HTTP::Status 0 6.46
Net::Server 2.007 2.014
parent 0 0.242
perl 5.008001 5.041004
Plack 0.9971 1.0051
Test::TCP 2.00 2.22
build_requires:
Module Need Have
------------------- -------- --------
LWP::UserAgent 0 6.77
Test::More 0 1.302204
Test::Requires 0 0.11
configure_requires:
Module Need Have
------------------- -------- --------
Module::Build::Tiny 0.034 0.051
------------------------------
ENVIRONMENT AND OTHER CONTEXT
------------------------------
Environment variables:
AUTOMATED_TESTING = 1
LANG = en_US.UTF-8
LC_ADDRESS = de_DE.UTF-8
LC_IDENTIFICATION = de_DE.UTF-8
LC_MEASUREMENT = de_DE.UTF-8
LC_MONETARY = de_DE.UTF-8
LC_NAME = de_DE.UTF-8
LC_NUMERIC = de_DE.UTF-8
LC_PAPER = de_DE.UTF-8
LC_TELEPHONE = de_DE.UTF-8
LC_TIME = de_DE.UTF-8
PATH = /home/sand/bin:/usr/local/bin:/usr/local/sbin:/usr/sbin:/usr/bin:/sbin:/bin:/usr/games:/usr/local/games:/snap/bin:/usr/local/perl/bin:/usr/X11/bin
PERL5LIB =
PERL5OPT =
PERL5_CPANPLUS_IS_RUNNING = 2263823
PERL5_CPAN_IS_RUNNING = 2263823
PERL_CANARY_STABILITY_NOPROMPT = 1
PERL_MM_USE_DEFAULT = 1
PERL_USE_UNSAFE_INC = 1
SHELL = /usr/bin/zsh
TERM = screen
Perl special variables (and OS-specific diagnostics, for MSWin32):
$^X = /tmp/basesmoker-reloperl-l2Mf/bin/perl
$UID/$EUID = 1005 / 1005
$GID = 1005 1005
$EGID = 1005 1005
Perl module toolchain versions installed:
Module Have
------------------- --------
CPAN 2.37
CPAN::Meta 2.150010
Cwd 3.92
ExtUtils::CBuilder 0.280240
ExtUtils::Command 7.70
ExtUtils::Install 2.22
ExtUtils::MakeMaker 7.70
ExtUtils::Manifest 1.75
ExtUtils::ParseXS 3.54
File::Spec 3.93
JSON 4.10
JSON::PP 4.16
Module::Build 0.4234
Module::Signature 0.89
Parse::CPAN::Meta 2.150010
Test2 1.302204
Test::Harness 3.50
Test::More 1.302204
YAML 1.31
YAML::Syck 1.34
version 0.9933
--
Summary of my perl5 (revision 5 version 41 subversion 4) configuration:
Commit id: 87deea969a7552a96b077acb5708d74c65099c51
Platform:
osname=linux
osvers=6.8.0-40-generic
archname=x86_64-linux
uname='linux k93jammy 6.8.0-40-generic #40~22.04.3-ubuntu smp preempt_dynamic tue jul 30 17:30:19 utc 2 x86_64 x86_64 x86_64 gnulinux '
config_args='-Dprefix=/home/sand/src/perl/repoperls/installed-perls/host/k93jammy/v5.41.4/6567 -Dmyhostname=k93jammy -Dinstallusrbinperl=n -Uversiononly -Dusedevel -des -Ui_db -Dlibswanted=cl pthread socket inet nsl gdbm dbm malloc dl ld sun m crypt sec util c cposix posix ucb BSD gdbm_compat -Uuseithreads -Uuselongdouble -DEBUGGING=-g'
hint=recommended
useposix=true
d_sigaction=define
useithreads=undef
usemultiplicity=undef
use64bitint=define
use64bitall=define
uselongdouble=undef
usemymalloc=n
default_inc_excludes_dot=define
Compiler:
cc='cc'
ccflags ='-fwrapv -fno-strict-aliasing -pipe -fstack-protector-strong -I/usr/local/include -D_LARGEFILE_SOURCE -D_FILE_OFFSET_BITS=64'
optimize='-O2 -g'
cppflags='-fwrapv -fno-strict-aliasing -pipe -fstack-protector-strong -I/usr/local/include'
ccversion=''
gccversion='11.4.0'
gccosandvers=''
intsize=4
longsize=8
ptrsize=8
doublesize=8
byteorder=12345678
doublekind=3
d_longlong=define
longlongsize=8
d_longdbl=define
longdblsize=16
longdblkind=3
ivtype='long'
ivsize=8
nvtype='double'
nvsize=8
Off_t='off_t'
lseeksize=8
alignbytes=8
prototype=define
Linker and Libraries:
ld='cc'
ldflags =' -fstack-protector-strong -L/usr/local/lib'
libpth=/usr/local/lib /usr/lib/x86_64-linux-gnu /usr/lib /usr/lib64
libs=-lpthread -lnsl -ldl -lm -lcrypt -lutil -lc
perllibs=-lpthread -lnsl -ldl -lm -lcrypt -lutil -lc
libc=/lib/x86_64-linux-gnu/libc.so.6
so=so
useshrplib=false
libperl=libperl.a
gnulibc_version='2.35'
Dynamic Linking:
dlsrc=dl_dlopen.xs
dlext=so
d_dlsymun=undef
ccdlflags='-Wl,-E'
cccdlflags='-fPIC'
lddlflags='-shared -O2 -g -L/usr/local/lib -fstack-protector-strong'
Characteristics of this binary (from libperl):
Compile-time options:
HAS_LONG_DOUBLE
HAS_STRTOLD
HAS_TIMES
PERLIO_LAYERS
PERL_COPY_ON_WRITE
PERL_DONT_CREATE_GVSV
PERL_HASH_FUNC_SIPHASH13
PERL_HASH_USE_SBOX32
PERL_MALLOC_WRAP
PERL_OP_PARENT
PERL_PRESERVE_IVUV
PERL_USE_DEVEL
PERL_USE_SAFE_PUTENV
USE_64_BIT_ALL
USE_64_BIT_INT
USE_LARGE_FILES
USE_LOCALE
USE_LOCALE_COLLATE
USE_LOCALE_CTYPE
USE_LOCALE_NUMERIC
USE_LOCALE_TIME
USE_PERLIO
USE_PERL_ATOF
Built under linux
Compiled at Sep 21 2024 07:58:15
%ENV:
PERL5LIB=""
PERL5OPT=""
PERL5_CPANPLUS_IS_RUNNING="2263823"
PERL5_CPAN_IS_RUNNING="2263823"
PERL_CANARY_STABILITY_NOPROMPT="1"
PERL_MM_USE_DEFAULT="1"
PERL_USE_UNSAFE_INC="1"
@INC:
/home/sand/src/perl/repoperls/installed-perls/host/k93jammy/v5.41.4/6567/lib/site_perl/5.41.4/x86_64-linux
/home/sand/src/perl/repoperls/installed-perls/host/k93jammy/v5.41.4/6567/lib/site_perl/5.41.4
/home/sand/src/perl/repoperls/installed-perls/host/k93jammy/v5.41.4/6567/lib/5.41.4/x86_64-linux
/home/sand/src/perl/repoperls/installed-perls/host/k93jammy/v5.41.4/6567/lib/5.41.4
.