Report for Module-Pluggable-5.1

Back
From: metabase:user:30f4dfbe-2aae-11df-837a-5e0a49663a4f
Subject: PASS Module-Pluggable-5.1 v5.18.3 FreeBSD
Date: 2014-10-03T16:46:46Z

This distribution has been tested as part of the CPAN Testers
project, supporting the Perl programming language.  See
http://wiki.cpantesters.org/ for more information or email
questions to cpan-testers-discuss@perl.org


--
Dear Simon Wistow,

This is a computer-generated report for Module-Pluggable-5.1
on perl 5.18.3, created by CPAN-Reporter-1.2011.

Thank you for uploading your work to CPAN.  Congratulations!
All tests were successful.

Sections of this report:

    * Tester comments
    * Program output
    * Prerequisites
    * Environment and other context

------------------------------
TESTER COMMENTS
------------------------------

Additional comments from tester:

none provided

------------------------------
PROGRAM OUTPUT
------------------------------

Output from './Build test':

t/01use.t .................... ok
t/02alsoworks.t .............. ok
t/02works.t .................. ok
t/02works_taint.t ............ ok
t/03diffname.t ............... ok
t/04acmedir.t ................ ok
t/04acmedir_single.t ......... ok
t/04acmepath.t ............... ok
t/04acmepath_single.t ........ ok
t/05postpath.t ............... ok
t/06multipath.t .............. ok
t/07instantiate.t ............ ok
t/08nothing.t ................ ok
t/09require.t ................ ok
t/10innerpack.t .............. ok
t/10innerpack_inner.t ........ ok
t/10innerpack_noinner.t ...... ok
t/10innerpack_onefile.t ...... ok
t/10innerpack_override.t ..... ok
t/10innerpack_super.t ........ ok
t/11usetwice.t ............... ok
t/12only.t ................... ok
t/12onlyarray.t .............. ok
t/12onlyregex.t .............. ok
t/12onlyrequire.t ............ ok
t/13except.t ................. ok
t/13exceptarray.t ............ ok
t/13exceptregex.t ............ ok
t/14package.t ................ ok
t/15topicsafe.t .............. ok
t/16different_extension.t .... ok
t/17devel_inner_package.t .... ok
t/18skipped_package.t ........ ok
t/19can_ok_clobber.t ......... ok
t/20dodgy_files.t ............ ok
t/21editor_junk.t ............ ok
t/22trigger.t ................ ok
t/23depth.t .................. ok
t/24local_inc_object.t ....... ok
Text::Soundex will be removed from the Perl core distribution in the next major release. Please install it from CPAN. It is being used at (eval 9), line 2.
t/24local_inc_package.t ...... ok
t/25single_letter_package.t .. ok
t/26inc_hook.t ............... ok
t/27app_fatpacker.t .......... skipped: App::FatPacker >= 0.10.0 not available
All tests successful.
Files=43, Tests=180, 30 wallclock secs ( 1.00 usr  0.50 sys + 18.51 cusr  3.23 csys = 23.24 CPU)
Result: PASS

------------------------------
PREREQUISITES
------------------------------

Prerequisite modules loaded:

requires:

    Module         Need Have    
    -------------- ---- --------
    File::Basename 0    2.84    
    File::Spec     3.00 3.40    
    if             0    0.0602  

build_requires:

    Module         Need Have    
    -------------- ---- --------
    Test::More     0.62 1.001006

configure_requires:

    Module         Need Have    
    -------------- ---- --------
    Module::Build  0.38 0.4003  


------------------------------
ENVIRONMENT AND OTHER CONTEXT
------------------------------

Environment variables:

    PATH = /home/njh/perl5/perlbrew/bin:/home/njh/perl5/perlbrew/perls/perl-5.18.3/bin:/sbin:/bin:/usr/sbin:/usr/bin:/usr/games:/usr/local/sbin:/usr/local/bin:/home/njh/bin
    PERL5LIB = 
    PERL5OPT = 
    PERL5_CPANPLUS_IS_RUNNING = 84343
    PERL5_CPAN_IS_RUNNING = 84343
    PERLBREW_BASHRC_VERSION = 0.67
    PERLBREW_HOME = /home/njh/.perlbrew
    PERLBREW_MANPATH = /home/njh/perl5/perlbrew/perls/perl-5.18.3/man
    PERLBREW_PATH = /home/njh/perl5/perlbrew/bin:/home/njh/perl5/perlbrew/perls/perl-5.18.3/bin
    PERLBREW_PERL = perl-5.18.3
    PERLBREW_ROOT = /home/njh/perl5/perlbrew
    PERLBREW_VERSION = 0.67
    SHELL = /bin/bash
    TERM = xterm-256color

Perl special variables (and OS-specific diagnostics, for MSWin32):

    $^X = /usr/home/njh/perl5/perlbrew/perls/perl-5.18.3/bin/perl
    $UID/$EUID = 1000 / 1000
    $GID = 1000 1000 0
    $EGID = 1000 1000 0

Perl module toolchain versions installed:

    Module              Have    
    ------------------- --------
    CPAN                2.05    
    CPAN::Meta          2.120921
    Cwd                 3.40    
    ExtUtils::CBuilder  0.280210
    ExtUtils::Command   1.17    
    ExtUtils::Install   1.59    
    ExtUtils::MakeMaker 6.98    
    ExtUtils::Manifest  1.63    
    ExtUtils::ParseXS   3.18    
    File::Spec          3.40    
    JSON                n/a     
    JSON::PP            2.27203 
    Module::Build       0.4003  
    Module::Signature   n/a     
    Parse::CPAN::Meta   1.4405  
    Test::Harness       3.26    
    Test::More          1.001006
    YAML                n/a     
    YAML::Syck          1.27    
    version             0.9902  


--

Summary of my perl5 (revision 5 version 18 subversion 3) configuration:
   
  Platform:
    osname=freebsd, osvers=9.1-release, archname=i386-freebsd-thread-multi
    uname='freebsd amber 9.1-release freebsd 9.1-release #0 r243826: tue dec 4 06:55:39 utc 2012 root@obrian.cse.buffalo.edu:usrobjusrsrcsysgeneric i386 '
    config_args='-de -Dprefix=/home/njh/perl5/perlbrew/perls/perl-5.18.3 -Duseithreads -Dusemultiplicity -Dusedevel -Accflags=-O2 -W -Wformat=2 -Wswitch -Wshadow -Wwrite-strings -Wuninitialized -Wall -pipe -mtune=native -march=native -fomit-frame-pointer -msse2 -msse -mmmx -mfpmath=sse -pedantic -D_FORTIFY_SOURCE=2 -Wpointer-arith -Wstrict-prototypes -fstack-protector -Wstack-protector -Wextra -Wbad-function-cast -Wcast-align -Wcast-qual -Wdisabled-optimization -Wendif-labels -Wfloat-equal -Wformat-nonliteral -Winline -Wmissing-declarations -Wmissing-prototypes -Wnested-externs -Wpointer-arith -Wundef -Wformat-security -ftree-vectorize -Aeval:scriptdir=/home/njh/perl5/perlbrew/perls/perl-5.18.3/bin'
    hint=recommended, useposix=true, d_sigaction=define
    useithreads=define, usemultiplicity=define
    useperlio=define, d_sfio=undef, uselargefiles=define, usesocks=undef
    use64bitint=undef, use64bitall=undef, uselongdouble=undef
    usemymalloc=n, bincompat5005=undef
  Compiler:
    cc='cc', ccflags ='-DHAS_FPSETMASK -DHAS_FLOATINGPOINT_H -O2 -W -Wformat=2 -Wswitch -Wshadow -Wwrite-strings -Wuninitialized -Wall -pipe -mtune=native -march=native -fomit-frame-pointer -msse2 -msse -mmmx -mfpmath=sse -pedantic -D_FORTIFY_SOURCE=2 -Wpointer-arith -Wstrict-prototypes -fstack-protector -Wstack-protector -Wextra -Wbad-function-cast -Wcast-align -Wcast-qual -Wdisabled-optimization -Wendif-labels -Wfloat-equal -Wformat-nonliteral -Winline -Wmissing-declarations -Wmissing-prototypes -Wnested-externs -Wpointer-arith -Wundef -Wformat-security -ftree-vectorize -fno-strict-aliasing -I/usr/local/include',
    optimize='-O',
    cppflags='-DHAS_FPSETMASK -DHAS_FLOATINGPOINT_H -O2 -W -Wformat=2 -Wswitch -Wshadow -Wwrite-strings -Wuninitialized -Wall -pipe -mtune=native -march=native -fomit-frame-pointer -msse2 -msse -mmmx -mfpmath=sse -pedantic -D_FORTIFY_SOURCE=2 -Wpointer-arith -Wstrict-prototypes -fstack-protector -Wstack-protector -Wextra -Wbad-function-cast -Wcast-align -Wcast-qual -Wdisabled-optimization -Wendif-labels -Wfloat-equal -Wformat-nonliteral -Winline -Wmissing-declarations -Wmissing-prototypes -Wnested-externs -Wpointer-arith -Wundef -Wformat-security -ftree-vectorize -fno-strict-aliasing -I/usr/local/include'
    ccversion='', gccversion='4.2.1 20070831 patched [FreeBSD]', gccosandvers=''
    intsize=4, longsize=4, ptrsize=4, doublesize=8, byteorder=1234
    d_longlong=define, longlongsize=8, d_longdbl=define, longdblsize=12
    ivtype='long', ivsize=4, nvtype='double', nvsize=8, Off_t='off_t', lseeksize=8
    alignbytes=4, prototype=define
  Linker and Libraries:
    ld='cc', ldflags ='-pthread -Wl,-E  -fstack-protector -L/usr/local/lib'
    libpth=/usr/lib /usr/local/lib
    libs=-lm -lcrypt
    perllibs=-lm -lcrypt
    libc=, so=so, useshrplib=false, libperl=libperl.a
    gnulibc_version=''
  Dynamic Linking:
    dlsrc=dl_dlopen.xs, dlext=so, d_dlsymun=undef, ccdlflags=' '
    cccdlflags='-DPIC -fPIC', lddlflags='-shared  -L/usr/local/lib -fstack-protector'


Characteristics of this binary (from libperl): 
  Compile-time options: HAS_TIMES MULTIPLICITY PERLIO_LAYERS
                        PERL_DONT_CREATE_GVSV
                        PERL_HASH_FUNC_ONE_AT_A_TIME_HARD
                        PERL_IMPLICIT_CONTEXT PERL_MALLOC_WRAP
                        PERL_PRESERVE_IVUV PERL_SAWAMPERSAND PERL_USE_DEVEL
                        USE_ITHREADS USE_LARGE_FILES USE_LOCALE
                        USE_LOCALE_COLLATE USE_LOCALE_CTYPE
                        USE_LOCALE_NUMERIC USE_PERLIO USE_PERL_ATOF
                        USE_REENTRANT_API
  Built under freebsd
  Compiled at Oct  2 2014 18:23:46
  %ENV:
    PERL5LIB=""
    PERL5OPT=""
    PERL5_CPANPLUS_IS_RUNNING="84343"
    PERL5_CPAN_IS_RUNNING="84343"
    PERLBREW_BASHRC_VERSION="0.67"
    PERLBREW_HOME="/home/njh/.perlbrew"
    PERLBREW_MANPATH="/home/njh/perl5/perlbrew/perls/perl-5.18.3/man"
    PERLBREW_PATH="/home/njh/perl5/perlbrew/bin:/home/njh/perl5/perlbrew/perls/perl-5.18.3/bin"
    PERLBREW_PERL="perl-5.18.3"
    PERLBREW_ROOT="/home/njh/perl5/perlbrew"
    PERLBREW_VERSION="0.67"
  @INC:
    /home/njh/perl5/perlbrew/perls/perl-5.18.3/lib/site_perl/5.18.3/i386-freebsd-thread-multi
    /home/njh/perl5/perlbrew/perls/perl-5.18.3/lib/site_perl/5.18.3
    /home/njh/perl5/perlbrew/perls/perl-5.18.3/lib/5.18.3/i386-freebsd-thread-multi
    /home/njh/perl5/perlbrew/perls/perl-5.18.3/lib/5.18.3
    .